BEGIN:VCALENDAR
VERSION:2.0
PRODID:-//Stichting voor Islamitische Ontwikkeling - ECPv6.4.0//NONSGML v1.0//EN
CALSCALE:GREGORIAN
METHOD:PUBLISH
X-ORIGINAL-URL:https://svio.nl
X-WR-CALDESC:Evenementen voor Stichting voor Islamitische Ontwikkeling
REFRESH-INTERVAL;VALUE=DURATION:PT1H
X-Robots-Tag:noindex
X-PUBLISHED-TTL:PT1H
BEGIN:VTIMEZONE
TZID:Europe/Paris
BEGIN:DAYLIGHT
TZOFFSETFROM:+0100
TZOFFSETTO:+0200
TZNAME:CEST
DTSTART:20250330T010000
END:DAYLIGHT
BEGIN:STANDARD
TZOFFSETFROM:+0200
TZOFFSETTO:+0100
TZNAME:CET
DTSTART:20251026T010000
END:STANDARD
END:VTIMEZONE
BEGIN:VEVENT
DTSTART;VALUE=DATE:20251101
DTEND;VALUE=DATE:20251103
DTSTAMP:20260420T013357
CREATED:20240523T094635Z
LAST-MODIFIED:20240523T094908Z
UID:10000869-1762038000-1762124399@svio.nl
SUMMARY:MJA: Lezing Moskee Abou Bakr
DESCRIPTION:Elke eerste zondag van de maand een lezing bij Moskee Abou Bakr (Almere – Stad) na salaat al-‘Asr
URL:https://svio.nl/evenement/mja-lezing-moskee-abou-bakr/2025-11-02/
LOCATION:Abou Bakr Moskee\, Clemenceaustraat 1\, Almere\, 1314 RL\, Nederland
CATEGORIES:Broeders & Zusters
ORGANIZER;CN="Moslimjongeren Almere":MAILTO:info@moslimjongerenalmere.nl
END:VEVENT
BEGIN:VEVENT
DTSTART;TZID=Europe/Paris:20251107T180000
DTEND;TZID=Europe/Paris:20251107T193000
DTSTAMP:20260420T013357
CREATED:20240523T093606Z
LAST-MODIFIED:20240523T093950Z
UID:10000667-1762538400-1762543800@svio.nl
SUMMARY:MJA: Uitleg van de Quraan I Ust. Umair Bantvawala
DESCRIPTION:
URL:https://svio.nl/evenement/uitleg-van-de-quraan/2025-11-07/
LOCATION:Stichting voor Islamitische Ontwikkeling\, Markerkant 10\, 136H\, Almere\, Flevoland\, 1316AL\, Nederland
CATEGORIES:Broeders & Zusters
ORGANIZER;CN="Moslimjongeren Almere":MAILTO:info@moslimjongerenalmere.nl
END:VEVENT
BEGIN:VEVENT
DTSTART;TZID=Europe/Paris:20251114T180000
DTEND;TZID=Europe/Paris:20251114T193000
DTSTAMP:20260420T013357
CREATED:20240523T093606Z
LAST-MODIFIED:20240523T093950Z
UID:10000668-1763143200-1763148600@svio.nl
SUMMARY:MJA: Uitleg van de Quraan I Ust. Umair Bantvawala
DESCRIPTION:
URL:https://svio.nl/evenement/uitleg-van-de-quraan/2025-11-14/
LOCATION:Stichting voor Islamitische Ontwikkeling\, Markerkant 10\, 136H\, Almere\, Flevoland\, 1316AL\, Nederland
CATEGORIES:Broeders & Zusters
ORGANIZER;CN="Moslimjongeren Almere":MAILTO:info@moslimjongerenalmere.nl
END:VEVENT
BEGIN:VEVENT
DTSTART;VALUE=DATE:20251115
DTEND;VALUE=DATE:20251117
DTSTAMP:20260420T013357
CREATED:20240523T095308Z
LAST-MODIFIED:20240523T095423Z
UID:10000989-1763247600-1763333999@svio.nl
SUMMARY:MJA: Lezing Moskee Omar Ibn al-Khattab
DESCRIPTION:Elke derde zondag van de maand een lezing bij Moskee Omar Ibn Al Khattab (Almere-Buiten) na salaat al-‘Asr
URL:https://svio.nl/evenement/mja-lezing-moskee-omar-ibn-al-khattab/2025-11-16/
LOCATION:Moskee Omar ibn al khattab\, Bintangweg 3\, Almere\, 1336 ND
CATEGORIES:Broeders & Zusters
ORGANIZER;CN="Moslimjongeren Almere":MAILTO:info@moslimjongerenalmere.nl
END:VEVENT
BEGIN:VEVENT
DTSTART;TZID=Europe/Paris:20251121T180000
DTEND;TZID=Europe/Paris:20251121T193000
DTSTAMP:20260420T013357
CREATED:20240523T093606Z
LAST-MODIFIED:20240523T093950Z
UID:10000669-1763748000-1763753400@svio.nl
SUMMARY:MJA: Uitleg van de Quraan I Ust. Umair Bantvawala
DESCRIPTION:
URL:https://svio.nl/evenement/uitleg-van-de-quraan/2025-11-21/
LOCATION:Stichting voor Islamitische Ontwikkeling\, Markerkant 10\, 136H\, Almere\, Flevoland\, 1316AL\, Nederland
CATEGORIES:Broeders & Zusters
ORGANIZER;CN="Moslimjongeren Almere":MAILTO:info@moslimjongerenalmere.nl
END:VEVENT
BEGIN:VEVENT
DTSTART;TZID=Europe/Paris:20251128T180000
DTEND;TZID=Europe/Paris:20251128T193000
DTSTAMP:20260420T013357
CREATED:20240523T093606Z
LAST-MODIFIED:20240523T093950Z
UID:10000670-1764352800-1764358200@svio.nl
SUMMARY:MJA: Uitleg van de Quraan I Ust. Umair Bantvawala
DESCRIPTION:
URL:https://svio.nl/evenement/uitleg-van-de-quraan/2025-11-28/
LOCATION:Stichting voor Islamitische Ontwikkeling\, Markerkant 10\, 136H\, Almere\, Flevoland\, 1316AL\, Nederland
CATEGORIES:Broeders & Zusters
ORGANIZER;CN="Moslimjongeren Almere":MAILTO:info@moslimjongerenalmere.nl
END:VEVENT
END:VCALENDAR