BEGIN:VCALENDAR
VERSION:2.0
PRODID:-//Stichting voor Islamitische Ontwikkeling - ECPv6.4.0//NONSGML v1.0//EN
CALSCALE:GREGORIAN
METHOD:PUBLISH
X-ORIGINAL-URL:https://svio.nl
X-WR-CALDESC:Evenementen voor Stichting voor Islamitische Ontwikkeling
REFRESH-INTERVAL;VALUE=DURATION:PT1H
X-Robots-Tag:noindex
X-PUBLISHED-TTL:PT1H
BEGIN:VTIMEZONE
TZID:Europe/Paris
BEGIN:DAYLIGHT
TZOFFSETFROM:+0100
TZOFFSETTO:+0200
TZNAME:CEST
DTSTART:20260329T010000
END:DAYLIGHT
BEGIN:STANDARD
TZOFFSETFROM:+0200
TZOFFSETTO:+0100
TZNAME:CET
DTSTART:20261025T010000
END:STANDARD
END:VTIMEZONE
BEGIN:VEVENT
DTSTART;TZID=Europe/Paris:20260501T170000
DTEND;TZID=Europe/Paris:20260501T183000
DTSTAMP:20260419T183752
CREATED:20240523T093606Z
LAST-MODIFIED:20240523T093950Z
UID:10000692-1777654800-1777660200@svio.nl
SUMMARY:MJA: Uitleg van de Quraan I Ust. Umair Bantvawala
DESCRIPTION:
URL:https://svio.nl/evenement/uitleg-van-de-quraan/2026-05-01/
LOCATION:Stichting voor Islamitische Ontwikkeling\, Markerkant 10\, 136H\, Almere\, Flevoland\, 1316AL\, Nederland
CATEGORIES:Broeders & Zusters
ORGANIZER;CN="Moslimjongeren Almere":MAILTO:info@moslimjongerenalmere.nl
END:VEVENT
BEGIN:VEVENT
DTSTART;VALUE=DATE:20260502
DTEND;VALUE=DATE:20260504
DTSTAMP:20260419T183752
CREATED:20240523T094635Z
LAST-MODIFIED:20240523T094908Z
UID:10000875-1777759200-1777845599@svio.nl
SUMMARY:MJA: Lezing Moskee Abou Bakr
DESCRIPTION:Elke eerste zondag van de maand een lezing bij Moskee Abou Bakr (Almere – Stad) na salaat al-‘Asr
URL:https://svio.nl/evenement/mja-lezing-moskee-abou-bakr/2026-05-03/
LOCATION:Abou Bakr Moskee\, Clemenceaustraat 1\, Almere\, 1314 RL\, Nederland
CATEGORIES:Broeders & Zusters
ORGANIZER;CN="Moslimjongeren Almere":MAILTO:info@moslimjongerenalmere.nl
END:VEVENT
BEGIN:VEVENT
DTSTART;TZID=Europe/Paris:20260508T170000
DTEND;TZID=Europe/Paris:20260508T183000
DTSTAMP:20260419T183752
CREATED:20240523T093606Z
LAST-MODIFIED:20240523T093950Z
UID:10000693-1778259600-1778265000@svio.nl
SUMMARY:MJA: Uitleg van de Quraan I Ust. Umair Bantvawala
DESCRIPTION:
URL:https://svio.nl/evenement/uitleg-van-de-quraan/2026-05-08/
LOCATION:Stichting voor Islamitische Ontwikkeling\, Markerkant 10\, 136H\, Almere\, Flevoland\, 1316AL\, Nederland
CATEGORIES:Broeders & Zusters
ORGANIZER;CN="Moslimjongeren Almere":MAILTO:info@moslimjongerenalmere.nl
END:VEVENT
BEGIN:VEVENT
DTSTART;TZID=Europe/Paris:20260515T170000
DTEND;TZID=Europe/Paris:20260515T183000
DTSTAMP:20260419T183752
CREATED:20240523T093606Z
LAST-MODIFIED:20240523T093950Z
UID:10000694-1778864400-1778869800@svio.nl
SUMMARY:MJA: Uitleg van de Quraan I Ust. Umair Bantvawala
DESCRIPTION:
URL:https://svio.nl/evenement/uitleg-van-de-quraan/2026-05-15/
LOCATION:Stichting voor Islamitische Ontwikkeling\, Markerkant 10\, 136H\, Almere\, Flevoland\, 1316AL\, Nederland
CATEGORIES:Broeders & Zusters
ORGANIZER;CN="Moslimjongeren Almere":MAILTO:info@moslimjongerenalmere.nl
END:VEVENT
BEGIN:VEVENT
DTSTART;VALUE=DATE:20260516
DTEND;VALUE=DATE:20260518
DTSTAMP:20260419T183752
CREATED:20240523T095308Z
LAST-MODIFIED:20240523T095423Z
UID:10000995-1778968800-1779055199@svio.nl
SUMMARY:MJA: Lezing Moskee Omar Ibn al-Khattab
DESCRIPTION:Elke derde zondag van de maand een lezing bij Moskee Omar Ibn Al Khattab (Almere-Buiten) na salaat al-‘Asr
URL:https://svio.nl/evenement/mja-lezing-moskee-omar-ibn-al-khattab/2026-05-17/
LOCATION:Moskee Omar ibn al khattab\, Bintangweg 3\, Almere\, 1336 ND
CATEGORIES:Broeders & Zusters
ORGANIZER;CN="Moslimjongeren Almere":MAILTO:info@moslimjongerenalmere.nl
END:VEVENT
BEGIN:VEVENT
DTSTART;TZID=Europe/Paris:20260522T170000
DTEND;TZID=Europe/Paris:20260522T183000
DTSTAMP:20260419T183752
CREATED:20240523T093606Z
LAST-MODIFIED:20240523T093950Z
UID:10000695-1779469200-1779474600@svio.nl
SUMMARY:MJA: Uitleg van de Quraan I Ust. Umair Bantvawala
DESCRIPTION:
URL:https://svio.nl/evenement/uitleg-van-de-quraan/2026-05-22/
LOCATION:Stichting voor Islamitische Ontwikkeling\, Markerkant 10\, 136H\, Almere\, Flevoland\, 1316AL\, Nederland
CATEGORIES:Broeders & Zusters
ORGANIZER;CN="Moslimjongeren Almere":MAILTO:info@moslimjongerenalmere.nl
END:VEVENT
BEGIN:VEVENT
DTSTART;TZID=Europe/Paris:20260529T170000
DTEND;TZID=Europe/Paris:20260529T183000
DTSTAMP:20260419T183752
CREATED:20240523T093606Z
LAST-MODIFIED:20240523T093950Z
UID:10000696-1780074000-1780079400@svio.nl
SUMMARY:MJA: Uitleg van de Quraan I Ust. Umair Bantvawala
DESCRIPTION:
URL:https://svio.nl/evenement/uitleg-van-de-quraan/2026-05-29/
LOCATION:Stichting voor Islamitische Ontwikkeling\, Markerkant 10\, 136H\, Almere\, Flevoland\, 1316AL\, Nederland
CATEGORIES:Broeders & Zusters
ORGANIZER;CN="Moslimjongeren Almere":MAILTO:info@moslimjongerenalmere.nl
END:VEVENT
END:VCALENDAR