BEGIN:VCALENDAR
VERSION:2.0
PRODID:-//Stichting voor Islamitische Ontwikkeling - ECPv6.4.0//NONSGML v1.0//EN
CALSCALE:GREGORIAN
METHOD:PUBLISH
X-ORIGINAL-URL:https://svio.nl
X-WR-CALDESC:Evenementen voor Stichting voor Islamitische Ontwikkeling
REFRESH-INTERVAL;VALUE=DURATION:PT1H
X-Robots-Tag:noindex
X-PUBLISHED-TTL:PT1H
BEGIN:VTIMEZONE
TZID:Europe/Paris
BEGIN:DAYLIGHT
TZOFFSETFROM:+0100
TZOFFSETTO:+0200
TZNAME:CEST
DTSTART:20270328T010000
END:DAYLIGHT
BEGIN:STANDARD
TZOFFSETFROM:+0200
TZOFFSETTO:+0100
TZNAME:CET
DTSTART:20271031T010000
END:STANDARD
BEGIN:DAYLIGHT
TZOFFSETFROM:+0100
TZOFFSETTO:+0200
TZNAME:CEST
DTSTART:20280326T010000
END:DAYLIGHT
BEGIN:STANDARD
TZOFFSETFROM:+0200
TZOFFSETTO:+0100
TZNAME:CET
DTSTART:20281029T010000
END:STANDARD
END:VTIMEZONE
BEGIN:VEVENT
DTSTART;VALUE=DATE:20271218
DTEND;VALUE=DATE:20271220
DTSTAMP:20260420T222545
CREATED:20240523T095308Z
LAST-MODIFIED:20240523T095423Z
UID:10001014-1829170800-1829257199@svio.nl
SUMMARY:MJA: Lezing Moskee Omar Ibn al-Khattab
DESCRIPTION:Elke derde zondag van de maand een lezing bij Moskee Omar Ibn Al Khattab (Almere-Buiten) na salaat al-‘Asr
URL:https://svio.nl/evenement/mja-lezing-moskee-omar-ibn-al-khattab/2027-12-19/
LOCATION:Moskee Omar ibn al khattab\, Bintangweg 3\, Almere\, 1336 ND
CATEGORIES:Broeders & Zusters
ORGANIZER;CN="Moslimjongeren Almere":MAILTO:info@moslimjongerenalmere.nl
END:VEVENT
BEGIN:VEVENT
DTSTART;TZID=Europe/Paris:20271224T180000
DTEND;TZID=Europe/Paris:20271224T193000
DTSTAMP:20260420T222545
CREATED:20240523T093606Z
LAST-MODIFIED:20240523T093950Z
UID:10000778-1829671200-1829676600@svio.nl
SUMMARY:MJA: Uitleg van de Quraan I Ust. Umair Bantvawala
DESCRIPTION:
URL:https://svio.nl/evenement/uitleg-van-de-quraan/2027-12-24/
LOCATION:Stichting voor Islamitische Ontwikkeling\, Markerkant 10\, 136H\, Almere\, Flevoland\, 1316AL\, Nederland
CATEGORIES:Broeders & Zusters
ORGANIZER;CN="Moslimjongeren Almere":MAILTO:info@moslimjongerenalmere.nl
END:VEVENT
BEGIN:VEVENT
DTSTART;TZID=Europe/Paris:20271231T180000
DTEND;TZID=Europe/Paris:20271231T193000
DTSTAMP:20260420T222545
CREATED:20240523T093606Z
LAST-MODIFIED:20240523T093950Z
UID:10000779-1830276000-1830281400@svio.nl
SUMMARY:MJA: Uitleg van de Quraan I Ust. Umair Bantvawala
DESCRIPTION:
URL:https://svio.nl/evenement/uitleg-van-de-quraan/2027-12-31/
LOCATION:Stichting voor Islamitische Ontwikkeling\, Markerkant 10\, 136H\, Almere\, Flevoland\, 1316AL\, Nederland
CATEGORIES:Broeders & Zusters
ORGANIZER;CN="Moslimjongeren Almere":MAILTO:info@moslimjongerenalmere.nl
END:VEVENT
BEGIN:VEVENT
DTSTART;VALUE=DATE:20280101
DTEND;VALUE=DATE:20280103
DTSTAMP:20260420T222545
CREATED:20240523T094635Z
LAST-MODIFIED:20240523T094908Z
UID:10000895-1830380400-1830466799@svio.nl
SUMMARY:MJA: Lezing Moskee Abou Bakr
DESCRIPTION:Elke eerste zondag van de maand een lezing bij Moskee Abou Bakr (Almere – Stad) na salaat al-‘Asr
URL:https://svio.nl/evenement/mja-lezing-moskee-abou-bakr/2028-01-02/
LOCATION:Abou Bakr Moskee\, Clemenceaustraat 1\, Almere\, 1314 RL\, Nederland
CATEGORIES:Broeders & Zusters
ORGANIZER;CN="Moslimjongeren Almere":MAILTO:info@moslimjongerenalmere.nl
END:VEVENT
BEGIN:VEVENT
DTSTART;TZID=Europe/Paris:20280107T180000
DTEND;TZID=Europe/Paris:20280107T193000
DTSTAMP:20260420T222545
CREATED:20240523T093606Z
LAST-MODIFIED:20240523T093950Z
UID:10000780-1830880800-1830886200@svio.nl
SUMMARY:MJA: Uitleg van de Quraan I Ust. Umair Bantvawala
DESCRIPTION:
URL:https://svio.nl/evenement/uitleg-van-de-quraan/2028-01-07/
LOCATION:Stichting voor Islamitische Ontwikkeling\, Markerkant 10\, 136H\, Almere\, Flevoland\, 1316AL\, Nederland
CATEGORIES:Broeders & Zusters
ORGANIZER;CN="Moslimjongeren Almere":MAILTO:info@moslimjongerenalmere.nl
END:VEVENT
BEGIN:VEVENT
DTSTART;TZID=Europe/Paris:20280114T180000
DTEND;TZID=Europe/Paris:20280114T193000
DTSTAMP:20260420T222545
CREATED:20240523T093606Z
LAST-MODIFIED:20240523T093950Z
UID:10000781-1831485600-1831491000@svio.nl
SUMMARY:MJA: Uitleg van de Quraan I Ust. Umair Bantvawala
DESCRIPTION:
URL:https://svio.nl/evenement/uitleg-van-de-quraan/2028-01-14/
LOCATION:Stichting voor Islamitische Ontwikkeling\, Markerkant 10\, 136H\, Almere\, Flevoland\, 1316AL\, Nederland
CATEGORIES:Broeders & Zusters
ORGANIZER;CN="Moslimjongeren Almere":MAILTO:info@moslimjongerenalmere.nl
END:VEVENT
BEGIN:VEVENT
DTSTART;VALUE=DATE:20280115
DTEND;VALUE=DATE:20280117
DTSTAMP:20260420T222545
CREATED:20240523T095308Z
LAST-MODIFIED:20240523T095423Z
UID:10001015-1831590000-1831676399@svio.nl
SUMMARY:MJA: Lezing Moskee Omar Ibn al-Khattab
DESCRIPTION:Elke derde zondag van de maand een lezing bij Moskee Omar Ibn Al Khattab (Almere-Buiten) na salaat al-‘Asr
URL:https://svio.nl/evenement/mja-lezing-moskee-omar-ibn-al-khattab/2028-01-16/
LOCATION:Moskee Omar ibn al khattab\, Bintangweg 3\, Almere\, 1336 ND
CATEGORIES:Broeders & Zusters
ORGANIZER;CN="Moslimjongeren Almere":MAILTO:info@moslimjongerenalmere.nl
END:VEVENT
BEGIN:VEVENT
DTSTART;TZID=Europe/Paris:20280121T180000
DTEND;TZID=Europe/Paris:20280121T193000
DTSTAMP:20260420T222545
CREATED:20240523T093606Z
LAST-MODIFIED:20240523T093950Z
UID:10000782-1832090400-1832095800@svio.nl
SUMMARY:MJA: Uitleg van de Quraan I Ust. Umair Bantvawala
DESCRIPTION:
URL:https://svio.nl/evenement/uitleg-van-de-quraan/2028-01-21/
LOCATION:Stichting voor Islamitische Ontwikkeling\, Markerkant 10\, 136H\, Almere\, Flevoland\, 1316AL\, Nederland
CATEGORIES:Broeders & Zusters
ORGANIZER;CN="Moslimjongeren Almere":MAILTO:info@moslimjongerenalmere.nl
END:VEVENT
BEGIN:VEVENT
DTSTART;TZID=Europe/Paris:20280128T180000
DTEND;TZID=Europe/Paris:20280128T193000
DTSTAMP:20260420T222545
CREATED:20240523T093606Z
LAST-MODIFIED:20240523T093950Z
UID:10000783-1832695200-1832700600@svio.nl
SUMMARY:MJA: Uitleg van de Quraan I Ust. Umair Bantvawala
DESCRIPTION:
URL:https://svio.nl/evenement/uitleg-van-de-quraan/2028-01-28/
LOCATION:Stichting voor Islamitische Ontwikkeling\, Markerkant 10\, 136H\, Almere\, Flevoland\, 1316AL\, Nederland
CATEGORIES:Broeders & Zusters
ORGANIZER;CN="Moslimjongeren Almere":MAILTO:info@moslimjongerenalmere.nl
END:VEVENT
BEGIN:VEVENT
DTSTART;TZID=Europe/Paris:20280204T180000
DTEND;TZID=Europe/Paris:20280204T193000
DTSTAMP:20260420T222545
CREATED:20240523T093606Z
LAST-MODIFIED:20240523T093950Z
UID:10000784-1833300000-1833305400@svio.nl
SUMMARY:MJA: Uitleg van de Quraan I Ust. Umair Bantvawala
DESCRIPTION:
URL:https://svio.nl/evenement/uitleg-van-de-quraan/2028-02-04/
LOCATION:Stichting voor Islamitische Ontwikkeling\, Markerkant 10\, 136H\, Almere\, Flevoland\, 1316AL\, Nederland
CATEGORIES:Broeders & Zusters
ORGANIZER;CN="Moslimjongeren Almere":MAILTO:info@moslimjongerenalmere.nl
END:VEVENT
BEGIN:VEVENT
DTSTART;VALUE=DATE:20280205
DTEND;VALUE=DATE:20280207
DTSTAMP:20260420T222545
CREATED:20240523T094635Z
LAST-MODIFIED:20240523T094908Z
UID:10000896-1833404400-1833490799@svio.nl
SUMMARY:MJA: Lezing Moskee Abou Bakr
DESCRIPTION:Elke eerste zondag van de maand een lezing bij Moskee Abou Bakr (Almere – Stad) na salaat al-‘Asr
URL:https://svio.nl/evenement/mja-lezing-moskee-abou-bakr/2028-02-06/
LOCATION:Abou Bakr Moskee\, Clemenceaustraat 1\, Almere\, 1314 RL\, Nederland
CATEGORIES:Broeders & Zusters
ORGANIZER;CN="Moslimjongeren Almere":MAILTO:info@moslimjongerenalmere.nl
END:VEVENT
BEGIN:VEVENT
DTSTART;TZID=Europe/Paris:20280211T180000
DTEND;TZID=Europe/Paris:20280211T193000
DTSTAMP:20260420T222545
CREATED:20240523T093606Z
LAST-MODIFIED:20240523T093950Z
UID:10000785-1833904800-1833910200@svio.nl
SUMMARY:MJA: Uitleg van de Quraan I Ust. Umair Bantvawala
DESCRIPTION:
URL:https://svio.nl/evenement/uitleg-van-de-quraan/2028-02-11/
LOCATION:Stichting voor Islamitische Ontwikkeling\, Markerkant 10\, 136H\, Almere\, Flevoland\, 1316AL\, Nederland
CATEGORIES:Broeders & Zusters
ORGANIZER;CN="Moslimjongeren Almere":MAILTO:info@moslimjongerenalmere.nl
END:VEVENT
BEGIN:VEVENT
DTSTART;TZID=Europe/Paris:20280218T180000
DTEND;TZID=Europe/Paris:20280218T193000
DTSTAMP:20260420T222545
CREATED:20240523T093606Z
LAST-MODIFIED:20240523T093950Z
UID:10000786-1834509600-1834515000@svio.nl
SUMMARY:MJA: Uitleg van de Quraan I Ust. Umair Bantvawala
DESCRIPTION:
URL:https://svio.nl/evenement/uitleg-van-de-quraan/2028-02-18/
LOCATION:Stichting voor Islamitische Ontwikkeling\, Markerkant 10\, 136H\, Almere\, Flevoland\, 1316AL\, Nederland
CATEGORIES:Broeders & Zusters
ORGANIZER;CN="Moslimjongeren Almere":MAILTO:info@moslimjongerenalmere.nl
END:VEVENT
BEGIN:VEVENT
DTSTART;VALUE=DATE:20280219
DTEND;VALUE=DATE:20280221
DTSTAMP:20260420T222545
CREATED:20240523T095308Z
LAST-MODIFIED:20240523T095423Z
UID:10001016-1834614000-1834700399@svio.nl
SUMMARY:MJA: Lezing Moskee Omar Ibn al-Khattab
DESCRIPTION:Elke derde zondag van de maand een lezing bij Moskee Omar Ibn Al Khattab (Almere-Buiten) na salaat al-‘Asr
URL:https://svio.nl/evenement/mja-lezing-moskee-omar-ibn-al-khattab/2028-02-20/
LOCATION:Moskee Omar ibn al khattab\, Bintangweg 3\, Almere\, 1336 ND
CATEGORIES:Broeders & Zusters
ORGANIZER;CN="Moslimjongeren Almere":MAILTO:info@moslimjongerenalmere.nl
END:VEVENT
BEGIN:VEVENT
DTSTART;TZID=Europe/Paris:20280225T180000
DTEND;TZID=Europe/Paris:20280225T193000
DTSTAMP:20260420T222545
CREATED:20240523T093606Z
LAST-MODIFIED:20240523T093950Z
UID:10000787-1835114400-1835119800@svio.nl
SUMMARY:MJA: Uitleg van de Quraan I Ust. Umair Bantvawala
DESCRIPTION:
URL:https://svio.nl/evenement/uitleg-van-de-quraan/2028-02-25/
LOCATION:Stichting voor Islamitische Ontwikkeling\, Markerkant 10\, 136H\, Almere\, Flevoland\, 1316AL\, Nederland
CATEGORIES:Broeders & Zusters
ORGANIZER;CN="Moslimjongeren Almere":MAILTO:info@moslimjongerenalmere.nl
END:VEVENT
BEGIN:VEVENT
DTSTART;TZID=Europe/Paris:20280303T180000
DTEND;TZID=Europe/Paris:20280303T193000
DTSTAMP:20260420T222545
CREATED:20240523T093606Z
LAST-MODIFIED:20240523T093950Z
UID:10000788-1835719200-1835724600@svio.nl
SUMMARY:MJA: Uitleg van de Quraan I Ust. Umair Bantvawala
DESCRIPTION:
URL:https://svio.nl/evenement/uitleg-van-de-quraan/2028-03-03/
LOCATION:Stichting voor Islamitische Ontwikkeling\, Markerkant 10\, 136H\, Almere\, Flevoland\, 1316AL\, Nederland
CATEGORIES:Broeders & Zusters
ORGANIZER;CN="Moslimjongeren Almere":MAILTO:info@moslimjongerenalmere.nl
END:VEVENT
BEGIN:VEVENT
DTSTART;VALUE=DATE:20280304
DTEND;VALUE=DATE:20280306
DTSTAMP:20260420T222545
CREATED:20240523T094635Z
LAST-MODIFIED:20240523T094908Z
UID:10000897-1835823600-1835909999@svio.nl
SUMMARY:MJA: Lezing Moskee Abou Bakr
DESCRIPTION:Elke eerste zondag van de maand een lezing bij Moskee Abou Bakr (Almere – Stad) na salaat al-‘Asr
URL:https://svio.nl/evenement/mja-lezing-moskee-abou-bakr/2028-03-05/
LOCATION:Abou Bakr Moskee\, Clemenceaustraat 1\, Almere\, 1314 RL\, Nederland
CATEGORIES:Broeders & Zusters
ORGANIZER;CN="Moslimjongeren Almere":MAILTO:info@moslimjongerenalmere.nl
END:VEVENT
BEGIN:VEVENT
DTSTART;TZID=Europe/Paris:20280310T180000
DTEND;TZID=Europe/Paris:20280310T193000
DTSTAMP:20260420T222545
CREATED:20240523T093606Z
LAST-MODIFIED:20240523T093950Z
UID:10000789-1836324000-1836329400@svio.nl
SUMMARY:MJA: Uitleg van de Quraan I Ust. Umair Bantvawala
DESCRIPTION:
URL:https://svio.nl/evenement/uitleg-van-de-quraan/2028-03-10/
LOCATION:Stichting voor Islamitische Ontwikkeling\, Markerkant 10\, 136H\, Almere\, Flevoland\, 1316AL\, Nederland
CATEGORIES:Broeders & Zusters
ORGANIZER;CN="Moslimjongeren Almere":MAILTO:info@moslimjongerenalmere.nl
END:VEVENT
BEGIN:VEVENT
DTSTART;TZID=Europe/Paris:20280317T180000
DTEND;TZID=Europe/Paris:20280317T193000
DTSTAMP:20260420T222545
CREATED:20240523T093606Z
LAST-MODIFIED:20240523T093950Z
UID:10000790-1836928800-1836934200@svio.nl
SUMMARY:MJA: Uitleg van de Quraan I Ust. Umair Bantvawala
DESCRIPTION:
URL:https://svio.nl/evenement/uitleg-van-de-quraan/2028-03-17/
LOCATION:Stichting voor Islamitische Ontwikkeling\, Markerkant 10\, 136H\, Almere\, Flevoland\, 1316AL\, Nederland
CATEGORIES:Broeders & Zusters
ORGANIZER;CN="Moslimjongeren Almere":MAILTO:info@moslimjongerenalmere.nl
END:VEVENT
BEGIN:VEVENT
DTSTART;VALUE=DATE:20280318
DTEND;VALUE=DATE:20280320
DTSTAMP:20260420T222545
CREATED:20240523T095308Z
LAST-MODIFIED:20240523T095423Z
UID:10001017-1837033200-1837119599@svio.nl
SUMMARY:MJA: Lezing Moskee Omar Ibn al-Khattab
DESCRIPTION:Elke derde zondag van de maand een lezing bij Moskee Omar Ibn Al Khattab (Almere-Buiten) na salaat al-‘Asr
URL:https://svio.nl/evenement/mja-lezing-moskee-omar-ibn-al-khattab/2028-03-19/
LOCATION:Moskee Omar ibn al khattab\, Bintangweg 3\, Almere\, 1336 ND
CATEGORIES:Broeders & Zusters
ORGANIZER;CN="Moslimjongeren Almere":MAILTO:info@moslimjongerenalmere.nl
END:VEVENT
BEGIN:VEVENT
DTSTART;TZID=Europe/Paris:20280324T180000
DTEND;TZID=Europe/Paris:20280324T193000
DTSTAMP:20260420T222545
CREATED:20240523T093606Z
LAST-MODIFIED:20240523T093950Z
UID:10000791-1837533600-1837539000@svio.nl
SUMMARY:MJA: Uitleg van de Quraan I Ust. Umair Bantvawala
DESCRIPTION:
URL:https://svio.nl/evenement/uitleg-van-de-quraan/2028-03-24/
LOCATION:Stichting voor Islamitische Ontwikkeling\, Markerkant 10\, 136H\, Almere\, Flevoland\, 1316AL\, Nederland
CATEGORIES:Broeders & Zusters
ORGANIZER;CN="Moslimjongeren Almere":MAILTO:info@moslimjongerenalmere.nl
END:VEVENT
BEGIN:VEVENT
DTSTART;TZID=Europe/Paris:20280331T170000
DTEND;TZID=Europe/Paris:20280331T183000
DTSTAMP:20260420T222545
CREATED:20240523T093606Z
LAST-MODIFIED:20240523T093950Z
UID:10000792-1838134800-1838140200@svio.nl
SUMMARY:MJA: Uitleg van de Quraan I Ust. Umair Bantvawala
DESCRIPTION:
URL:https://svio.nl/evenement/uitleg-van-de-quraan/2028-03-31/
LOCATION:Stichting voor Islamitische Ontwikkeling\, Markerkant 10\, 136H\, Almere\, Flevoland\, 1316AL\, Nederland
CATEGORIES:Broeders & Zusters
ORGANIZER;CN="Moslimjongeren Almere":MAILTO:info@moslimjongerenalmere.nl
END:VEVENT
BEGIN:VEVENT
DTSTART;VALUE=DATE:20280401
DTEND;VALUE=DATE:20280403
DTSTAMP:20260420T222545
CREATED:20240523T094635Z
LAST-MODIFIED:20240523T094908Z
UID:10000898-1838239200-1838325599@svio.nl
SUMMARY:MJA: Lezing Moskee Abou Bakr
DESCRIPTION:Elke eerste zondag van de maand een lezing bij Moskee Abou Bakr (Almere – Stad) na salaat al-‘Asr
URL:https://svio.nl/evenement/mja-lezing-moskee-abou-bakr/2028-04-02/
LOCATION:Abou Bakr Moskee\, Clemenceaustraat 1\, Almere\, 1314 RL\, Nederland
CATEGORIES:Broeders & Zusters
ORGANIZER;CN="Moslimjongeren Almere":MAILTO:info@moslimjongerenalmere.nl
END:VEVENT
BEGIN:VEVENT
DTSTART;TZID=Europe/Paris:20280407T170000
DTEND;TZID=Europe/Paris:20280407T183000
DTSTAMP:20260420T222545
CREATED:20240523T093606Z
LAST-MODIFIED:20240523T093950Z
UID:10000793-1838739600-1838745000@svio.nl
SUMMARY:MJA: Uitleg van de Quraan I Ust. Umair Bantvawala
DESCRIPTION:
URL:https://svio.nl/evenement/uitleg-van-de-quraan/2028-04-07/
LOCATION:Stichting voor Islamitische Ontwikkeling\, Markerkant 10\, 136H\, Almere\, Flevoland\, 1316AL\, Nederland
CATEGORIES:Broeders & Zusters
ORGANIZER;CN="Moslimjongeren Almere":MAILTO:info@moslimjongerenalmere.nl
END:VEVENT
BEGIN:VEVENT
DTSTART;TZID=Europe/Paris:20280414T170000
DTEND;TZID=Europe/Paris:20280414T183000
DTSTAMP:20260420T222545
CREATED:20240523T093606Z
LAST-MODIFIED:20240523T093950Z
UID:10000794-1839344400-1839349800@svio.nl
SUMMARY:MJA: Uitleg van de Quraan I Ust. Umair Bantvawala
DESCRIPTION:
URL:https://svio.nl/evenement/uitleg-van-de-quraan/2028-04-14/
LOCATION:Stichting voor Islamitische Ontwikkeling\, Markerkant 10\, 136H\, Almere\, Flevoland\, 1316AL\, Nederland
CATEGORIES:Broeders & Zusters
ORGANIZER;CN="Moslimjongeren Almere":MAILTO:info@moslimjongerenalmere.nl
END:VEVENT
BEGIN:VEVENT
DTSTART;VALUE=DATE:20280415
DTEND;VALUE=DATE:20280417
DTSTAMP:20260420T222545
CREATED:20240523T095308Z
LAST-MODIFIED:20240523T095423Z
UID:10001018-1839448800-1839535199@svio.nl
SUMMARY:MJA: Lezing Moskee Omar Ibn al-Khattab
DESCRIPTION:Elke derde zondag van de maand een lezing bij Moskee Omar Ibn Al Khattab (Almere-Buiten) na salaat al-‘Asr
URL:https://svio.nl/evenement/mja-lezing-moskee-omar-ibn-al-khattab/2028-04-16/
LOCATION:Moskee Omar ibn al khattab\, Bintangweg 3\, Almere\, 1336 ND
CATEGORIES:Broeders & Zusters
ORGANIZER;CN="Moslimjongeren Almere":MAILTO:info@moslimjongerenalmere.nl
END:VEVENT
BEGIN:VEVENT
DTSTART;TZID=Europe/Paris:20280421T170000
DTEND;TZID=Europe/Paris:20280421T183000
DTSTAMP:20260420T222545
CREATED:20240523T093606Z
LAST-MODIFIED:20240523T093950Z
UID:10000795-1839949200-1839954600@svio.nl
SUMMARY:MJA: Uitleg van de Quraan I Ust. Umair Bantvawala
DESCRIPTION:
URL:https://svio.nl/evenement/uitleg-van-de-quraan/2028-04-21/
LOCATION:Stichting voor Islamitische Ontwikkeling\, Markerkant 10\, 136H\, Almere\, Flevoland\, 1316AL\, Nederland
CATEGORIES:Broeders & Zusters
ORGANIZER;CN="Moslimjongeren Almere":MAILTO:info@moslimjongerenalmere.nl
END:VEVENT
BEGIN:VEVENT
DTSTART;TZID=Europe/Paris:20280428T170000
DTEND;TZID=Europe/Paris:20280428T183000
DTSTAMP:20260420T222545
CREATED:20240523T093606Z
LAST-MODIFIED:20240523T093950Z
UID:10000796-1840554000-1840559400@svio.nl
SUMMARY:MJA: Uitleg van de Quraan I Ust. Umair Bantvawala
DESCRIPTION:
URL:https://svio.nl/evenement/uitleg-van-de-quraan/2028-04-28/
LOCATION:Stichting voor Islamitische Ontwikkeling\, Markerkant 10\, 136H\, Almere\, Flevoland\, 1316AL\, Nederland
CATEGORIES:Broeders & Zusters
ORGANIZER;CN="Moslimjongeren Almere":MAILTO:info@moslimjongerenalmere.nl
END:VEVENT
BEGIN:VEVENT
DTSTART;TZID=Europe/Paris:20280505T170000
DTEND;TZID=Europe/Paris:20280505T183000
DTSTAMP:20260420T222545
CREATED:20240523T093606Z
LAST-MODIFIED:20240523T093950Z
UID:10000797-1841158800-1841164200@svio.nl
SUMMARY:MJA: Uitleg van de Quraan I Ust. Umair Bantvawala
DESCRIPTION:
URL:https://svio.nl/evenement/uitleg-van-de-quraan/2028-05-05/
LOCATION:Stichting voor Islamitische Ontwikkeling\, Markerkant 10\, 136H\, Almere\, Flevoland\, 1316AL\, Nederland
CATEGORIES:Broeders & Zusters
ORGANIZER;CN="Moslimjongeren Almere":MAILTO:info@moslimjongerenalmere.nl
END:VEVENT
BEGIN:VEVENT
DTSTART;VALUE=DATE:20280506
DTEND;VALUE=DATE:20280508
DTSTAMP:20260420T222545
CREATED:20240523T094635Z
LAST-MODIFIED:20240523T094908Z
UID:10000899-1841263200-1841349599@svio.nl
SUMMARY:MJA: Lezing Moskee Abou Bakr
DESCRIPTION:Elke eerste zondag van de maand een lezing bij Moskee Abou Bakr (Almere – Stad) na salaat al-‘Asr
URL:https://svio.nl/evenement/mja-lezing-moskee-abou-bakr/2028-05-07/
LOCATION:Abou Bakr Moskee\, Clemenceaustraat 1\, Almere\, 1314 RL\, Nederland
CATEGORIES:Broeders & Zusters
ORGANIZER;CN="Moslimjongeren Almere":MAILTO:info@moslimjongerenalmere.nl
END:VEVENT
END:VCALENDAR