BEGIN:VCALENDAR
VERSION:2.0
PRODID:-//Stichting voor Islamitische Ontwikkeling - ECPv6.4.0//NONSGML v1.0//EN
CALSCALE:GREGORIAN
METHOD:PUBLISH
X-ORIGINAL-URL:https://svio.nl
X-WR-CALDESC:Evenementen voor Stichting voor Islamitische Ontwikkeling
REFRESH-INTERVAL;VALUE=DURATION:PT1H
X-Robots-Tag:noindex
X-PUBLISHED-TTL:PT1H
BEGIN:VTIMEZONE
TZID:Europe/Paris
BEGIN:DAYLIGHT
TZOFFSETFROM:+0100
TZOFFSETTO:+0200
TZNAME:CEST
DTSTART:20280326T010000
END:DAYLIGHT
BEGIN:STANDARD
TZOFFSETFROM:+0200
TZOFFSETTO:+0100
TZNAME:CET
DTSTART:20281029T010000
END:STANDARD
END:VTIMEZONE
BEGIN:VEVENT
DTSTART;TZID=Europe/Paris:20280428T170000
DTEND;TZID=Europe/Paris:20280428T183000
DTSTAMP:20260421T055451
CREATED:20240523T093606Z
LAST-MODIFIED:20240523T093950Z
UID:10000796-1840554000-1840559400@svio.nl
SUMMARY:MJA: Uitleg van de Quraan I Ust. Umair Bantvawala
DESCRIPTION:
URL:https://svio.nl/evenement/uitleg-van-de-quraan/2028-04-28/
LOCATION:Stichting voor Islamitische Ontwikkeling\, Markerkant 10\, 136H\, Almere\, Flevoland\, 1316AL\, Nederland
CATEGORIES:Broeders & Zusters
ORGANIZER;CN="Moslimjongeren Almere":MAILTO:info@moslimjongerenalmere.nl
END:VEVENT
BEGIN:VEVENT
DTSTART;TZID=Europe/Paris:20280505T170000
DTEND;TZID=Europe/Paris:20280505T183000
DTSTAMP:20260421T055451
CREATED:20240523T093606Z
LAST-MODIFIED:20240523T093950Z
UID:10000797-1841158800-1841164200@svio.nl
SUMMARY:MJA: Uitleg van de Quraan I Ust. Umair Bantvawala
DESCRIPTION:
URL:https://svio.nl/evenement/uitleg-van-de-quraan/2028-05-05/
LOCATION:Stichting voor Islamitische Ontwikkeling\, Markerkant 10\, 136H\, Almere\, Flevoland\, 1316AL\, Nederland
CATEGORIES:Broeders & Zusters
ORGANIZER;CN="Moslimjongeren Almere":MAILTO:info@moslimjongerenalmere.nl
END:VEVENT
BEGIN:VEVENT
DTSTART;VALUE=DATE:20280506
DTEND;VALUE=DATE:20280508
DTSTAMP:20260421T055451
CREATED:20240523T094635Z
LAST-MODIFIED:20240523T094908Z
UID:10000899-1841263200-1841349599@svio.nl
SUMMARY:MJA: Lezing Moskee Abou Bakr
DESCRIPTION:Elke eerste zondag van de maand een lezing bij Moskee Abou Bakr (Almere – Stad) na salaat al-‘Asr
URL:https://svio.nl/evenement/mja-lezing-moskee-abou-bakr/2028-05-07/
LOCATION:Abou Bakr Moskee\, Clemenceaustraat 1\, Almere\, 1314 RL\, Nederland
CATEGORIES:Broeders & Zusters
ORGANIZER;CN="Moslimjongeren Almere":MAILTO:info@moslimjongerenalmere.nl
END:VEVENT
BEGIN:VEVENT
DTSTART;TZID=Europe/Paris:20280512T170000
DTEND;TZID=Europe/Paris:20280512T183000
DTSTAMP:20260421T055451
CREATED:20240523T093606Z
LAST-MODIFIED:20240523T093950Z
UID:10000798-1841763600-1841769000@svio.nl
SUMMARY:MJA: Uitleg van de Quraan I Ust. Umair Bantvawala
DESCRIPTION:
URL:https://svio.nl/evenement/uitleg-van-de-quraan/2028-05-12/
LOCATION:Stichting voor Islamitische Ontwikkeling\, Markerkant 10\, 136H\, Almere\, Flevoland\, 1316AL\, Nederland
CATEGORIES:Broeders & Zusters
ORGANIZER;CN="Moslimjongeren Almere":MAILTO:info@moslimjongerenalmere.nl
END:VEVENT
BEGIN:VEVENT
DTSTART;TZID=Europe/Paris:20280519T170000
DTEND;TZID=Europe/Paris:20280519T183000
DTSTAMP:20260421T055451
CREATED:20240523T093606Z
LAST-MODIFIED:20240523T093950Z
UID:10000799-1842368400-1842373800@svio.nl
SUMMARY:MJA: Uitleg van de Quraan I Ust. Umair Bantvawala
DESCRIPTION:
URL:https://svio.nl/evenement/uitleg-van-de-quraan/2028-05-19/
LOCATION:Stichting voor Islamitische Ontwikkeling\, Markerkant 10\, 136H\, Almere\, Flevoland\, 1316AL\, Nederland
CATEGORIES:Broeders & Zusters
ORGANIZER;CN="Moslimjongeren Almere":MAILTO:info@moslimjongerenalmere.nl
END:VEVENT
BEGIN:VEVENT
DTSTART;VALUE=DATE:20280520
DTEND;VALUE=DATE:20280522
DTSTAMP:20260421T055451
CREATED:20240523T095308Z
LAST-MODIFIED:20240523T095423Z
UID:10001019-1842472800-1842559199@svio.nl
SUMMARY:MJA: Lezing Moskee Omar Ibn al-Khattab
DESCRIPTION:Elke derde zondag van de maand een lezing bij Moskee Omar Ibn Al Khattab (Almere-Buiten) na salaat al-‘Asr
URL:https://svio.nl/evenement/mja-lezing-moskee-omar-ibn-al-khattab/2028-05-21/
LOCATION:Moskee Omar ibn al khattab\, Bintangweg 3\, Almere\, 1336 ND
CATEGORIES:Broeders & Zusters
ORGANIZER;CN="Moslimjongeren Almere":MAILTO:info@moslimjongerenalmere.nl
END:VEVENT
BEGIN:VEVENT
DTSTART;TZID=Europe/Paris:20280526T170000
DTEND;TZID=Europe/Paris:20280526T183000
DTSTAMP:20260421T055451
CREATED:20240523T093606Z
LAST-MODIFIED:20240523T093950Z
UID:10000800-1842973200-1842978600@svio.nl
SUMMARY:MJA: Uitleg van de Quraan I Ust. Umair Bantvawala
DESCRIPTION:
URL:https://svio.nl/evenement/uitleg-van-de-quraan/2028-05-26/
LOCATION:Stichting voor Islamitische Ontwikkeling\, Markerkant 10\, 136H\, Almere\, Flevoland\, 1316AL\, Nederland
CATEGORIES:Broeders & Zusters
ORGANIZER;CN="Moslimjongeren Almere":MAILTO:info@moslimjongerenalmere.nl
END:VEVENT
BEGIN:VEVENT
DTSTART;TZID=Europe/Paris:20280602T170000
DTEND;TZID=Europe/Paris:20280602T183000
DTSTAMP:20260421T055451
CREATED:20240523T093606Z
LAST-MODIFIED:20240523T093950Z
UID:10000801-1843578000-1843583400@svio.nl
SUMMARY:MJA: Uitleg van de Quraan I Ust. Umair Bantvawala
DESCRIPTION:
URL:https://svio.nl/evenement/uitleg-van-de-quraan/2028-06-02/
LOCATION:Stichting voor Islamitische Ontwikkeling\, Markerkant 10\, 136H\, Almere\, Flevoland\, 1316AL\, Nederland
CATEGORIES:Broeders & Zusters
ORGANIZER;CN="Moslimjongeren Almere":MAILTO:info@moslimjongerenalmere.nl
END:VEVENT
BEGIN:VEVENT
DTSTART;VALUE=DATE:20280603
DTEND;VALUE=DATE:20280605
DTSTAMP:20260421T055451
CREATED:20240523T094635Z
LAST-MODIFIED:20240523T094908Z
UID:10000900-1843682400-1843768799@svio.nl
SUMMARY:MJA: Lezing Moskee Abou Bakr
DESCRIPTION:Elke eerste zondag van de maand een lezing bij Moskee Abou Bakr (Almere – Stad) na salaat al-‘Asr
URL:https://svio.nl/evenement/mja-lezing-moskee-abou-bakr/2028-06-04/
LOCATION:Abou Bakr Moskee\, Clemenceaustraat 1\, Almere\, 1314 RL\, Nederland
CATEGORIES:Broeders & Zusters
ORGANIZER;CN="Moslimjongeren Almere":MAILTO:info@moslimjongerenalmere.nl
END:VEVENT
BEGIN:VEVENT
DTSTART;TZID=Europe/Paris:20280609T170000
DTEND;TZID=Europe/Paris:20280609T183000
DTSTAMP:20260421T055451
CREATED:20240523T093606Z
LAST-MODIFIED:20240523T093950Z
UID:10000802-1844182800-1844188200@svio.nl
SUMMARY:MJA: Uitleg van de Quraan I Ust. Umair Bantvawala
DESCRIPTION:
URL:https://svio.nl/evenement/uitleg-van-de-quraan/2028-06-09/
LOCATION:Stichting voor Islamitische Ontwikkeling\, Markerkant 10\, 136H\, Almere\, Flevoland\, 1316AL\, Nederland
CATEGORIES:Broeders & Zusters
ORGANIZER;CN="Moslimjongeren Almere":MAILTO:info@moslimjongerenalmere.nl
END:VEVENT
BEGIN:VEVENT
DTSTART;TZID=Europe/Paris:20280616T170000
DTEND;TZID=Europe/Paris:20280616T183000
DTSTAMP:20260421T055451
CREATED:20240523T093606Z
LAST-MODIFIED:20240523T093950Z
UID:10000803-1844787600-1844793000@svio.nl
SUMMARY:MJA: Uitleg van de Quraan I Ust. Umair Bantvawala
DESCRIPTION:
URL:https://svio.nl/evenement/uitleg-van-de-quraan/2028-06-16/
LOCATION:Stichting voor Islamitische Ontwikkeling\, Markerkant 10\, 136H\, Almere\, Flevoland\, 1316AL\, Nederland
CATEGORIES:Broeders & Zusters
ORGANIZER;CN="Moslimjongeren Almere":MAILTO:info@moslimjongerenalmere.nl
END:VEVENT
BEGIN:VEVENT
DTSTART;VALUE=DATE:20280617
DTEND;VALUE=DATE:20280619
DTSTAMP:20260421T055451
CREATED:20240523T095308Z
LAST-MODIFIED:20240523T095423Z
UID:10001020-1844892000-1844978399@svio.nl
SUMMARY:MJA: Lezing Moskee Omar Ibn al-Khattab
DESCRIPTION:Elke derde zondag van de maand een lezing bij Moskee Omar Ibn Al Khattab (Almere-Buiten) na salaat al-‘Asr
URL:https://svio.nl/evenement/mja-lezing-moskee-omar-ibn-al-khattab/2028-06-18/
LOCATION:Moskee Omar ibn al khattab\, Bintangweg 3\, Almere\, 1336 ND
CATEGORIES:Broeders & Zusters
ORGANIZER;CN="Moslimjongeren Almere":MAILTO:info@moslimjongerenalmere.nl
END:VEVENT
BEGIN:VEVENT
DTSTART;TZID=Europe/Paris:20280623T170000
DTEND;TZID=Europe/Paris:20280623T183000
DTSTAMP:20260421T055451
CREATED:20240523T093606Z
LAST-MODIFIED:20240523T093950Z
UID:10000804-1845392400-1845397800@svio.nl
SUMMARY:MJA: Uitleg van de Quraan I Ust. Umair Bantvawala
DESCRIPTION:
URL:https://svio.nl/evenement/uitleg-van-de-quraan/2028-06-23/
LOCATION:Stichting voor Islamitische Ontwikkeling\, Markerkant 10\, 136H\, Almere\, Flevoland\, 1316AL\, Nederland
CATEGORIES:Broeders & Zusters
ORGANIZER;CN="Moslimjongeren Almere":MAILTO:info@moslimjongerenalmere.nl
END:VEVENT
BEGIN:VEVENT
DTSTART;TZID=Europe/Paris:20280630T170000
DTEND;TZID=Europe/Paris:20280630T183000
DTSTAMP:20260421T055451
CREATED:20240523T093606Z
LAST-MODIFIED:20240523T093950Z
UID:10000805-1845997200-1846002600@svio.nl
SUMMARY:MJA: Uitleg van de Quraan I Ust. Umair Bantvawala
DESCRIPTION:
URL:https://svio.nl/evenement/uitleg-van-de-quraan/2028-06-30/
LOCATION:Stichting voor Islamitische Ontwikkeling\, Markerkant 10\, 136H\, Almere\, Flevoland\, 1316AL\, Nederland
CATEGORIES:Broeders & Zusters
ORGANIZER;CN="Moslimjongeren Almere":MAILTO:info@moslimjongerenalmere.nl
END:VEVENT
BEGIN:VEVENT
DTSTART;VALUE=DATE:20280701
DTEND;VALUE=DATE:20280703
DTSTAMP:20260421T055451
CREATED:20240523T094635Z
LAST-MODIFIED:20240523T094908Z
UID:10000901-1846101600-1846187999@svio.nl
SUMMARY:MJA: Lezing Moskee Abou Bakr
DESCRIPTION:Elke eerste zondag van de maand een lezing bij Moskee Abou Bakr (Almere – Stad) na salaat al-‘Asr
URL:https://svio.nl/evenement/mja-lezing-moskee-abou-bakr/2028-07-02/
LOCATION:Abou Bakr Moskee\, Clemenceaustraat 1\, Almere\, 1314 RL\, Nederland
CATEGORIES:Broeders & Zusters
ORGANIZER;CN="Moslimjongeren Almere":MAILTO:info@moslimjongerenalmere.nl
END:VEVENT
BEGIN:VEVENT
DTSTART;TZID=Europe/Paris:20280707T170000
DTEND;TZID=Europe/Paris:20280707T183000
DTSTAMP:20260421T055451
CREATED:20240523T093606Z
LAST-MODIFIED:20240523T093950Z
UID:10000806-1846602000-1846607400@svio.nl
SUMMARY:MJA: Uitleg van de Quraan I Ust. Umair Bantvawala
DESCRIPTION:
URL:https://svio.nl/evenement/uitleg-van-de-quraan/2028-07-07/
LOCATION:Stichting voor Islamitische Ontwikkeling\, Markerkant 10\, 136H\, Almere\, Flevoland\, 1316AL\, Nederland
CATEGORIES:Broeders & Zusters
ORGANIZER;CN="Moslimjongeren Almere":MAILTO:info@moslimjongerenalmere.nl
END:VEVENT
BEGIN:VEVENT
DTSTART;TZID=Europe/Paris:20280714T170000
DTEND;TZID=Europe/Paris:20280714T183000
DTSTAMP:20260421T055451
CREATED:20240523T093606Z
LAST-MODIFIED:20240523T093950Z
UID:10000807-1847206800-1847212200@svio.nl
SUMMARY:MJA: Uitleg van de Quraan I Ust. Umair Bantvawala
DESCRIPTION:
URL:https://svio.nl/evenement/uitleg-van-de-quraan/2028-07-14/
LOCATION:Stichting voor Islamitische Ontwikkeling\, Markerkant 10\, 136H\, Almere\, Flevoland\, 1316AL\, Nederland
CATEGORIES:Broeders & Zusters
ORGANIZER;CN="Moslimjongeren Almere":MAILTO:info@moslimjongerenalmere.nl
END:VEVENT
BEGIN:VEVENT
DTSTART;VALUE=DATE:20280715
DTEND;VALUE=DATE:20280717
DTSTAMP:20260421T055451
CREATED:20240523T095308Z
LAST-MODIFIED:20240523T095423Z
UID:10001021-1847311200-1847397599@svio.nl
SUMMARY:MJA: Lezing Moskee Omar Ibn al-Khattab
DESCRIPTION:Elke derde zondag van de maand een lezing bij Moskee Omar Ibn Al Khattab (Almere-Buiten) na salaat al-‘Asr
URL:https://svio.nl/evenement/mja-lezing-moskee-omar-ibn-al-khattab/2028-07-16/
LOCATION:Moskee Omar ibn al khattab\, Bintangweg 3\, Almere\, 1336 ND
CATEGORIES:Broeders & Zusters
ORGANIZER;CN="Moslimjongeren Almere":MAILTO:info@moslimjongerenalmere.nl
END:VEVENT
BEGIN:VEVENT
DTSTART;TZID=Europe/Paris:20280721T170000
DTEND;TZID=Europe/Paris:20280721T183000
DTSTAMP:20260421T055451
CREATED:20240523T093606Z
LAST-MODIFIED:20240523T093950Z
UID:10000808-1847811600-1847817000@svio.nl
SUMMARY:MJA: Uitleg van de Quraan I Ust. Umair Bantvawala
DESCRIPTION:
URL:https://svio.nl/evenement/uitleg-van-de-quraan/2028-07-21/
LOCATION:Stichting voor Islamitische Ontwikkeling\, Markerkant 10\, 136H\, Almere\, Flevoland\, 1316AL\, Nederland
CATEGORIES:Broeders & Zusters
ORGANIZER;CN="Moslimjongeren Almere":MAILTO:info@moslimjongerenalmere.nl
END:VEVENT
BEGIN:VEVENT
DTSTART;TZID=Europe/Paris:20280728T170000
DTEND;TZID=Europe/Paris:20280728T183000
DTSTAMP:20260421T055451
CREATED:20240523T093606Z
LAST-MODIFIED:20240523T093950Z
UID:10000809-1848416400-1848421800@svio.nl
SUMMARY:MJA: Uitleg van de Quraan I Ust. Umair Bantvawala
DESCRIPTION:
URL:https://svio.nl/evenement/uitleg-van-de-quraan/2028-07-28/
LOCATION:Stichting voor Islamitische Ontwikkeling\, Markerkant 10\, 136H\, Almere\, Flevoland\, 1316AL\, Nederland
CATEGORIES:Broeders & Zusters
ORGANIZER;CN="Moslimjongeren Almere":MAILTO:info@moslimjongerenalmere.nl
END:VEVENT
BEGIN:VEVENT
DTSTART;TZID=Europe/Paris:20280804T170000
DTEND;TZID=Europe/Paris:20280804T183000
DTSTAMP:20260421T055451
CREATED:20240523T093606Z
LAST-MODIFIED:20240523T093950Z
UID:10000810-1849021200-1849026600@svio.nl
SUMMARY:MJA: Uitleg van de Quraan I Ust. Umair Bantvawala
DESCRIPTION:
URL:https://svio.nl/evenement/uitleg-van-de-quraan/2028-08-04/
LOCATION:Stichting voor Islamitische Ontwikkeling\, Markerkant 10\, 136H\, Almere\, Flevoland\, 1316AL\, Nederland
CATEGORIES:Broeders & Zusters
ORGANIZER;CN="Moslimjongeren Almere":MAILTO:info@moslimjongerenalmere.nl
END:VEVENT
BEGIN:VEVENT
DTSTART;VALUE=DATE:20280805
DTEND;VALUE=DATE:20280807
DTSTAMP:20260421T055451
CREATED:20240523T094635Z
LAST-MODIFIED:20240523T094908Z
UID:10000902-1849125600-1849211999@svio.nl
SUMMARY:MJA: Lezing Moskee Abou Bakr
DESCRIPTION:Elke eerste zondag van de maand een lezing bij Moskee Abou Bakr (Almere – Stad) na salaat al-‘Asr
URL:https://svio.nl/evenement/mja-lezing-moskee-abou-bakr/2028-08-06/
LOCATION:Abou Bakr Moskee\, Clemenceaustraat 1\, Almere\, 1314 RL\, Nederland
CATEGORIES:Broeders & Zusters
ORGANIZER;CN="Moslimjongeren Almere":MAILTO:info@moslimjongerenalmere.nl
END:VEVENT
BEGIN:VEVENT
DTSTART;TZID=Europe/Paris:20280811T170000
DTEND;TZID=Europe/Paris:20280811T183000
DTSTAMP:20260421T055451
CREATED:20240523T093606Z
LAST-MODIFIED:20240523T093950Z
UID:10000811-1849626000-1849631400@svio.nl
SUMMARY:MJA: Uitleg van de Quraan I Ust. Umair Bantvawala
DESCRIPTION:
URL:https://svio.nl/evenement/uitleg-van-de-quraan/2028-08-11/
LOCATION:Stichting voor Islamitische Ontwikkeling\, Markerkant 10\, 136H\, Almere\, Flevoland\, 1316AL\, Nederland
CATEGORIES:Broeders & Zusters
ORGANIZER;CN="Moslimjongeren Almere":MAILTO:info@moslimjongerenalmere.nl
END:VEVENT
BEGIN:VEVENT
DTSTART;TZID=Europe/Paris:20280818T170000
DTEND;TZID=Europe/Paris:20280818T183000
DTSTAMP:20260421T055451
CREATED:20240523T093606Z
LAST-MODIFIED:20240523T093950Z
UID:10000812-1850230800-1850236200@svio.nl
SUMMARY:MJA: Uitleg van de Quraan I Ust. Umair Bantvawala
DESCRIPTION:
URL:https://svio.nl/evenement/uitleg-van-de-quraan/2028-08-18/
LOCATION:Stichting voor Islamitische Ontwikkeling\, Markerkant 10\, 136H\, Almere\, Flevoland\, 1316AL\, Nederland
CATEGORIES:Broeders & Zusters
ORGANIZER;CN="Moslimjongeren Almere":MAILTO:info@moslimjongerenalmere.nl
END:VEVENT
BEGIN:VEVENT
DTSTART;VALUE=DATE:20280819
DTEND;VALUE=DATE:20280821
DTSTAMP:20260421T055451
CREATED:20240523T095308Z
LAST-MODIFIED:20240523T095423Z
UID:10001022-1850335200-1850421599@svio.nl
SUMMARY:MJA: Lezing Moskee Omar Ibn al-Khattab
DESCRIPTION:Elke derde zondag van de maand een lezing bij Moskee Omar Ibn Al Khattab (Almere-Buiten) na salaat al-‘Asr
URL:https://svio.nl/evenement/mja-lezing-moskee-omar-ibn-al-khattab/2028-08-20/
LOCATION:Moskee Omar ibn al khattab\, Bintangweg 3\, Almere\, 1336 ND
CATEGORIES:Broeders & Zusters
ORGANIZER;CN="Moslimjongeren Almere":MAILTO:info@moslimjongerenalmere.nl
END:VEVENT
BEGIN:VEVENT
DTSTART;TZID=Europe/Paris:20280825T170000
DTEND;TZID=Europe/Paris:20280825T183000
DTSTAMP:20260421T055451
CREATED:20240523T093606Z
LAST-MODIFIED:20240523T093950Z
UID:10000813-1850835600-1850841000@svio.nl
SUMMARY:MJA: Uitleg van de Quraan I Ust. Umair Bantvawala
DESCRIPTION:
URL:https://svio.nl/evenement/uitleg-van-de-quraan/2028-08-25/
LOCATION:Stichting voor Islamitische Ontwikkeling\, Markerkant 10\, 136H\, Almere\, Flevoland\, 1316AL\, Nederland
CATEGORIES:Broeders & Zusters
ORGANIZER;CN="Moslimjongeren Almere":MAILTO:info@moslimjongerenalmere.nl
END:VEVENT
BEGIN:VEVENT
DTSTART;TZID=Europe/Paris:20280901T170000
DTEND;TZID=Europe/Paris:20280901T183000
DTSTAMP:20260421T055451
CREATED:20240523T093606Z
LAST-MODIFIED:20240523T093950Z
UID:10000814-1851440400-1851445800@svio.nl
SUMMARY:MJA: Uitleg van de Quraan I Ust. Umair Bantvawala
DESCRIPTION:
URL:https://svio.nl/evenement/uitleg-van-de-quraan/2028-09-01/
LOCATION:Stichting voor Islamitische Ontwikkeling\, Markerkant 10\, 136H\, Almere\, Flevoland\, 1316AL\, Nederland
CATEGORIES:Broeders & Zusters
ORGANIZER;CN="Moslimjongeren Almere":MAILTO:info@moslimjongerenalmere.nl
END:VEVENT
BEGIN:VEVENT
DTSTART;VALUE=DATE:20280902
DTEND;VALUE=DATE:20280904
DTSTAMP:20260421T055451
CREATED:20240523T094635Z
LAST-MODIFIED:20240523T094908Z
UID:10000903-1851544800-1851631199@svio.nl
SUMMARY:MJA: Lezing Moskee Abou Bakr
DESCRIPTION:Elke eerste zondag van de maand een lezing bij Moskee Abou Bakr (Almere – Stad) na salaat al-‘Asr
URL:https://svio.nl/evenement/mja-lezing-moskee-abou-bakr/2028-09-03/
LOCATION:Abou Bakr Moskee\, Clemenceaustraat 1\, Almere\, 1314 RL\, Nederland
CATEGORIES:Broeders & Zusters
ORGANIZER;CN="Moslimjongeren Almere":MAILTO:info@moslimjongerenalmere.nl
END:VEVENT
BEGIN:VEVENT
DTSTART;TZID=Europe/Paris:20280908T170000
DTEND;TZID=Europe/Paris:20280908T183000
DTSTAMP:20260421T055451
CREATED:20240523T093606Z
LAST-MODIFIED:20240523T093950Z
UID:10000815-1852045200-1852050600@svio.nl
SUMMARY:MJA: Uitleg van de Quraan I Ust. Umair Bantvawala
DESCRIPTION:
URL:https://svio.nl/evenement/uitleg-van-de-quraan/2028-09-08/
LOCATION:Stichting voor Islamitische Ontwikkeling\, Markerkant 10\, 136H\, Almere\, Flevoland\, 1316AL\, Nederland
CATEGORIES:Broeders & Zusters
ORGANIZER;CN="Moslimjongeren Almere":MAILTO:info@moslimjongerenalmere.nl
END:VEVENT
BEGIN:VEVENT
DTSTART;TZID=Europe/Paris:20280915T170000
DTEND;TZID=Europe/Paris:20280915T183000
DTSTAMP:20260421T055451
CREATED:20240523T093606Z
LAST-MODIFIED:20240523T093950Z
UID:10000816-1852650000-1852655400@svio.nl
SUMMARY:MJA: Uitleg van de Quraan I Ust. Umair Bantvawala
DESCRIPTION:
URL:https://svio.nl/evenement/uitleg-van-de-quraan/2028-09-15/
LOCATION:Stichting voor Islamitische Ontwikkeling\, Markerkant 10\, 136H\, Almere\, Flevoland\, 1316AL\, Nederland
CATEGORIES:Broeders & Zusters
ORGANIZER;CN="Moslimjongeren Almere":MAILTO:info@moslimjongerenalmere.nl
END:VEVENT
END:VCALENDAR