BEGIN:VCALENDAR
VERSION:2.0
PRODID:-//Stichting voor Islamitische Ontwikkeling - ECPv6.4.0//NONSGML v1.0//EN
CALSCALE:GREGORIAN
METHOD:PUBLISH
X-WR-CALNAME:Stichting voor Islamitische Ontwikkeling
X-ORIGINAL-URL:https://svio.nl
X-WR-CALDESC:Evenementen voor Stichting voor Islamitische Ontwikkeling
REFRESH-INTERVAL;VALUE=DURATION:PT1H
X-Robots-Tag:noindex
X-PUBLISHED-TTL:PT1H
BEGIN:VTIMEZONE
TZID:Europe/Paris
BEGIN:DAYLIGHT
TZOFFSETFROM:+0100
TZOFFSETTO:+0200
TZNAME:CEST
DTSTART:20290325T010000
END:DAYLIGHT
BEGIN:STANDARD
TZOFFSETFROM:+0200
TZOFFSETTO:+0100
TZNAME:CET
DTSTART:20291028T010000
END:STANDARD
END:VTIMEZONE
BEGIN:VEVENT
DTSTART;TZID=Europe/Paris:20290223T180000
DTEND;TZID=Europe/Paris:20290223T193000
DTSTAMP:20260421T165000
CREATED:20240523T093606Z
LAST-MODIFIED:20240523T093950Z
UID:10000839-1866564000-1866569400@svio.nl
SUMMARY:MJA: Uitleg van de Quraan I Ust. Umair Bantvawala
DESCRIPTION:
URL:https://svio.nl/evenement/uitleg-van-de-quraan/2029-02-23/
LOCATION:Stichting voor Islamitische Ontwikkeling\, Markerkant 10\, 136H\, Almere\, Flevoland\, 1316AL\, Nederland
CATEGORIES:Broeders & Zusters
ORGANIZER;CN="Moslimjongeren Almere":MAILTO:info@moslimjongerenalmere.nl
END:VEVENT
BEGIN:VEVENT
DTSTART;TZID=Europe/Paris:20290302T180000
DTEND;TZID=Europe/Paris:20290302T193000
DTSTAMP:20260421T165000
CREATED:20240523T093606Z
LAST-MODIFIED:20240523T093950Z
UID:10000840-1867168800-1867174200@svio.nl
SUMMARY:MJA: Uitleg van de Quraan I Ust. Umair Bantvawala
DESCRIPTION:
URL:https://svio.nl/evenement/uitleg-van-de-quraan/2029-03-02/
LOCATION:Stichting voor Islamitische Ontwikkeling\, Markerkant 10\, 136H\, Almere\, Flevoland\, 1316AL\, Nederland
CATEGORIES:Broeders & Zusters
ORGANIZER;CN="Moslimjongeren Almere":MAILTO:info@moslimjongerenalmere.nl
END:VEVENT
BEGIN:VEVENT
DTSTART;VALUE=DATE:20290303
DTEND;VALUE=DATE:20290305
DTSTAMP:20260421T165000
CREATED:20240523T094635Z
LAST-MODIFIED:20240523T094908Z
UID:10000909-1867273200-1867359599@svio.nl
SUMMARY:MJA: Lezing Moskee Abou Bakr
DESCRIPTION:Elke eerste zondag van de maand een lezing bij Moskee Abou Bakr (Almere – Stad) na salaat al-‘Asr
URL:https://svio.nl/evenement/mja-lezing-moskee-abou-bakr/2029-03-04/
LOCATION:Abou Bakr Moskee\, Clemenceaustraat 1\, Almere\, 1314 RL\, Nederland
CATEGORIES:Broeders & Zusters
ORGANIZER;CN="Moslimjongeren Almere":MAILTO:info@moslimjongerenalmere.nl
END:VEVENT
BEGIN:VEVENT
DTSTART;TZID=Europe/Paris:20290309T180000
DTEND;TZID=Europe/Paris:20290309T193000
DTSTAMP:20260421T165000
CREATED:20240523T093606Z
LAST-MODIFIED:20240523T093950Z
UID:10000841-1867773600-1867779000@svio.nl
SUMMARY:MJA: Uitleg van de Quraan I Ust. Umair Bantvawala
DESCRIPTION:
URL:https://svio.nl/evenement/uitleg-van-de-quraan/2029-03-09/
LOCATION:Stichting voor Islamitische Ontwikkeling\, Markerkant 10\, 136H\, Almere\, Flevoland\, 1316AL\, Nederland
CATEGORIES:Broeders & Zusters
ORGANIZER;CN="Moslimjongeren Almere":MAILTO:info@moslimjongerenalmere.nl
END:VEVENT
BEGIN:VEVENT
DTSTART;TZID=Europe/Paris:20290316T180000
DTEND;TZID=Europe/Paris:20290316T193000
DTSTAMP:20260421T165000
CREATED:20240523T093606Z
LAST-MODIFIED:20240523T093950Z
UID:10000842-1868378400-1868383800@svio.nl
SUMMARY:MJA: Uitleg van de Quraan I Ust. Umair Bantvawala
DESCRIPTION:
URL:https://svio.nl/evenement/uitleg-van-de-quraan/2029-03-16/
LOCATION:Stichting voor Islamitische Ontwikkeling\, Markerkant 10\, 136H\, Almere\, Flevoland\, 1316AL\, Nederland
CATEGORIES:Broeders & Zusters
ORGANIZER;CN="Moslimjongeren Almere":MAILTO:info@moslimjongerenalmere.nl
END:VEVENT
BEGIN:VEVENT
DTSTART;VALUE=DATE:20290317
DTEND;VALUE=DATE:20290319
DTSTAMP:20260421T165000
CREATED:20240523T095308Z
LAST-MODIFIED:20240523T095423Z
UID:10001029-1868482800-1868569199@svio.nl
SUMMARY:MJA: Lezing Moskee Omar Ibn al-Khattab
DESCRIPTION:Elke derde zondag van de maand een lezing bij Moskee Omar Ibn Al Khattab (Almere-Buiten) na salaat al-‘Asr
URL:https://svio.nl/evenement/mja-lezing-moskee-omar-ibn-al-khattab/2029-03-18/
LOCATION:Moskee Omar ibn al khattab\, Bintangweg 3\, Almere\, 1336 ND
CATEGORIES:Broeders & Zusters
ORGANIZER;CN="Moslimjongeren Almere":MAILTO:info@moslimjongerenalmere.nl
END:VEVENT
BEGIN:VEVENT
DTSTART;TZID=Europe/Paris:20290323T180000
DTEND;TZID=Europe/Paris:20290323T193000
DTSTAMP:20260421T165000
CREATED:20240523T093606Z
LAST-MODIFIED:20240523T093950Z
UID:10000843-1868983200-1868988600@svio.nl
SUMMARY:MJA: Uitleg van de Quraan I Ust. Umair Bantvawala
DESCRIPTION:
URL:https://svio.nl/evenement/uitleg-van-de-quraan/2029-03-23/
LOCATION:Stichting voor Islamitische Ontwikkeling\, Markerkant 10\, 136H\, Almere\, Flevoland\, 1316AL\, Nederland
CATEGORIES:Broeders & Zusters
ORGANIZER;CN="Moslimjongeren Almere":MAILTO:info@moslimjongerenalmere.nl
END:VEVENT
BEGIN:VEVENT
DTSTART;TZID=Europe/Paris:20290330T170000
DTEND;TZID=Europe/Paris:20290330T183000
DTSTAMP:20260421T165000
CREATED:20240523T093606Z
LAST-MODIFIED:20240523T093950Z
UID:10000844-1869584400-1869589800@svio.nl
SUMMARY:MJA: Uitleg van de Quraan I Ust. Umair Bantvawala
DESCRIPTION:
URL:https://svio.nl/evenement/uitleg-van-de-quraan/2029-03-30/
LOCATION:Stichting voor Islamitische Ontwikkeling\, Markerkant 10\, 136H\, Almere\, Flevoland\, 1316AL\, Nederland
CATEGORIES:Broeders & Zusters
ORGANIZER;CN="Moslimjongeren Almere":MAILTO:info@moslimjongerenalmere.nl
END:VEVENT
BEGIN:VEVENT
DTSTART;VALUE=DATE:20290331
DTEND;VALUE=DATE:20290402
DTSTAMP:20260421T165000
CREATED:20240523T094635Z
LAST-MODIFIED:20240523T094908Z
UID:10000910-1869688800-1869775199@svio.nl
SUMMARY:MJA: Lezing Moskee Abou Bakr
DESCRIPTION:Elke eerste zondag van de maand een lezing bij Moskee Abou Bakr (Almere – Stad) na salaat al-‘Asr
URL:https://svio.nl/evenement/mja-lezing-moskee-abou-bakr/2029-04-01/
LOCATION:Abou Bakr Moskee\, Clemenceaustraat 1\, Almere\, 1314 RL\, Nederland
CATEGORIES:Broeders & Zusters
ORGANIZER;CN="Moslimjongeren Almere":MAILTO:info@moslimjongerenalmere.nl
END:VEVENT
BEGIN:VEVENT
DTSTART;TZID=Europe/Paris:20290406T170000
DTEND;TZID=Europe/Paris:20290406T183000
DTSTAMP:20260421T165000
CREATED:20240523T093606Z
LAST-MODIFIED:20240523T093950Z
UID:10000845-1870189200-1870194600@svio.nl
SUMMARY:MJA: Uitleg van de Quraan I Ust. Umair Bantvawala
DESCRIPTION:
URL:https://svio.nl/evenement/uitleg-van-de-quraan/2029-04-06/
LOCATION:Stichting voor Islamitische Ontwikkeling\, Markerkant 10\, 136H\, Almere\, Flevoland\, 1316AL\, Nederland
CATEGORIES:Broeders & Zusters
ORGANIZER;CN="Moslimjongeren Almere":MAILTO:info@moslimjongerenalmere.nl
END:VEVENT
BEGIN:VEVENT
DTSTART;TZID=Europe/Paris:20290413T170000
DTEND;TZID=Europe/Paris:20290413T183000
DTSTAMP:20260421T165000
CREATED:20240523T093606Z
LAST-MODIFIED:20240523T093950Z
UID:10000846-1870794000-1870799400@svio.nl
SUMMARY:MJA: Uitleg van de Quraan I Ust. Umair Bantvawala
DESCRIPTION:
URL:https://svio.nl/evenement/uitleg-van-de-quraan/2029-04-13/
LOCATION:Stichting voor Islamitische Ontwikkeling\, Markerkant 10\, 136H\, Almere\, Flevoland\, 1316AL\, Nederland
CATEGORIES:Broeders & Zusters
ORGANIZER;CN="Moslimjongeren Almere":MAILTO:info@moslimjongerenalmere.nl
END:VEVENT
BEGIN:VEVENT
DTSTART;VALUE=DATE:20290414
DTEND;VALUE=DATE:20290416
DTSTAMP:20260421T165000
CREATED:20240523T095308Z
LAST-MODIFIED:20240523T095423Z
UID:10001030-1870898400-1870984799@svio.nl
SUMMARY:MJA: Lezing Moskee Omar Ibn al-Khattab
DESCRIPTION:Elke derde zondag van de maand een lezing bij Moskee Omar Ibn Al Khattab (Almere-Buiten) na salaat al-‘Asr
URL:https://svio.nl/evenement/mja-lezing-moskee-omar-ibn-al-khattab/2029-04-15/
LOCATION:Moskee Omar ibn al khattab\, Bintangweg 3\, Almere\, 1336 ND
CATEGORIES:Broeders & Zusters
ORGANIZER;CN="Moslimjongeren Almere":MAILTO:info@moslimjongerenalmere.nl
END:VEVENT
BEGIN:VEVENT
DTSTART;TZID=Europe/Paris:20290420T170000
DTEND;TZID=Europe/Paris:20290420T183000
DTSTAMP:20260421T165000
CREATED:20240523T093606Z
LAST-MODIFIED:20240523T093950Z
UID:10000847-1871398800-1871404200@svio.nl
SUMMARY:MJA: Uitleg van de Quraan I Ust. Umair Bantvawala
DESCRIPTION:
URL:https://svio.nl/evenement/uitleg-van-de-quraan/2029-04-20/
LOCATION:Stichting voor Islamitische Ontwikkeling\, Markerkant 10\, 136H\, Almere\, Flevoland\, 1316AL\, Nederland
CATEGORIES:Broeders & Zusters
ORGANIZER;CN="Moslimjongeren Almere":MAILTO:info@moslimjongerenalmere.nl
END:VEVENT
BEGIN:VEVENT
DTSTART;TZID=Europe/Paris:20290427T170000
DTEND;TZID=Europe/Paris:20290427T183000
DTSTAMP:20260421T165000
CREATED:20240523T093606Z
LAST-MODIFIED:20240523T093950Z
UID:10000848-1872003600-1872009000@svio.nl
SUMMARY:MJA: Uitleg van de Quraan I Ust. Umair Bantvawala
DESCRIPTION:
URL:https://svio.nl/evenement/uitleg-van-de-quraan/2029-04-27/
LOCATION:Stichting voor Islamitische Ontwikkeling\, Markerkant 10\, 136H\, Almere\, Flevoland\, 1316AL\, Nederland
CATEGORIES:Broeders & Zusters
ORGANIZER;CN="Moslimjongeren Almere":MAILTO:info@moslimjongerenalmere.nl
END:VEVENT
BEGIN:VEVENT
DTSTART;TZID=Europe/Paris:20290504T170000
DTEND;TZID=Europe/Paris:20290504T183000
DTSTAMP:20260421T165000
CREATED:20240523T093606Z
LAST-MODIFIED:20240523T093950Z
UID:10000849-1872608400-1872613800@svio.nl
SUMMARY:MJA: Uitleg van de Quraan I Ust. Umair Bantvawala
DESCRIPTION:
URL:https://svio.nl/evenement/uitleg-van-de-quraan/2029-05-04/
LOCATION:Stichting voor Islamitische Ontwikkeling\, Markerkant 10\, 136H\, Almere\, Flevoland\, 1316AL\, Nederland
CATEGORIES:Broeders & Zusters
ORGANIZER;CN="Moslimjongeren Almere":MAILTO:info@moslimjongerenalmere.nl
END:VEVENT
BEGIN:VEVENT
DTSTART;VALUE=DATE:20290505
DTEND;VALUE=DATE:20290507
DTSTAMP:20260421T165000
CREATED:20240523T094635Z
LAST-MODIFIED:20240523T094908Z
UID:10000911-1872712800-1872799199@svio.nl
SUMMARY:MJA: Lezing Moskee Abou Bakr
DESCRIPTION:Elke eerste zondag van de maand een lezing bij Moskee Abou Bakr (Almere – Stad) na salaat al-‘Asr
URL:https://svio.nl/evenement/mja-lezing-moskee-abou-bakr/2029-05-06/
LOCATION:Abou Bakr Moskee\, Clemenceaustraat 1\, Almere\, 1314 RL\, Nederland
CATEGORIES:Broeders & Zusters
ORGANIZER;CN="Moslimjongeren Almere":MAILTO:info@moslimjongerenalmere.nl
END:VEVENT
BEGIN:VEVENT
DTSTART;TZID=Europe/Paris:20290511T170000
DTEND;TZID=Europe/Paris:20290511T183000
DTSTAMP:20260421T165000
CREATED:20240523T093606Z
LAST-MODIFIED:20240523T093950Z
UID:10000850-1873213200-1873218600@svio.nl
SUMMARY:MJA: Uitleg van de Quraan I Ust. Umair Bantvawala
DESCRIPTION:
URL:https://svio.nl/evenement/uitleg-van-de-quraan/2029-05-11/
LOCATION:Stichting voor Islamitische Ontwikkeling\, Markerkant 10\, 136H\, Almere\, Flevoland\, 1316AL\, Nederland
CATEGORIES:Broeders & Zusters
ORGANIZER;CN="Moslimjongeren Almere":MAILTO:info@moslimjongerenalmere.nl
END:VEVENT
BEGIN:VEVENT
DTSTART;TZID=Europe/Paris:20290518T170000
DTEND;TZID=Europe/Paris:20290518T183000
DTSTAMP:20260421T165000
CREATED:20240523T093606Z
LAST-MODIFIED:20240523T093950Z
UID:10000851-1873818000-1873823400@svio.nl
SUMMARY:MJA: Uitleg van de Quraan I Ust. Umair Bantvawala
DESCRIPTION:
URL:https://svio.nl/evenement/uitleg-van-de-quraan/2029-05-18/
LOCATION:Stichting voor Islamitische Ontwikkeling\, Markerkant 10\, 136H\, Almere\, Flevoland\, 1316AL\, Nederland
CATEGORIES:Broeders & Zusters
ORGANIZER;CN="Moslimjongeren Almere":MAILTO:info@moslimjongerenalmere.nl
END:VEVENT
BEGIN:VEVENT
DTSTART;VALUE=DATE:20290519
DTEND;VALUE=DATE:20290521
DTSTAMP:20260421T165000
CREATED:20240523T095308Z
LAST-MODIFIED:20240523T095423Z
UID:10001031-1873922400-1874008799@svio.nl
SUMMARY:MJA: Lezing Moskee Omar Ibn al-Khattab
DESCRIPTION:Elke derde zondag van de maand een lezing bij Moskee Omar Ibn Al Khattab (Almere-Buiten) na salaat al-‘Asr
URL:https://svio.nl/evenement/mja-lezing-moskee-omar-ibn-al-khattab/2029-05-20/
LOCATION:Moskee Omar ibn al khattab\, Bintangweg 3\, Almere\, 1336 ND
CATEGORIES:Broeders & Zusters
ORGANIZER;CN="Moslimjongeren Almere":MAILTO:info@moslimjongerenalmere.nl
END:VEVENT
END:VCALENDAR