BEGIN:VCALENDAR
VERSION:2.0
PRODID:-//Stichting voor Islamitische Ontwikkeling - ECPv6.4.0//NONSGML v1.0//EN
CALSCALE:GREGORIAN
METHOD:PUBLISH
X-WR-CALNAME:Stichting voor Islamitische Ontwikkeling
X-ORIGINAL-URL:https://svio.nl
X-WR-CALDESC:Evenementen voor Stichting voor Islamitische Ontwikkeling
REFRESH-INTERVAL;VALUE=DURATION:PT1H
X-Robots-Tag:noindex
X-PUBLISHED-TTL:PT1H
BEGIN:VTIMEZONE
TZID:Europe/Paris
BEGIN:DAYLIGHT
TZOFFSETFROM:+0100
TZOFFSETTO:+0200
TZNAME:CEST
DTSTART:20290325T010000
END:DAYLIGHT
BEGIN:STANDARD
TZOFFSETFROM:+0200
TZOFFSETTO:+0100
TZNAME:CET
DTSTART:20291028T010000
END:STANDARD
END:VTIMEZONE
BEGIN:VEVENT
DTSTART;TZID=Europe/Paris:20290209T193000
DTEND;TZID=Europe/Paris:20290209T223000
DTSTAMP:20260419T195749
CREATED:20240502T142337Z
LAST-MODIFIED:20240523T101747Z
UID:10000576-1865359800-1865370600@svio.nl
SUMMARY:MJA: Jongerenavonden
DESCRIPTION:Vandaag de dag zijn de jongerenavonden van MJA dé ontmoetingsplek voor moslims (jong en oud!) die van heinde en verre komen om hun religieuze kennis en identiteit te voeden en waar ze bouwen aan een sterk netwerk. Kom langs!
URL:https://svio.nl/evenement/jongerenavonden/2029-02-09/
LOCATION:Stichting voor Islamitische Ontwikkeling\, Markerkant 10\, 136H\, Almere\, Flevoland\, 1316AL\, Nederland
CATEGORIES:Broeders
ORGANIZER;CN="Moslimjongeren Almere":MAILTO:info@moslimjongerenalmere.nl
END:VEVENT
BEGIN:VEVENT
DTSTART;TZID=Europe/Paris:20290216T193000
DTEND;TZID=Europe/Paris:20290216T223000
DTSTAMP:20260419T195749
CREATED:20240502T142337Z
LAST-MODIFIED:20240523T101747Z
UID:10000577-1865964600-1865975400@svio.nl
SUMMARY:MJA: Jongerenavonden
DESCRIPTION:Vandaag de dag zijn de jongerenavonden van MJA dé ontmoetingsplek voor moslims (jong en oud!) die van heinde en verre komen om hun religieuze kennis en identiteit te voeden en waar ze bouwen aan een sterk netwerk. Kom langs!
URL:https://svio.nl/evenement/jongerenavonden/2029-02-16/
LOCATION:Stichting voor Islamitische Ontwikkeling\, Markerkant 10\, 136H\, Almere\, Flevoland\, 1316AL\, Nederland
CATEGORIES:Broeders
ORGANIZER;CN="Moslimjongeren Almere":MAILTO:info@moslimjongerenalmere.nl
END:VEVENT
BEGIN:VEVENT
DTSTART;TZID=Europe/Paris:20290223T193000
DTEND;TZID=Europe/Paris:20290223T223000
DTSTAMP:20260419T195749
CREATED:20240502T142337Z
LAST-MODIFIED:20240523T101747Z
UID:10000578-1866569400-1866580200@svio.nl
SUMMARY:MJA: Jongerenavonden
DESCRIPTION:Vandaag de dag zijn de jongerenavonden van MJA dé ontmoetingsplek voor moslims (jong en oud!) die van heinde en verre komen om hun religieuze kennis en identiteit te voeden en waar ze bouwen aan een sterk netwerk. Kom langs!
URL:https://svio.nl/evenement/jongerenavonden/2029-02-23/
LOCATION:Stichting voor Islamitische Ontwikkeling\, Markerkant 10\, 136H\, Almere\, Flevoland\, 1316AL\, Nederland
CATEGORIES:Broeders
ORGANIZER;CN="Moslimjongeren Almere":MAILTO:info@moslimjongerenalmere.nl
END:VEVENT
BEGIN:VEVENT
DTSTART;TZID=Europe/Paris:20290302T193000
DTEND;TZID=Europe/Paris:20290302T223000
DTSTAMP:20260419T195749
CREATED:20240502T142337Z
LAST-MODIFIED:20240523T101747Z
UID:10000579-1867174200-1867185000@svio.nl
SUMMARY:MJA: Jongerenavonden
DESCRIPTION:Vandaag de dag zijn de jongerenavonden van MJA dé ontmoetingsplek voor moslims (jong en oud!) die van heinde en verre komen om hun religieuze kennis en identiteit te voeden en waar ze bouwen aan een sterk netwerk. Kom langs!
URL:https://svio.nl/evenement/jongerenavonden/2029-03-02/
LOCATION:Stichting voor Islamitische Ontwikkeling\, Markerkant 10\, 136H\, Almere\, Flevoland\, 1316AL\, Nederland
CATEGORIES:Broeders
ORGANIZER;CN="Moslimjongeren Almere":MAILTO:info@moslimjongerenalmere.nl
END:VEVENT
BEGIN:VEVENT
DTSTART;TZID=Europe/Paris:20290309T193000
DTEND;TZID=Europe/Paris:20290309T223000
DTSTAMP:20260419T195749
CREATED:20240502T142337Z
LAST-MODIFIED:20240523T101747Z
UID:10000580-1867779000-1867789800@svio.nl
SUMMARY:MJA: Jongerenavonden
DESCRIPTION:Vandaag de dag zijn de jongerenavonden van MJA dé ontmoetingsplek voor moslims (jong en oud!) die van heinde en verre komen om hun religieuze kennis en identiteit te voeden en waar ze bouwen aan een sterk netwerk. Kom langs!
URL:https://svio.nl/evenement/jongerenavonden/2029-03-09/
LOCATION:Stichting voor Islamitische Ontwikkeling\, Markerkant 10\, 136H\, Almere\, Flevoland\, 1316AL\, Nederland
CATEGORIES:Broeders
ORGANIZER;CN="Moslimjongeren Almere":MAILTO:info@moslimjongerenalmere.nl
END:VEVENT
BEGIN:VEVENT
DTSTART;TZID=Europe/Paris:20290316T193000
DTEND;TZID=Europe/Paris:20290316T223000
DTSTAMP:20260419T195749
CREATED:20240502T142337Z
LAST-MODIFIED:20240523T101747Z
UID:10000581-1868383800-1868394600@svio.nl
SUMMARY:MJA: Jongerenavonden
DESCRIPTION:Vandaag de dag zijn de jongerenavonden van MJA dé ontmoetingsplek voor moslims (jong en oud!) die van heinde en verre komen om hun religieuze kennis en identiteit te voeden en waar ze bouwen aan een sterk netwerk. Kom langs!
URL:https://svio.nl/evenement/jongerenavonden/2029-03-16/
LOCATION:Stichting voor Islamitische Ontwikkeling\, Markerkant 10\, 136H\, Almere\, Flevoland\, 1316AL\, Nederland
CATEGORIES:Broeders
ORGANIZER;CN="Moslimjongeren Almere":MAILTO:info@moslimjongerenalmere.nl
END:VEVENT
BEGIN:VEVENT
DTSTART;TZID=Europe/Paris:20290323T193000
DTEND;TZID=Europe/Paris:20290323T223000
DTSTAMP:20260419T195749
CREATED:20240502T142337Z
LAST-MODIFIED:20240523T101747Z
UID:10000582-1868988600-1868999400@svio.nl
SUMMARY:MJA: Jongerenavonden
DESCRIPTION:Vandaag de dag zijn de jongerenavonden van MJA dé ontmoetingsplek voor moslims (jong en oud!) die van heinde en verre komen om hun religieuze kennis en identiteit te voeden en waar ze bouwen aan een sterk netwerk. Kom langs!
URL:https://svio.nl/evenement/jongerenavonden/2029-03-23/
LOCATION:Stichting voor Islamitische Ontwikkeling\, Markerkant 10\, 136H\, Almere\, Flevoland\, 1316AL\, Nederland
CATEGORIES:Broeders
ORGANIZER;CN="Moslimjongeren Almere":MAILTO:info@moslimjongerenalmere.nl
END:VEVENT
BEGIN:VEVENT
DTSTART;TZID=Europe/Paris:20290330T183000
DTEND;TZID=Europe/Paris:20290330T213000
DTSTAMP:20260419T195749
CREATED:20240502T142337Z
LAST-MODIFIED:20240523T101747Z
UID:10000583-1869589800-1869600600@svio.nl
SUMMARY:MJA: Jongerenavonden
DESCRIPTION:Vandaag de dag zijn de jongerenavonden van MJA dé ontmoetingsplek voor moslims (jong en oud!) die van heinde en verre komen om hun religieuze kennis en identiteit te voeden en waar ze bouwen aan een sterk netwerk. Kom langs!
URL:https://svio.nl/evenement/jongerenavonden/2029-03-30/
LOCATION:Stichting voor Islamitische Ontwikkeling\, Markerkant 10\, 136H\, Almere\, Flevoland\, 1316AL\, Nederland
CATEGORIES:Broeders
ORGANIZER;CN="Moslimjongeren Almere":MAILTO:info@moslimjongerenalmere.nl
END:VEVENT
BEGIN:VEVENT
DTSTART;TZID=Europe/Paris:20290406T183000
DTEND;TZID=Europe/Paris:20290406T213000
DTSTAMP:20260419T195749
CREATED:20240502T142337Z
LAST-MODIFIED:20240523T101747Z
UID:10000584-1870194600-1870205400@svio.nl
SUMMARY:MJA: Jongerenavonden
DESCRIPTION:Vandaag de dag zijn de jongerenavonden van MJA dé ontmoetingsplek voor moslims (jong en oud!) die van heinde en verre komen om hun religieuze kennis en identiteit te voeden en waar ze bouwen aan een sterk netwerk. Kom langs!
URL:https://svio.nl/evenement/jongerenavonden/2029-04-06/
LOCATION:Stichting voor Islamitische Ontwikkeling\, Markerkant 10\, 136H\, Almere\, Flevoland\, 1316AL\, Nederland
CATEGORIES:Broeders
ORGANIZER;CN="Moslimjongeren Almere":MAILTO:info@moslimjongerenalmere.nl
END:VEVENT
BEGIN:VEVENT
DTSTART;TZID=Europe/Paris:20290413T183000
DTEND;TZID=Europe/Paris:20290413T213000
DTSTAMP:20260419T195749
CREATED:20240502T142337Z
LAST-MODIFIED:20240523T101747Z
UID:10000585-1870799400-1870810200@svio.nl
SUMMARY:MJA: Jongerenavonden
DESCRIPTION:Vandaag de dag zijn de jongerenavonden van MJA dé ontmoetingsplek voor moslims (jong en oud!) die van heinde en verre komen om hun religieuze kennis en identiteit te voeden en waar ze bouwen aan een sterk netwerk. Kom langs!
URL:https://svio.nl/evenement/jongerenavonden/2029-04-13/
LOCATION:Stichting voor Islamitische Ontwikkeling\, Markerkant 10\, 136H\, Almere\, Flevoland\, 1316AL\, Nederland
CATEGORIES:Broeders
ORGANIZER;CN="Moslimjongeren Almere":MAILTO:info@moslimjongerenalmere.nl
END:VEVENT
BEGIN:VEVENT
DTSTART;TZID=Europe/Paris:20290420T183000
DTEND;TZID=Europe/Paris:20290420T213000
DTSTAMP:20260419T195749
CREATED:20240502T142337Z
LAST-MODIFIED:20240523T101747Z
UID:10000586-1871404200-1871415000@svio.nl
SUMMARY:MJA: Jongerenavonden
DESCRIPTION:Vandaag de dag zijn de jongerenavonden van MJA dé ontmoetingsplek voor moslims (jong en oud!) die van heinde en verre komen om hun religieuze kennis en identiteit te voeden en waar ze bouwen aan een sterk netwerk. Kom langs!
URL:https://svio.nl/evenement/jongerenavonden/2029-04-20/
LOCATION:Stichting voor Islamitische Ontwikkeling\, Markerkant 10\, 136H\, Almere\, Flevoland\, 1316AL\, Nederland
CATEGORIES:Broeders
ORGANIZER;CN="Moslimjongeren Almere":MAILTO:info@moslimjongerenalmere.nl
END:VEVENT
BEGIN:VEVENT
DTSTART;TZID=Europe/Paris:20290427T183000
DTEND;TZID=Europe/Paris:20290427T213000
DTSTAMP:20260419T195749
CREATED:20240502T142337Z
LAST-MODIFIED:20240523T101747Z
UID:10000587-1872009000-1872019800@svio.nl
SUMMARY:MJA: Jongerenavonden
DESCRIPTION:Vandaag de dag zijn de jongerenavonden van MJA dé ontmoetingsplek voor moslims (jong en oud!) die van heinde en verre komen om hun religieuze kennis en identiteit te voeden en waar ze bouwen aan een sterk netwerk. Kom langs!
URL:https://svio.nl/evenement/jongerenavonden/2029-04-27/
LOCATION:Stichting voor Islamitische Ontwikkeling\, Markerkant 10\, 136H\, Almere\, Flevoland\, 1316AL\, Nederland
CATEGORIES:Broeders
ORGANIZER;CN="Moslimjongeren Almere":MAILTO:info@moslimjongerenalmere.nl
END:VEVENT
BEGIN:VEVENT
DTSTART;TZID=Europe/Paris:20290504T183000
DTEND;TZID=Europe/Paris:20290504T213000
DTSTAMP:20260419T195749
CREATED:20240502T142337Z
LAST-MODIFIED:20240523T101747Z
UID:10000588-1872613800-1872624600@svio.nl
SUMMARY:MJA: Jongerenavonden
DESCRIPTION:Vandaag de dag zijn de jongerenavonden van MJA dé ontmoetingsplek voor moslims (jong en oud!) die van heinde en verre komen om hun religieuze kennis en identiteit te voeden en waar ze bouwen aan een sterk netwerk. Kom langs!
URL:https://svio.nl/evenement/jongerenavonden/2029-05-04/
LOCATION:Stichting voor Islamitische Ontwikkeling\, Markerkant 10\, 136H\, Almere\, Flevoland\, 1316AL\, Nederland
CATEGORIES:Broeders
ORGANIZER;CN="Moslimjongeren Almere":MAILTO:info@moslimjongerenalmere.nl
END:VEVENT
BEGIN:VEVENT
DTSTART;TZID=Europe/Paris:20290511T183000
DTEND;TZID=Europe/Paris:20290511T213000
DTSTAMP:20260419T195749
CREATED:20240502T142337Z
LAST-MODIFIED:20240523T101747Z
UID:10000589-1873218600-1873229400@svio.nl
SUMMARY:MJA: Jongerenavonden
DESCRIPTION:Vandaag de dag zijn de jongerenavonden van MJA dé ontmoetingsplek voor moslims (jong en oud!) die van heinde en verre komen om hun religieuze kennis en identiteit te voeden en waar ze bouwen aan een sterk netwerk. Kom langs!
URL:https://svio.nl/evenement/jongerenavonden/2029-05-11/
LOCATION:Stichting voor Islamitische Ontwikkeling\, Markerkant 10\, 136H\, Almere\, Flevoland\, 1316AL\, Nederland
CATEGORIES:Broeders
ORGANIZER;CN="Moslimjongeren Almere":MAILTO:info@moslimjongerenalmere.nl
END:VEVENT
BEGIN:VEVENT
DTSTART;TZID=Europe/Paris:20290518T183000
DTEND;TZID=Europe/Paris:20290518T213000
DTSTAMP:20260419T195749
CREATED:20240502T142337Z
LAST-MODIFIED:20240523T101747Z
UID:10000590-1873823400-1873834200@svio.nl
SUMMARY:MJA: Jongerenavonden
DESCRIPTION:Vandaag de dag zijn de jongerenavonden van MJA dé ontmoetingsplek voor moslims (jong en oud!) die van heinde en verre komen om hun religieuze kennis en identiteit te voeden en waar ze bouwen aan een sterk netwerk. Kom langs!
URL:https://svio.nl/evenement/jongerenavonden/2029-05-18/
LOCATION:Stichting voor Islamitische Ontwikkeling\, Markerkant 10\, 136H\, Almere\, Flevoland\, 1316AL\, Nederland
CATEGORIES:Broeders
ORGANIZER;CN="Moslimjongeren Almere":MAILTO:info@moslimjongerenalmere.nl
END:VEVENT
END:VCALENDAR