BEGIN:VCALENDAR
VERSION:2.0
PRODID:-//Stichting voor Islamitische Ontwikkeling - ECPv6.4.0//NONSGML v1.0//EN
CALSCALE:GREGORIAN
METHOD:PUBLISH
X-WR-CALNAME:Stichting voor Islamitische Ontwikkeling
X-ORIGINAL-URL:https://svio.nl
X-WR-CALDESC:Evenementen voor Stichting voor Islamitische Ontwikkeling
REFRESH-INTERVAL;VALUE=DURATION:PT1H
X-Robots-Tag:noindex
X-PUBLISHED-TTL:PT1H
BEGIN:VTIMEZONE
TZID:Europe/Paris
BEGIN:DAYLIGHT
TZOFFSETFROM:+0100
TZOFFSETTO:+0200
TZNAME:CEST
DTSTART:20270328T010000
END:DAYLIGHT
BEGIN:STANDARD
TZOFFSETFROM:+0200
TZOFFSETTO:+0100
TZNAME:CET
DTSTART:20271031T010000
END:STANDARD
END:VTIMEZONE
BEGIN:VEVENT
DTSTART;TZID=Europe/Paris:20271002T163000
DTEND;TZID=Europe/Paris:20271002T213000
DTSTAMP:20260420T085942
CREATED:20240523T101018Z
LAST-MODIFIED:20240523T101822Z
UID:10001073-1822494600-1822512600@svio.nl
SUMMARY:Sakienah: Zusteravond
DESCRIPTION:Sakienah biedt vrouwen en jonge meiden een veilige en inspirerende omgeving om elkaar te ontmoeten en spiritueel te groeien. Tijdens de zusteravonden en meidenmiddagen leren en reflecteren de zusters over spirituele onderwerpen en voeren waardevolle gesprekken. Met het laagdrempelige\, warme en open karakter van onze bijeenkomsten\, bouwen we aan echte zusterschap.
URL:https://svio.nl/evenement/sakienah-zusteravond/2027-10-02/
LOCATION:Stichting voor Islamitische Ontwikkeling\, Markerkant 10\, 136H\, Almere\, Flevoland\, 1316AL\, Nederland
CATEGORIES:Zusters
END:VEVENT
BEGIN:VEVENT
DTSTART;VALUE=DATE:20271002
DTEND;VALUE=DATE:20271004
DTSTAMP:20260420T085942
CREATED:20240523T094635Z
LAST-MODIFIED:20240523T094908Z
UID:10000892-1822514400-1822600799@svio.nl
SUMMARY:MJA: Lezing Moskee Abou Bakr
DESCRIPTION:Elke eerste zondag van de maand een lezing bij Moskee Abou Bakr (Almere – Stad) na salaat al-‘Asr
URL:https://svio.nl/evenement/mja-lezing-moskee-abou-bakr/2027-10-03/
LOCATION:Abou Bakr Moskee\, Clemenceaustraat 1\, Almere\, 1314 RL\, Nederland
CATEGORIES:Broeders & Zusters
ORGANIZER;CN="Moslimjongeren Almere":MAILTO:info@moslimjongerenalmere.nl
END:VEVENT
BEGIN:VEVENT
DTSTART;TZID=Europe/Paris:20271008T170000
DTEND;TZID=Europe/Paris:20271008T183000
DTSTAMP:20260420T085942
CREATED:20240523T093606Z
LAST-MODIFIED:20240523T093950Z
UID:10000767-1823014800-1823020200@svio.nl
SUMMARY:MJA: Uitleg van de Quraan I Ust. Umair Bantvawala
DESCRIPTION:
URL:https://svio.nl/evenement/uitleg-van-de-quraan/2027-10-08/
LOCATION:Stichting voor Islamitische Ontwikkeling\, Markerkant 10\, 136H\, Almere\, Flevoland\, 1316AL\, Nederland
CATEGORIES:Broeders & Zusters
ORGANIZER;CN="Moslimjongeren Almere":MAILTO:info@moslimjongerenalmere.nl
END:VEVENT
BEGIN:VEVENT
DTSTART;TZID=Europe/Paris:20271008T183000
DTEND;TZID=Europe/Paris:20271008T213000
DTSTAMP:20260420T085942
CREATED:20240502T142337Z
LAST-MODIFIED:20240523T101747Z
UID:10000506-1823020200-1823031000@svio.nl
SUMMARY:MJA: Jongerenavonden
DESCRIPTION:Vandaag de dag zijn de jongerenavonden van MJA dé ontmoetingsplek voor moslims (jong en oud!) die van heinde en verre komen om hun religieuze kennis en identiteit te voeden en waar ze bouwen aan een sterk netwerk. Kom langs!
URL:https://svio.nl/evenement/jongerenavonden/2027-10-08/
LOCATION:Stichting voor Islamitische Ontwikkeling\, Markerkant 10\, 136H\, Almere\, Flevoland\, 1316AL\, Nederland
CATEGORIES:Broeders
ORGANIZER;CN="Moslimjongeren Almere":MAILTO:info@moslimjongerenalmere.nl
END:VEVENT
BEGIN:VEVENT
DTSTART;TZID=Europe/Paris:20271010T120000
DTEND;TZID=Europe/Paris:20271010T150000
DTSTAMP:20260420T085942
CREATED:20240523T101224Z
LAST-MODIFIED:20240523T101813Z
UID:10001133-1823169600-1823180400@svio.nl
SUMMARY:Sakienah: Meidenmiddag
DESCRIPTION:Sakienah biedt vrouwen en jonge meiden een veilige en inspirerende omgeving om elkaar te ontmoeten en spiritueel te groeien. Tijdens de zusteravonden en meidenmiddagen leren en reflecteren de zusters over spirituele onderwerpen en voeren waardevolle gesprekken. Met het laagdrempelige\, warme en open karakter van onze bijeenkomsten\, bouwen we aan echte zusterschap.
URL:https://svio.nl/evenement/sakienah-meidenmiddag/2027-10-10/
LOCATION:Stichting voor Islamitische Ontwikkeling\, Markerkant 10\, 136H\, Almere\, Flevoland\, 1316AL\, Nederland
CATEGORIES:Zusters
END:VEVENT
BEGIN:VEVENT
DTSTART;TZID=Europe/Paris:20271015T170000
DTEND;TZID=Europe/Paris:20271015T183000
DTSTAMP:20260420T085942
CREATED:20240523T093606Z
LAST-MODIFIED:20240523T093950Z
UID:10000768-1823619600-1823625000@svio.nl
SUMMARY:MJA: Uitleg van de Quraan I Ust. Umair Bantvawala
DESCRIPTION:
URL:https://svio.nl/evenement/uitleg-van-de-quraan/2027-10-15/
LOCATION:Stichting voor Islamitische Ontwikkeling\, Markerkant 10\, 136H\, Almere\, Flevoland\, 1316AL\, Nederland
CATEGORIES:Broeders & Zusters
ORGANIZER;CN="Moslimjongeren Almere":MAILTO:info@moslimjongerenalmere.nl
END:VEVENT
BEGIN:VEVENT
DTSTART;TZID=Europe/Paris:20271015T183000
DTEND;TZID=Europe/Paris:20271015T213000
DTSTAMP:20260420T085942
CREATED:20240502T142337Z
LAST-MODIFIED:20240523T101747Z
UID:10000507-1823625000-1823635800@svio.nl
SUMMARY:MJA: Jongerenavonden
DESCRIPTION:Vandaag de dag zijn de jongerenavonden van MJA dé ontmoetingsplek voor moslims (jong en oud!) die van heinde en verre komen om hun religieuze kennis en identiteit te voeden en waar ze bouwen aan een sterk netwerk. Kom langs!
URL:https://svio.nl/evenement/jongerenavonden/2027-10-15/
LOCATION:Stichting voor Islamitische Ontwikkeling\, Markerkant 10\, 136H\, Almere\, Flevoland\, 1316AL\, Nederland
CATEGORIES:Broeders
ORGANIZER;CN="Moslimjongeren Almere":MAILTO:info@moslimjongerenalmere.nl
END:VEVENT
BEGIN:VEVENT
DTSTART;VALUE=DATE:20271016
DTEND;VALUE=DATE:20271018
DTSTAMP:20260420T085942
CREATED:20240523T095308Z
LAST-MODIFIED:20240523T095423Z
UID:10001012-1823724000-1823810399@svio.nl
SUMMARY:MJA: Lezing Moskee Omar Ibn al-Khattab
DESCRIPTION:Elke derde zondag van de maand een lezing bij Moskee Omar Ibn Al Khattab (Almere-Buiten) na salaat al-‘Asr
URL:https://svio.nl/evenement/mja-lezing-moskee-omar-ibn-al-khattab/2027-10-17/
LOCATION:Moskee Omar ibn al khattab\, Bintangweg 3\, Almere\, 1336 ND
CATEGORIES:Broeders & Zusters
ORGANIZER;CN="Moslimjongeren Almere":MAILTO:info@moslimjongerenalmere.nl
END:VEVENT
BEGIN:VEVENT
DTSTART;TZID=Europe/Paris:20271022T170000
DTEND;TZID=Europe/Paris:20271022T183000
DTSTAMP:20260420T085942
CREATED:20240523T093606Z
LAST-MODIFIED:20240523T093950Z
UID:10000769-1824224400-1824229800@svio.nl
SUMMARY:MJA: Uitleg van de Quraan I Ust. Umair Bantvawala
DESCRIPTION:
URL:https://svio.nl/evenement/uitleg-van-de-quraan/2027-10-22/
LOCATION:Stichting voor Islamitische Ontwikkeling\, Markerkant 10\, 136H\, Almere\, Flevoland\, 1316AL\, Nederland
CATEGORIES:Broeders & Zusters
ORGANIZER;CN="Moslimjongeren Almere":MAILTO:info@moslimjongerenalmere.nl
END:VEVENT
BEGIN:VEVENT
DTSTART;TZID=Europe/Paris:20271022T183000
DTEND;TZID=Europe/Paris:20271022T213000
DTSTAMP:20260420T085942
CREATED:20240502T142337Z
LAST-MODIFIED:20240523T101747Z
UID:10000508-1824229800-1824240600@svio.nl
SUMMARY:MJA: Jongerenavonden
DESCRIPTION:Vandaag de dag zijn de jongerenavonden van MJA dé ontmoetingsplek voor moslims (jong en oud!) die van heinde en verre komen om hun religieuze kennis en identiteit te voeden en waar ze bouwen aan een sterk netwerk. Kom langs!
URL:https://svio.nl/evenement/jongerenavonden/2027-10-22/
LOCATION:Stichting voor Islamitische Ontwikkeling\, Markerkant 10\, 136H\, Almere\, Flevoland\, 1316AL\, Nederland
CATEGORIES:Broeders
ORGANIZER;CN="Moslimjongeren Almere":MAILTO:info@moslimjongerenalmere.nl
END:VEVENT
BEGIN:VEVENT
DTSTART;TZID=Europe/Paris:20271029T170000
DTEND;TZID=Europe/Paris:20271029T183000
DTSTAMP:20260420T085942
CREATED:20240523T093606Z
LAST-MODIFIED:20240523T093950Z
UID:10000770-1824829200-1824834600@svio.nl
SUMMARY:MJA: Uitleg van de Quraan I Ust. Umair Bantvawala
DESCRIPTION:
URL:https://svio.nl/evenement/uitleg-van-de-quraan/2027-10-29/
LOCATION:Stichting voor Islamitische Ontwikkeling\, Markerkant 10\, 136H\, Almere\, Flevoland\, 1316AL\, Nederland
CATEGORIES:Broeders & Zusters
ORGANIZER;CN="Moslimjongeren Almere":MAILTO:info@moslimjongerenalmere.nl
END:VEVENT
BEGIN:VEVENT
DTSTART;TZID=Europe/Paris:20271029T183000
DTEND;TZID=Europe/Paris:20271029T213000
DTSTAMP:20260420T085942
CREATED:20240502T142337Z
LAST-MODIFIED:20240523T101747Z
UID:10000509-1824834600-1824845400@svio.nl
SUMMARY:MJA: Jongerenavonden
DESCRIPTION:Vandaag de dag zijn de jongerenavonden van MJA dé ontmoetingsplek voor moslims (jong en oud!) die van heinde en verre komen om hun religieuze kennis en identiteit te voeden en waar ze bouwen aan een sterk netwerk. Kom langs!
URL:https://svio.nl/evenement/jongerenavonden/2027-10-29/
LOCATION:Stichting voor Islamitische Ontwikkeling\, Markerkant 10\, 136H\, Almere\, Flevoland\, 1316AL\, Nederland
CATEGORIES:Broeders
ORGANIZER;CN="Moslimjongeren Almere":MAILTO:info@moslimjongerenalmere.nl
END:VEVENT
BEGIN:VEVENT
DTSTART;TZID=Europe/Paris:20271105T180000
DTEND;TZID=Europe/Paris:20271105T193000
DTSTAMP:20260420T085942
CREATED:20240523T093606Z
LAST-MODIFIED:20240523T093950Z
UID:10000771-1825437600-1825443000@svio.nl
SUMMARY:MJA: Uitleg van de Quraan I Ust. Umair Bantvawala
DESCRIPTION:
URL:https://svio.nl/evenement/uitleg-van-de-quraan/2027-11-05/
LOCATION:Stichting voor Islamitische Ontwikkeling\, Markerkant 10\, 136H\, Almere\, Flevoland\, 1316AL\, Nederland
CATEGORIES:Broeders & Zusters
ORGANIZER;CN="Moslimjongeren Almere":MAILTO:info@moslimjongerenalmere.nl
END:VEVENT
BEGIN:VEVENT
DTSTART;TZID=Europe/Paris:20271105T193000
DTEND;TZID=Europe/Paris:20271105T223000
DTSTAMP:20260420T085942
CREATED:20240502T142337Z
LAST-MODIFIED:20240523T101747Z
UID:10000510-1825443000-1825453800@svio.nl
SUMMARY:MJA: Jongerenavonden
DESCRIPTION:Vandaag de dag zijn de jongerenavonden van MJA dé ontmoetingsplek voor moslims (jong en oud!) die van heinde en verre komen om hun religieuze kennis en identiteit te voeden en waar ze bouwen aan een sterk netwerk. Kom langs!
URL:https://svio.nl/evenement/jongerenavonden/2027-11-05/
LOCATION:Stichting voor Islamitische Ontwikkeling\, Markerkant 10\, 136H\, Almere\, Flevoland\, 1316AL\, Nederland
CATEGORIES:Broeders
ORGANIZER;CN="Moslimjongeren Almere":MAILTO:info@moslimjongerenalmere.nl
END:VEVENT
BEGIN:VEVENT
DTSTART;TZID=Europe/Paris:20271106T173000
DTEND;TZID=Europe/Paris:20271106T223000
DTSTAMP:20260420T085942
CREATED:20240523T101018Z
LAST-MODIFIED:20240523T101822Z
UID:10001074-1825522200-1825540200@svio.nl
SUMMARY:Sakienah: Zusteravond
DESCRIPTION:Sakienah biedt vrouwen en jonge meiden een veilige en inspirerende omgeving om elkaar te ontmoeten en spiritueel te groeien. Tijdens de zusteravonden en meidenmiddagen leren en reflecteren de zusters over spirituele onderwerpen en voeren waardevolle gesprekken. Met het laagdrempelige\, warme en open karakter van onze bijeenkomsten\, bouwen we aan echte zusterschap.
URL:https://svio.nl/evenement/sakienah-zusteravond/2027-11-06/
LOCATION:Stichting voor Islamitische Ontwikkeling\, Markerkant 10\, 136H\, Almere\, Flevoland\, 1316AL\, Nederland
CATEGORIES:Zusters
END:VEVENT
BEGIN:VEVENT
DTSTART;VALUE=DATE:20271106
DTEND;VALUE=DATE:20271108
DTSTAMP:20260420T085942
CREATED:20240523T094635Z
LAST-MODIFIED:20240523T094908Z
UID:10000893-1825542000-1825628399@svio.nl
SUMMARY:MJA: Lezing Moskee Abou Bakr
DESCRIPTION:Elke eerste zondag van de maand een lezing bij Moskee Abou Bakr (Almere – Stad) na salaat al-‘Asr
URL:https://svio.nl/evenement/mja-lezing-moskee-abou-bakr/2027-11-07/
LOCATION:Abou Bakr Moskee\, Clemenceaustraat 1\, Almere\, 1314 RL\, Nederland
CATEGORIES:Broeders & Zusters
ORGANIZER;CN="Moslimjongeren Almere":MAILTO:info@moslimjongerenalmere.nl
END:VEVENT
BEGIN:VEVENT
DTSTART;TZID=Europe/Paris:20271112T180000
DTEND;TZID=Europe/Paris:20271112T193000
DTSTAMP:20260420T085942
CREATED:20240523T093606Z
LAST-MODIFIED:20240523T093950Z
UID:10000772-1826042400-1826047800@svio.nl
SUMMARY:MJA: Uitleg van de Quraan I Ust. Umair Bantvawala
DESCRIPTION:
URL:https://svio.nl/evenement/uitleg-van-de-quraan/2027-11-12/
LOCATION:Stichting voor Islamitische Ontwikkeling\, Markerkant 10\, 136H\, Almere\, Flevoland\, 1316AL\, Nederland
CATEGORIES:Broeders & Zusters
ORGANIZER;CN="Moslimjongeren Almere":MAILTO:info@moslimjongerenalmere.nl
END:VEVENT
BEGIN:VEVENT
DTSTART;TZID=Europe/Paris:20271112T193000
DTEND;TZID=Europe/Paris:20271112T223000
DTSTAMP:20260420T085942
CREATED:20240502T142337Z
LAST-MODIFIED:20240523T101747Z
UID:10000511-1826047800-1826058600@svio.nl
SUMMARY:MJA: Jongerenavonden
DESCRIPTION:Vandaag de dag zijn de jongerenavonden van MJA dé ontmoetingsplek voor moslims (jong en oud!) die van heinde en verre komen om hun religieuze kennis en identiteit te voeden en waar ze bouwen aan een sterk netwerk. Kom langs!
URL:https://svio.nl/evenement/jongerenavonden/2027-11-12/
LOCATION:Stichting voor Islamitische Ontwikkeling\, Markerkant 10\, 136H\, Almere\, Flevoland\, 1316AL\, Nederland
CATEGORIES:Broeders
ORGANIZER;CN="Moslimjongeren Almere":MAILTO:info@moslimjongerenalmere.nl
END:VEVENT
BEGIN:VEVENT
DTSTART;TZID=Europe/Paris:20271114T130000
DTEND;TZID=Europe/Paris:20271114T160000
DTSTAMP:20260420T085942
CREATED:20240523T101224Z
LAST-MODIFIED:20240523T101813Z
UID:10001134-1826197200-1826208000@svio.nl
SUMMARY:Sakienah: Meidenmiddag
DESCRIPTION:Sakienah biedt vrouwen en jonge meiden een veilige en inspirerende omgeving om elkaar te ontmoeten en spiritueel te groeien. Tijdens de zusteravonden en meidenmiddagen leren en reflecteren de zusters over spirituele onderwerpen en voeren waardevolle gesprekken. Met het laagdrempelige\, warme en open karakter van onze bijeenkomsten\, bouwen we aan echte zusterschap.
URL:https://svio.nl/evenement/sakienah-meidenmiddag/2027-11-14/
LOCATION:Stichting voor Islamitische Ontwikkeling\, Markerkant 10\, 136H\, Almere\, Flevoland\, 1316AL\, Nederland
CATEGORIES:Zusters
END:VEVENT
BEGIN:VEVENT
DTSTART;TZID=Europe/Paris:20271119T180000
DTEND;TZID=Europe/Paris:20271119T193000
DTSTAMP:20260420T085942
CREATED:20240523T093606Z
LAST-MODIFIED:20240523T093950Z
UID:10000773-1826647200-1826652600@svio.nl
SUMMARY:MJA: Uitleg van de Quraan I Ust. Umair Bantvawala
DESCRIPTION:
URL:https://svio.nl/evenement/uitleg-van-de-quraan/2027-11-19/
LOCATION:Stichting voor Islamitische Ontwikkeling\, Markerkant 10\, 136H\, Almere\, Flevoland\, 1316AL\, Nederland
CATEGORIES:Broeders & Zusters
ORGANIZER;CN="Moslimjongeren Almere":MAILTO:info@moslimjongerenalmere.nl
END:VEVENT
BEGIN:VEVENT
DTSTART;TZID=Europe/Paris:20271119T193000
DTEND;TZID=Europe/Paris:20271119T223000
DTSTAMP:20260420T085942
CREATED:20240502T142337Z
LAST-MODIFIED:20240523T101747Z
UID:10000512-1826652600-1826663400@svio.nl
SUMMARY:MJA: Jongerenavonden
DESCRIPTION:Vandaag de dag zijn de jongerenavonden van MJA dé ontmoetingsplek voor moslims (jong en oud!) die van heinde en verre komen om hun religieuze kennis en identiteit te voeden en waar ze bouwen aan een sterk netwerk. Kom langs!
URL:https://svio.nl/evenement/jongerenavonden/2027-11-19/
LOCATION:Stichting voor Islamitische Ontwikkeling\, Markerkant 10\, 136H\, Almere\, Flevoland\, 1316AL\, Nederland
CATEGORIES:Broeders
ORGANIZER;CN="Moslimjongeren Almere":MAILTO:info@moslimjongerenalmere.nl
END:VEVENT
BEGIN:VEVENT
DTSTART;VALUE=DATE:20271120
DTEND;VALUE=DATE:20271122
DTSTAMP:20260420T085942
CREATED:20240523T095308Z
LAST-MODIFIED:20240523T095423Z
UID:10001013-1826751600-1826837999@svio.nl
SUMMARY:MJA: Lezing Moskee Omar Ibn al-Khattab
DESCRIPTION:Elke derde zondag van de maand een lezing bij Moskee Omar Ibn Al Khattab (Almere-Buiten) na salaat al-‘Asr
URL:https://svio.nl/evenement/mja-lezing-moskee-omar-ibn-al-khattab/2027-11-21/
LOCATION:Moskee Omar ibn al khattab\, Bintangweg 3\, Almere\, 1336 ND
CATEGORIES:Broeders & Zusters
ORGANIZER;CN="Moslimjongeren Almere":MAILTO:info@moslimjongerenalmere.nl
END:VEVENT
BEGIN:VEVENT
DTSTART;TZID=Europe/Paris:20271126T180000
DTEND;TZID=Europe/Paris:20271126T193000
DTSTAMP:20260420T085942
CREATED:20240523T093606Z
LAST-MODIFIED:20240523T093950Z
UID:10000774-1827252000-1827257400@svio.nl
SUMMARY:MJA: Uitleg van de Quraan I Ust. Umair Bantvawala
DESCRIPTION:
URL:https://svio.nl/evenement/uitleg-van-de-quraan/2027-11-26/
LOCATION:Stichting voor Islamitische Ontwikkeling\, Markerkant 10\, 136H\, Almere\, Flevoland\, 1316AL\, Nederland
CATEGORIES:Broeders & Zusters
ORGANIZER;CN="Moslimjongeren Almere":MAILTO:info@moslimjongerenalmere.nl
END:VEVENT
BEGIN:VEVENT
DTSTART;TZID=Europe/Paris:20271126T193000
DTEND;TZID=Europe/Paris:20271126T223000
DTSTAMP:20260420T085942
CREATED:20240502T142337Z
LAST-MODIFIED:20240523T101747Z
UID:10000513-1827257400-1827268200@svio.nl
SUMMARY:MJA: Jongerenavonden
DESCRIPTION:Vandaag de dag zijn de jongerenavonden van MJA dé ontmoetingsplek voor moslims (jong en oud!) die van heinde en verre komen om hun religieuze kennis en identiteit te voeden en waar ze bouwen aan een sterk netwerk. Kom langs!
URL:https://svio.nl/evenement/jongerenavonden/2027-11-26/
LOCATION:Stichting voor Islamitische Ontwikkeling\, Markerkant 10\, 136H\, Almere\, Flevoland\, 1316AL\, Nederland
CATEGORIES:Broeders
ORGANIZER;CN="Moslimjongeren Almere":MAILTO:info@moslimjongerenalmere.nl
END:VEVENT
BEGIN:VEVENT
DTSTART;TZID=Europe/Paris:20271203T180000
DTEND;TZID=Europe/Paris:20271203T193000
DTSTAMP:20260420T085942
CREATED:20240523T093606Z
LAST-MODIFIED:20240523T093950Z
UID:10000775-1827856800-1827862200@svio.nl
SUMMARY:MJA: Uitleg van de Quraan I Ust. Umair Bantvawala
DESCRIPTION:
URL:https://svio.nl/evenement/uitleg-van-de-quraan/2027-12-03/
LOCATION:Stichting voor Islamitische Ontwikkeling\, Markerkant 10\, 136H\, Almere\, Flevoland\, 1316AL\, Nederland
CATEGORIES:Broeders & Zusters
ORGANIZER;CN="Moslimjongeren Almere":MAILTO:info@moslimjongerenalmere.nl
END:VEVENT
BEGIN:VEVENT
DTSTART;TZID=Europe/Paris:20271203T193000
DTEND;TZID=Europe/Paris:20271203T223000
DTSTAMP:20260420T085942
CREATED:20240502T142337Z
LAST-MODIFIED:20240523T101747Z
UID:10000514-1827862200-1827873000@svio.nl
SUMMARY:MJA: Jongerenavonden
DESCRIPTION:Vandaag de dag zijn de jongerenavonden van MJA dé ontmoetingsplek voor moslims (jong en oud!) die van heinde en verre komen om hun religieuze kennis en identiteit te voeden en waar ze bouwen aan een sterk netwerk. Kom langs!
URL:https://svio.nl/evenement/jongerenavonden/2027-12-03/
LOCATION:Stichting voor Islamitische Ontwikkeling\, Markerkant 10\, 136H\, Almere\, Flevoland\, 1316AL\, Nederland
CATEGORIES:Broeders
ORGANIZER;CN="Moslimjongeren Almere":MAILTO:info@moslimjongerenalmere.nl
END:VEVENT
BEGIN:VEVENT
DTSTART;TZID=Europe/Paris:20271204T173000
DTEND;TZID=Europe/Paris:20271204T223000
DTSTAMP:20260420T085942
CREATED:20240523T101018Z
LAST-MODIFIED:20240523T101822Z
UID:10001075-1827941400-1827959400@svio.nl
SUMMARY:Sakienah: Zusteravond
DESCRIPTION:Sakienah biedt vrouwen en jonge meiden een veilige en inspirerende omgeving om elkaar te ontmoeten en spiritueel te groeien. Tijdens de zusteravonden en meidenmiddagen leren en reflecteren de zusters over spirituele onderwerpen en voeren waardevolle gesprekken. Met het laagdrempelige\, warme en open karakter van onze bijeenkomsten\, bouwen we aan echte zusterschap.
URL:https://svio.nl/evenement/sakienah-zusteravond/2027-12-04/
LOCATION:Stichting voor Islamitische Ontwikkeling\, Markerkant 10\, 136H\, Almere\, Flevoland\, 1316AL\, Nederland
CATEGORIES:Zusters
END:VEVENT
BEGIN:VEVENT
DTSTART;VALUE=DATE:20271204
DTEND;VALUE=DATE:20271206
DTSTAMP:20260420T085942
CREATED:20240523T094635Z
LAST-MODIFIED:20240523T094908Z
UID:10000894-1827961200-1828047599@svio.nl
SUMMARY:MJA: Lezing Moskee Abou Bakr
DESCRIPTION:Elke eerste zondag van de maand een lezing bij Moskee Abou Bakr (Almere – Stad) na salaat al-‘Asr
URL:https://svio.nl/evenement/mja-lezing-moskee-abou-bakr/2027-12-05/
LOCATION:Abou Bakr Moskee\, Clemenceaustraat 1\, Almere\, 1314 RL\, Nederland
CATEGORIES:Broeders & Zusters
ORGANIZER;CN="Moslimjongeren Almere":MAILTO:info@moslimjongerenalmere.nl
END:VEVENT
BEGIN:VEVENT
DTSTART;TZID=Europe/Paris:20271210T180000
DTEND;TZID=Europe/Paris:20271210T193000
DTSTAMP:20260420T085942
CREATED:20240523T093606Z
LAST-MODIFIED:20240523T093950Z
UID:10000776-1828461600-1828467000@svio.nl
SUMMARY:MJA: Uitleg van de Quraan I Ust. Umair Bantvawala
DESCRIPTION:
URL:https://svio.nl/evenement/uitleg-van-de-quraan/2027-12-10/
LOCATION:Stichting voor Islamitische Ontwikkeling\, Markerkant 10\, 136H\, Almere\, Flevoland\, 1316AL\, Nederland
CATEGORIES:Broeders & Zusters
ORGANIZER;CN="Moslimjongeren Almere":MAILTO:info@moslimjongerenalmere.nl
END:VEVENT
BEGIN:VEVENT
DTSTART;TZID=Europe/Paris:20271210T193000
DTEND;TZID=Europe/Paris:20271210T223000
DTSTAMP:20260420T085942
CREATED:20240502T142337Z
LAST-MODIFIED:20240523T101747Z
UID:10000515-1828467000-1828477800@svio.nl
SUMMARY:MJA: Jongerenavonden
DESCRIPTION:Vandaag de dag zijn de jongerenavonden van MJA dé ontmoetingsplek voor moslims (jong en oud!) die van heinde en verre komen om hun religieuze kennis en identiteit te voeden en waar ze bouwen aan een sterk netwerk. Kom langs!
URL:https://svio.nl/evenement/jongerenavonden/2027-12-10/
LOCATION:Stichting voor Islamitische Ontwikkeling\, Markerkant 10\, 136H\, Almere\, Flevoland\, 1316AL\, Nederland
CATEGORIES:Broeders
ORGANIZER;CN="Moslimjongeren Almere":MAILTO:info@moslimjongerenalmere.nl
END:VEVENT
END:VCALENDAR