BEGIN:VCALENDAR
VERSION:2.0
PRODID:-//Stichting voor Islamitische Ontwikkeling - ECPv6.4.0//NONSGML v1.0//EN
CALSCALE:GREGORIAN
METHOD:PUBLISH
X-WR-CALNAME:Stichting voor Islamitische Ontwikkeling
X-ORIGINAL-URL:https://svio.nl
X-WR-CALDESC:Evenementen voor Stichting voor Islamitische Ontwikkeling
REFRESH-INTERVAL;VALUE=DURATION:PT1H
X-Robots-Tag:noindex
X-PUBLISHED-TTL:PT1H
BEGIN:VTIMEZONE
TZID:Europe/Paris
BEGIN:DAYLIGHT
TZOFFSETFROM:+0100
TZOFFSETTO:+0200
TZNAME:CEST
DTSTART:20240331T010000
END:DAYLIGHT
BEGIN:STANDARD
TZOFFSETFROM:+0200
TZOFFSETTO:+0100
TZNAME:CET
DTSTART:20241027T010000
END:STANDARD
END:VTIMEZONE
BEGIN:VEVENT
DTSTART;VALUE=DATE:20241102
DTEND;VALUE=DATE:20241104
DTSTAMP:20260422T024136
CREATED:20240523T094635Z
LAST-MODIFIED:20240523T094908Z
UID:10000857-1730588400-1730674799@svio.nl
SUMMARY:MJA: Lezing Moskee Abou Bakr
DESCRIPTION:Elke eerste zondag van de maand een lezing bij Moskee Abou Bakr (Almere – Stad) na salaat al-‘Asr
URL:https://svio.nl/evenement/mja-lezing-moskee-abou-bakr/2024-11-03/
LOCATION:Abou Bakr Moskee\, Clemenceaustraat 1\, Almere\, 1314 RL\, Nederland
CATEGORIES:Broeders & Zusters
ORGANIZER;CN="Moslimjongeren Almere":MAILTO:info@moslimjongerenalmere.nl
END:VEVENT
BEGIN:VEVENT
DTSTART;TZID=Europe/Paris:20241102T173000
DTEND;TZID=Europe/Paris:20241102T223000
DTSTAMP:20260422T024136
CREATED:20240523T101018Z
LAST-MODIFIED:20240523T101822Z
UID:10001038-1730568600-1730586600@svio.nl
SUMMARY:Sakienah: Zusteravond
DESCRIPTION:Sakienah biedt vrouwen en jonge meiden een veilige en inspirerende omgeving om elkaar te ontmoeten en spiritueel te groeien. Tijdens de zusteravonden en meidenmiddagen leren en reflecteren de zusters over spirituele onderwerpen en voeren waardevolle gesprekken. Met het laagdrempelige\, warme en open karakter van onze bijeenkomsten\, bouwen we aan echte zusterschap.
URL:https://svio.nl/evenement/sakienah-zusteravond/2024-11-02/
LOCATION:Stichting voor Islamitische Ontwikkeling\, Markerkant 10\, 136H\, Almere\, Flevoland\, 1316AL\, Nederland
CATEGORIES:Zusters
END:VEVENT
BEGIN:VEVENT
DTSTART;TZID=Europe/Paris:20241101T193000
DTEND;TZID=Europe/Paris:20241101T223000
DTSTAMP:20260422T024136
CREATED:20240502T142337Z
LAST-MODIFIED:20240523T101747Z
UID:10000353-1730489400-1730500200@svio.nl
SUMMARY:MJA: Jongerenavonden
DESCRIPTION:Vandaag de dag zijn de jongerenavonden van MJA dé ontmoetingsplek voor moslims (jong en oud!) die van heinde en verre komen om hun religieuze kennis en identiteit te voeden en waar ze bouwen aan een sterk netwerk. Kom langs!
URL:https://svio.nl/evenement/jongerenavonden/2024-11-01/
LOCATION:Stichting voor Islamitische Ontwikkeling\, Markerkant 10\, 136H\, Almere\, Flevoland\, 1316AL\, Nederland
CATEGORIES:Broeders
ORGANIZER;CN="Moslimjongeren Almere":MAILTO:info@moslimjongerenalmere.nl
END:VEVENT
BEGIN:VEVENT
DTSTART;TZID=Europe/Paris:20241101T180000
DTEND;TZID=Europe/Paris:20241101T193000
DTSTAMP:20260422T024136
CREATED:20240523T093606Z
LAST-MODIFIED:20240523T093950Z
UID:10000614-1730484000-1730489400@svio.nl
SUMMARY:MJA: Uitleg van de Quraan I Ust. Umair Bantvawala
DESCRIPTION:
URL:https://svio.nl/evenement/uitleg-van-de-quraan/2024-11-01/
LOCATION:Stichting voor Islamitische Ontwikkeling\, Markerkant 10\, 136H\, Almere\, Flevoland\, 1316AL\, Nederland
CATEGORIES:Broeders & Zusters
ORGANIZER;CN="Moslimjongeren Almere":MAILTO:info@moslimjongerenalmere.nl
END:VEVENT
BEGIN:VEVENT
DTSTART;TZID=Europe/Paris:20241025T183000
DTEND;TZID=Europe/Paris:20241025T213000
DTSTAMP:20260422T024136
CREATED:20240502T142337Z
LAST-MODIFIED:20240523T101747Z
UID:10000352-1729881000-1729891800@svio.nl
SUMMARY:MJA: Jongerenavonden
DESCRIPTION:Vandaag de dag zijn de jongerenavonden van MJA dé ontmoetingsplek voor moslims (jong en oud!) die van heinde en verre komen om hun religieuze kennis en identiteit te voeden en waar ze bouwen aan een sterk netwerk. Kom langs!
URL:https://svio.nl/evenement/jongerenavonden/2024-10-25/
LOCATION:Stichting voor Islamitische Ontwikkeling\, Markerkant 10\, 136H\, Almere\, Flevoland\, 1316AL\, Nederland
CATEGORIES:Broeders
ORGANIZER;CN="Moslimjongeren Almere":MAILTO:info@moslimjongerenalmere.nl
END:VEVENT
BEGIN:VEVENT
DTSTART;TZID=Europe/Paris:20241025T170000
DTEND;TZID=Europe/Paris:20241025T183000
DTSTAMP:20260422T024136
CREATED:20240523T093606Z
LAST-MODIFIED:20240523T093950Z
UID:10000613-1729875600-1729881000@svio.nl
SUMMARY:MJA: Uitleg van de Quraan I Ust. Umair Bantvawala
DESCRIPTION:
URL:https://svio.nl/evenement/uitleg-van-de-quraan/2024-10-25/
LOCATION:Stichting voor Islamitische Ontwikkeling\, Markerkant 10\, 136H\, Almere\, Flevoland\, 1316AL\, Nederland
CATEGORIES:Broeders & Zusters
ORGANIZER;CN="Moslimjongeren Almere":MAILTO:info@moslimjongerenalmere.nl
END:VEVENT
BEGIN:VEVENT
DTSTART;VALUE=DATE:20241019
DTEND;VALUE=DATE:20241021
DTSTAMP:20260422T024136
CREATED:20240523T095308Z
LAST-MODIFIED:20240523T095423Z
UID:10000976-1729375200-1729461599@svio.nl
SUMMARY:MJA: Lezing Moskee Omar Ibn al-Khattab
DESCRIPTION:Elke derde zondag van de maand een lezing bij Moskee Omar Ibn Al Khattab (Almere-Buiten) na salaat al-‘Asr
URL:https://svio.nl/evenement/mja-lezing-moskee-omar-ibn-al-khattab/2024-10-20/
LOCATION:Moskee Omar ibn al khattab\, Bintangweg 3\, Almere\, 1336 ND
CATEGORIES:Broeders & Zusters
ORGANIZER;CN="Moslimjongeren Almere":MAILTO:info@moslimjongerenalmere.nl
END:VEVENT
BEGIN:VEVENT
DTSTART;TZID=Europe/Paris:20241018T183000
DTEND;TZID=Europe/Paris:20241018T213000
DTSTAMP:20260422T024136
CREATED:20240502T142337Z
LAST-MODIFIED:20240523T101747Z
UID:10000351-1729276200-1729287000@svio.nl
SUMMARY:MJA: Jongerenavonden
DESCRIPTION:Vandaag de dag zijn de jongerenavonden van MJA dé ontmoetingsplek voor moslims (jong en oud!) die van heinde en verre komen om hun religieuze kennis en identiteit te voeden en waar ze bouwen aan een sterk netwerk. Kom langs!
URL:https://svio.nl/evenement/jongerenavonden/2024-10-18/
LOCATION:Stichting voor Islamitische Ontwikkeling\, Markerkant 10\, 136H\, Almere\, Flevoland\, 1316AL\, Nederland
CATEGORIES:Broeders
ORGANIZER;CN="Moslimjongeren Almere":MAILTO:info@moslimjongerenalmere.nl
END:VEVENT
BEGIN:VEVENT
DTSTART;TZID=Europe/Paris:20241018T170000
DTEND;TZID=Europe/Paris:20241018T183000
DTSTAMP:20260422T024136
CREATED:20240523T093606Z
LAST-MODIFIED:20240523T093950Z
UID:10000612-1729270800-1729276200@svio.nl
SUMMARY:MJA: Uitleg van de Quraan I Ust. Umair Bantvawala
DESCRIPTION:
URL:https://svio.nl/evenement/uitleg-van-de-quraan/2024-10-18/
LOCATION:Stichting voor Islamitische Ontwikkeling\, Markerkant 10\, 136H\, Almere\, Flevoland\, 1316AL\, Nederland
CATEGORIES:Broeders & Zusters
ORGANIZER;CN="Moslimjongeren Almere":MAILTO:info@moslimjongerenalmere.nl
END:VEVENT
BEGIN:VEVENT
DTSTART;TZID=Europe/Paris:20241013T120000
DTEND;TZID=Europe/Paris:20241013T150000
DTSTAMP:20260422T024136
CREATED:20240523T101224Z
LAST-MODIFIED:20240523T101813Z
UID:10001097-1728820800-1728831600@svio.nl
SUMMARY:Sakienah: Meidenmiddag
DESCRIPTION:Sakienah biedt vrouwen en jonge meiden een veilige en inspirerende omgeving om elkaar te ontmoeten en spiritueel te groeien. Tijdens de zusteravonden en meidenmiddagen leren en reflecteren de zusters over spirituele onderwerpen en voeren waardevolle gesprekken. Met het laagdrempelige\, warme en open karakter van onze bijeenkomsten\, bouwen we aan echte zusterschap.
URL:https://svio.nl/evenement/sakienah-meidenmiddag/2024-10-13/
LOCATION:Stichting voor Islamitische Ontwikkeling\, Markerkant 10\, 136H\, Almere\, Flevoland\, 1316AL\, Nederland
CATEGORIES:Zusters
END:VEVENT
BEGIN:VEVENT
DTSTART;TZID=Europe/Paris:20241011T183000
DTEND;TZID=Europe/Paris:20241011T213000
DTSTAMP:20260422T024136
CREATED:20240502T142337Z
LAST-MODIFIED:20240523T101747Z
UID:10000350-1728671400-1728682200@svio.nl
SUMMARY:MJA: Jongerenavonden
DESCRIPTION:Vandaag de dag zijn de jongerenavonden van MJA dé ontmoetingsplek voor moslims (jong en oud!) die van heinde en verre komen om hun religieuze kennis en identiteit te voeden en waar ze bouwen aan een sterk netwerk. Kom langs!
URL:https://svio.nl/evenement/jongerenavonden/2024-10-11/
LOCATION:Stichting voor Islamitische Ontwikkeling\, Markerkant 10\, 136H\, Almere\, Flevoland\, 1316AL\, Nederland
CATEGORIES:Broeders
ORGANIZER;CN="Moslimjongeren Almere":MAILTO:info@moslimjongerenalmere.nl
END:VEVENT
BEGIN:VEVENT
DTSTART;TZID=Europe/Paris:20241011T170000
DTEND;TZID=Europe/Paris:20241011T183000
DTSTAMP:20260422T024136
CREATED:20240523T093606Z
LAST-MODIFIED:20240523T093950Z
UID:10000611-1728666000-1728671400@svio.nl
SUMMARY:MJA: Uitleg van de Quraan I Ust. Umair Bantvawala
DESCRIPTION:
URL:https://svio.nl/evenement/uitleg-van-de-quraan/2024-10-11/
LOCATION:Stichting voor Islamitische Ontwikkeling\, Markerkant 10\, 136H\, Almere\, Flevoland\, 1316AL\, Nederland
CATEGORIES:Broeders & Zusters
ORGANIZER;CN="Moslimjongeren Almere":MAILTO:info@moslimjongerenalmere.nl
END:VEVENT
BEGIN:VEVENT
DTSTART;VALUE=DATE:20241005
DTEND;VALUE=DATE:20241007
DTSTAMP:20260422T024136
CREATED:20240523T094635Z
LAST-MODIFIED:20240523T094908Z
UID:10000856-1728165600-1728251999@svio.nl
SUMMARY:MJA: Lezing Moskee Abou Bakr
DESCRIPTION:Elke eerste zondag van de maand een lezing bij Moskee Abou Bakr (Almere – Stad) na salaat al-‘Asr
URL:https://svio.nl/evenement/mja-lezing-moskee-abou-bakr/2024-10-06/
LOCATION:Abou Bakr Moskee\, Clemenceaustraat 1\, Almere\, 1314 RL\, Nederland
CATEGORIES:Broeders & Zusters
ORGANIZER;CN="Moslimjongeren Almere":MAILTO:info@moslimjongerenalmere.nl
END:VEVENT
BEGIN:VEVENT
DTSTART;TZID=Europe/Paris:20241005T163000
DTEND;TZID=Europe/Paris:20241005T213000
DTSTAMP:20260422T024136
CREATED:20240523T101018Z
LAST-MODIFIED:20240523T101822Z
UID:10001037-1728145800-1728163800@svio.nl
SUMMARY:Sakienah: Zusteravond
DESCRIPTION:Sakienah biedt vrouwen en jonge meiden een veilige en inspirerende omgeving om elkaar te ontmoeten en spiritueel te groeien. Tijdens de zusteravonden en meidenmiddagen leren en reflecteren de zusters over spirituele onderwerpen en voeren waardevolle gesprekken. Met het laagdrempelige\, warme en open karakter van onze bijeenkomsten\, bouwen we aan echte zusterschap.
URL:https://svio.nl/evenement/sakienah-zusteravond/2024-10-05/
LOCATION:Stichting voor Islamitische Ontwikkeling\, Markerkant 10\, 136H\, Almere\, Flevoland\, 1316AL\, Nederland
CATEGORIES:Zusters
END:VEVENT
BEGIN:VEVENT
DTSTART;TZID=Europe/Paris:20241004T183000
DTEND;TZID=Europe/Paris:20241004T213000
DTSTAMP:20260422T024136
CREATED:20240502T142337Z
LAST-MODIFIED:20240523T101747Z
UID:10000349-1728066600-1728077400@svio.nl
SUMMARY:MJA: Jongerenavonden
DESCRIPTION:Vandaag de dag zijn de jongerenavonden van MJA dé ontmoetingsplek voor moslims (jong en oud!) die van heinde en verre komen om hun religieuze kennis en identiteit te voeden en waar ze bouwen aan een sterk netwerk. Kom langs!
URL:https://svio.nl/evenement/jongerenavonden/2024-10-04/
LOCATION:Stichting voor Islamitische Ontwikkeling\, Markerkant 10\, 136H\, Almere\, Flevoland\, 1316AL\, Nederland
CATEGORIES:Broeders
ORGANIZER;CN="Moslimjongeren Almere":MAILTO:info@moslimjongerenalmere.nl
END:VEVENT
BEGIN:VEVENT
DTSTART;TZID=Europe/Paris:20241004T170000
DTEND;TZID=Europe/Paris:20241004T183000
DTSTAMP:20260422T024136
CREATED:20240523T093606Z
LAST-MODIFIED:20240523T093950Z
UID:10000610-1728061200-1728066600@svio.nl
SUMMARY:MJA: Uitleg van de Quraan I Ust. Umair Bantvawala
DESCRIPTION:
URL:https://svio.nl/evenement/uitleg-van-de-quraan/2024-10-04/
LOCATION:Stichting voor Islamitische Ontwikkeling\, Markerkant 10\, 136H\, Almere\, Flevoland\, 1316AL\, Nederland
CATEGORIES:Broeders & Zusters
ORGANIZER;CN="Moslimjongeren Almere":MAILTO:info@moslimjongerenalmere.nl
END:VEVENT
BEGIN:VEVENT
DTSTART;TZID=Europe/Paris:20240927T183000
DTEND;TZID=Europe/Paris:20240927T213000
DTSTAMP:20260422T024136
CREATED:20240502T142337Z
LAST-MODIFIED:20240523T101747Z
UID:10000348-1727461800-1727472600@svio.nl
SUMMARY:MJA: Jongerenavonden
DESCRIPTION:Vandaag de dag zijn de jongerenavonden van MJA dé ontmoetingsplek voor moslims (jong en oud!) die van heinde en verre komen om hun religieuze kennis en identiteit te voeden en waar ze bouwen aan een sterk netwerk. Kom langs!
URL:https://svio.nl/evenement/jongerenavonden/2024-09-27/
LOCATION:Stichting voor Islamitische Ontwikkeling\, Markerkant 10\, 136H\, Almere\, Flevoland\, 1316AL\, Nederland
CATEGORIES:Broeders
ORGANIZER;CN="Moslimjongeren Almere":MAILTO:info@moslimjongerenalmere.nl
END:VEVENT
BEGIN:VEVENT
DTSTART;TZID=Europe/Paris:20240927T170000
DTEND;TZID=Europe/Paris:20240927T183000
DTSTAMP:20260422T024136
CREATED:20240523T093606Z
LAST-MODIFIED:20240523T093950Z
UID:10000609-1727456400-1727461800@svio.nl
SUMMARY:MJA: Uitleg van de Quraan I Ust. Umair Bantvawala
DESCRIPTION:
URL:https://svio.nl/evenement/uitleg-van-de-quraan/2024-09-27/
LOCATION:Stichting voor Islamitische Ontwikkeling\, Markerkant 10\, 136H\, Almere\, Flevoland\, 1316AL\, Nederland
CATEGORIES:Broeders & Zusters
ORGANIZER;CN="Moslimjongeren Almere":MAILTO:info@moslimjongerenalmere.nl
END:VEVENT
BEGIN:VEVENT
DTSTART;TZID=Europe/Paris:20240920T183000
DTEND;TZID=Europe/Paris:20240920T213000
DTSTAMP:20260422T024136
CREATED:20240502T142337Z
LAST-MODIFIED:20240523T101747Z
UID:10000347-1726857000-1726867800@svio.nl
SUMMARY:MJA: Jongerenavonden
DESCRIPTION:Vandaag de dag zijn de jongerenavonden van MJA dé ontmoetingsplek voor moslims (jong en oud!) die van heinde en verre komen om hun religieuze kennis en identiteit te voeden en waar ze bouwen aan een sterk netwerk. Kom langs!
URL:https://svio.nl/evenement/jongerenavonden/2024-09-20/
LOCATION:Stichting voor Islamitische Ontwikkeling\, Markerkant 10\, 136H\, Almere\, Flevoland\, 1316AL\, Nederland
CATEGORIES:Broeders
ORGANIZER;CN="Moslimjongeren Almere":MAILTO:info@moslimjongerenalmere.nl
END:VEVENT
BEGIN:VEVENT
DTSTART;TZID=Europe/Paris:20240920T170000
DTEND;TZID=Europe/Paris:20240920T183000
DTSTAMP:20260422T024136
CREATED:20240523T093606Z
LAST-MODIFIED:20240523T093950Z
UID:10000608-1726851600-1726857000@svio.nl
SUMMARY:MJA: Uitleg van de Quraan I Ust. Umair Bantvawala
DESCRIPTION:
URL:https://svio.nl/evenement/uitleg-van-de-quraan/2024-09-20/
LOCATION:Stichting voor Islamitische Ontwikkeling\, Markerkant 10\, 136H\, Almere\, Flevoland\, 1316AL\, Nederland
CATEGORIES:Broeders & Zusters
ORGANIZER;CN="Moslimjongeren Almere":MAILTO:info@moslimjongerenalmere.nl
END:VEVENT
BEGIN:VEVENT
DTSTART;VALUE=DATE:20240914
DTEND;VALUE=DATE:20240916
DTSTAMP:20260422T024136
CREATED:20240523T095308Z
LAST-MODIFIED:20240523T095423Z
UID:10000975-1726351200-1726437599@svio.nl
SUMMARY:MJA: Lezing Moskee Omar Ibn al-Khattab
DESCRIPTION:Elke derde zondag van de maand een lezing bij Moskee Omar Ibn Al Khattab (Almere-Buiten) na salaat al-‘Asr
URL:https://svio.nl/evenement/mja-lezing-moskee-omar-ibn-al-khattab/2024-09-15/
LOCATION:Moskee Omar ibn al khattab\, Bintangweg 3\, Almere\, 1336 ND
CATEGORIES:Broeders & Zusters
ORGANIZER;CN="Moslimjongeren Almere":MAILTO:info@moslimjongerenalmere.nl
END:VEVENT
BEGIN:VEVENT
DTSTART;TZID=Europe/Paris:20240913T183000
DTEND;TZID=Europe/Paris:20240913T213000
DTSTAMP:20260422T024136
CREATED:20240502T142337Z
LAST-MODIFIED:20240523T101747Z
UID:10000346-1726252200-1726263000@svio.nl
SUMMARY:MJA: Jongerenavonden
DESCRIPTION:Vandaag de dag zijn de jongerenavonden van MJA dé ontmoetingsplek voor moslims (jong en oud!) die van heinde en verre komen om hun religieuze kennis en identiteit te voeden en waar ze bouwen aan een sterk netwerk. Kom langs!
URL:https://svio.nl/evenement/jongerenavonden/2024-09-13/
LOCATION:Stichting voor Islamitische Ontwikkeling\, Markerkant 10\, 136H\, Almere\, Flevoland\, 1316AL\, Nederland
CATEGORIES:Broeders
ORGANIZER;CN="Moslimjongeren Almere":MAILTO:info@moslimjongerenalmere.nl
END:VEVENT
BEGIN:VEVENT
DTSTART;TZID=Europe/Paris:20240913T170000
DTEND;TZID=Europe/Paris:20240913T183000
DTSTAMP:20260422T024136
CREATED:20240523T093606Z
LAST-MODIFIED:20240523T093950Z
UID:10000607-1726246800-1726252200@svio.nl
SUMMARY:MJA: Uitleg van de Quraan I Ust. Umair Bantvawala
DESCRIPTION:
URL:https://svio.nl/evenement/uitleg-van-de-quraan/2024-09-13/
LOCATION:Stichting voor Islamitische Ontwikkeling\, Markerkant 10\, 136H\, Almere\, Flevoland\, 1316AL\, Nederland
CATEGORIES:Broeders & Zusters
ORGANIZER;CN="Moslimjongeren Almere":MAILTO:info@moslimjongerenalmere.nl
END:VEVENT
BEGIN:VEVENT
DTSTART;TZID=Europe/Paris:20240908T120000
DTEND;TZID=Europe/Paris:20240908T150000
DTSTAMP:20260422T024136
CREATED:20240523T101224Z
LAST-MODIFIED:20240523T101813Z
UID:10001096-1725796800-1725807600@svio.nl
SUMMARY:Sakienah: Meidenmiddag
DESCRIPTION:Sakienah biedt vrouwen en jonge meiden een veilige en inspirerende omgeving om elkaar te ontmoeten en spiritueel te groeien. Tijdens de zusteravonden en meidenmiddagen leren en reflecteren de zusters over spirituele onderwerpen en voeren waardevolle gesprekken. Met het laagdrempelige\, warme en open karakter van onze bijeenkomsten\, bouwen we aan echte zusterschap.
URL:https://svio.nl/evenement/sakienah-meidenmiddag/2024-09-08/
LOCATION:Stichting voor Islamitische Ontwikkeling\, Markerkant 10\, 136H\, Almere\, Flevoland\, 1316AL\, Nederland
CATEGORIES:Zusters
END:VEVENT
BEGIN:VEVENT
DTSTART;TZID=Europe/Paris:20240907T163000
DTEND;TZID=Europe/Paris:20240907T213000
DTSTAMP:20260422T024136
CREATED:20240523T101018Z
LAST-MODIFIED:20240523T101822Z
UID:10001036-1725726600-1725744600@svio.nl
SUMMARY:Sakienah: Zusteravond
DESCRIPTION:Sakienah biedt vrouwen en jonge meiden een veilige en inspirerende omgeving om elkaar te ontmoeten en spiritueel te groeien. Tijdens de zusteravonden en meidenmiddagen leren en reflecteren de zusters over spirituele onderwerpen en voeren waardevolle gesprekken. Met het laagdrempelige\, warme en open karakter van onze bijeenkomsten\, bouwen we aan echte zusterschap.
URL:https://svio.nl/evenement/sakienah-zusteravond/2024-09-07/
LOCATION:Stichting voor Islamitische Ontwikkeling\, Markerkant 10\, 136H\, Almere\, Flevoland\, 1316AL\, Nederland
CATEGORIES:Zusters
END:VEVENT
BEGIN:VEVENT
DTSTART;TZID=Europe/Paris:20240906T183000
DTEND;TZID=Europe/Paris:20240906T213000
DTSTAMP:20260422T024136
CREATED:20240502T142337Z
LAST-MODIFIED:20240523T101747Z
UID:10000345-1725647400-1725658200@svio.nl
SUMMARY:MJA: Jongerenavonden
DESCRIPTION:Vandaag de dag zijn de jongerenavonden van MJA dé ontmoetingsplek voor moslims (jong en oud!) die van heinde en verre komen om hun religieuze kennis en identiteit te voeden en waar ze bouwen aan een sterk netwerk. Kom langs!
URL:https://svio.nl/evenement/jongerenavonden/2024-09-06/
LOCATION:Stichting voor Islamitische Ontwikkeling\, Markerkant 10\, 136H\, Almere\, Flevoland\, 1316AL\, Nederland
CATEGORIES:Broeders
ORGANIZER;CN="Moslimjongeren Almere":MAILTO:info@moslimjongerenalmere.nl
END:VEVENT
BEGIN:VEVENT
DTSTART;TZID=Europe/Paris:20240906T170000
DTEND;TZID=Europe/Paris:20240906T183000
DTSTAMP:20260422T024136
CREATED:20240523T093606Z
LAST-MODIFIED:20240523T093950Z
UID:10000606-1725642000-1725647400@svio.nl
SUMMARY:MJA: Uitleg van de Quraan I Ust. Umair Bantvawala
DESCRIPTION:
URL:https://svio.nl/evenement/uitleg-van-de-quraan/2024-09-06/
LOCATION:Stichting voor Islamitische Ontwikkeling\, Markerkant 10\, 136H\, Almere\, Flevoland\, 1316AL\, Nederland
CATEGORIES:Broeders & Zusters
ORGANIZER;CN="Moslimjongeren Almere":MAILTO:info@moslimjongerenalmere.nl
END:VEVENT
BEGIN:VEVENT
DTSTART;VALUE=DATE:20240831
DTEND;VALUE=DATE:20240902
DTSTAMP:20260422T024136
CREATED:20240523T094635Z
LAST-MODIFIED:20240523T094908Z
UID:10000855-1725141600-1725227999@svio.nl
SUMMARY:MJA: Lezing Moskee Abou Bakr
DESCRIPTION:Elke eerste zondag van de maand een lezing bij Moskee Abou Bakr (Almere – Stad) na salaat al-‘Asr
URL:https://svio.nl/evenement/mja-lezing-moskee-abou-bakr/2024-09-01/
LOCATION:Abou Bakr Moskee\, Clemenceaustraat 1\, Almere\, 1314 RL\, Nederland
CATEGORIES:Broeders & Zusters
ORGANIZER;CN="Moslimjongeren Almere":MAILTO:info@moslimjongerenalmere.nl
END:VEVENT
BEGIN:VEVENT
DTSTART;TZID=Europe/Paris:20240830T183000
DTEND;TZID=Europe/Paris:20240830T213000
DTSTAMP:20260422T024136
CREATED:20240502T142337Z
LAST-MODIFIED:20240523T101747Z
UID:10000344-1725042600-1725053400@svio.nl
SUMMARY:MJA: Jongerenavonden
DESCRIPTION:Vandaag de dag zijn de jongerenavonden van MJA dé ontmoetingsplek voor moslims (jong en oud!) die van heinde en verre komen om hun religieuze kennis en identiteit te voeden en waar ze bouwen aan een sterk netwerk. Kom langs!
URL:https://svio.nl/evenement/jongerenavonden/2024-08-30/
LOCATION:Stichting voor Islamitische Ontwikkeling\, Markerkant 10\, 136H\, Almere\, Flevoland\, 1316AL\, Nederland
CATEGORIES:Broeders
ORGANIZER;CN="Moslimjongeren Almere":MAILTO:info@moslimjongerenalmere.nl
END:VEVENT
BEGIN:VEVENT
DTSTART;TZID=Europe/Paris:20240830T170000
DTEND;TZID=Europe/Paris:20240830T183000
DTSTAMP:20260422T024136
CREATED:20240523T093606Z
LAST-MODIFIED:20240523T093950Z
UID:10000605-1725037200-1725042600@svio.nl
SUMMARY:MJA: Uitleg van de Quraan I Ust. Umair Bantvawala
DESCRIPTION:
URL:https://svio.nl/evenement/uitleg-van-de-quraan/2024-08-30/
LOCATION:Stichting voor Islamitische Ontwikkeling\, Markerkant 10\, 136H\, Almere\, Flevoland\, 1316AL\, Nederland
CATEGORIES:Broeders & Zusters
ORGANIZER;CN="Moslimjongeren Almere":MAILTO:info@moslimjongerenalmere.nl
END:VEVENT
END:VCALENDAR