BEGIN:VCALENDAR
VERSION:2.0
PRODID:-//Stichting voor Islamitische Ontwikkeling - ECPv6.4.0//NONSGML v1.0//EN
CALSCALE:GREGORIAN
METHOD:PUBLISH
X-WR-CALNAME:Stichting voor Islamitische Ontwikkeling
X-ORIGINAL-URL:https://svio.nl
X-WR-CALDESC:Evenementen voor Stichting voor Islamitische Ontwikkeling
REFRESH-INTERVAL;VALUE=DURATION:PT1H
X-Robots-Tag:noindex
X-PUBLISHED-TTL:PT1H
BEGIN:VTIMEZONE
TZID:Europe/Paris
BEGIN:DAYLIGHT
TZOFFSETFROM:+0100
TZOFFSETTO:+0200
TZNAME:CEST
DTSTART:20280326T010000
END:DAYLIGHT
BEGIN:STANDARD
TZOFFSETFROM:+0200
TZOFFSETTO:+0100
TZNAME:CET
DTSTART:20281029T010000
END:STANDARD
END:VTIMEZONE
BEGIN:VEVENT
DTSTART;VALUE=DATE:20280819
DTEND;VALUE=DATE:20280821
DTSTAMP:20260421T064825
CREATED:20240523T095308Z
LAST-MODIFIED:20240523T095423Z
UID:10001022-1850335200-1850421599@svio.nl
SUMMARY:MJA: Lezing Moskee Omar Ibn al-Khattab
DESCRIPTION:Elke derde zondag van de maand een lezing bij Moskee Omar Ibn Al Khattab (Almere-Buiten) na salaat al-‘Asr
URL:https://svio.nl/evenement/mja-lezing-moskee-omar-ibn-al-khattab/2028-08-20/
LOCATION:Moskee Omar ibn al khattab\, Bintangweg 3\, Almere\, 1336 ND
CATEGORIES:Broeders & Zusters
ORGANIZER;CN="Moslimjongeren Almere":MAILTO:info@moslimjongerenalmere.nl
END:VEVENT
BEGIN:VEVENT
DTSTART;TZID=Europe/Paris:20280825T170000
DTEND;TZID=Europe/Paris:20280825T183000
DTSTAMP:20260421T064825
CREATED:20240523T093606Z
LAST-MODIFIED:20240523T093950Z
UID:10000813-1850835600-1850841000@svio.nl
SUMMARY:MJA: Uitleg van de Quraan I Ust. Umair Bantvawala
DESCRIPTION:
URL:https://svio.nl/evenement/uitleg-van-de-quraan/2028-08-25/
LOCATION:Stichting voor Islamitische Ontwikkeling\, Markerkant 10\, 136H\, Almere\, Flevoland\, 1316AL\, Nederland
CATEGORIES:Broeders & Zusters
ORGANIZER;CN="Moslimjongeren Almere":MAILTO:info@moslimjongerenalmere.nl
END:VEVENT
BEGIN:VEVENT
DTSTART;TZID=Europe/Paris:20280825T183000
DTEND;TZID=Europe/Paris:20280825T213000
DTSTAMP:20260421T064825
CREATED:20240502T142337Z
LAST-MODIFIED:20240523T101747Z
UID:10000552-1850841000-1850851800@svio.nl
SUMMARY:MJA: Jongerenavonden
DESCRIPTION:Vandaag de dag zijn de jongerenavonden van MJA dé ontmoetingsplek voor moslims (jong en oud!) die van heinde en verre komen om hun religieuze kennis en identiteit te voeden en waar ze bouwen aan een sterk netwerk. Kom langs!
URL:https://svio.nl/evenement/jongerenavonden/2028-08-25/
LOCATION:Stichting voor Islamitische Ontwikkeling\, Markerkant 10\, 136H\, Almere\, Flevoland\, 1316AL\, Nederland
CATEGORIES:Broeders
ORGANIZER;CN="Moslimjongeren Almere":MAILTO:info@moslimjongerenalmere.nl
END:VEVENT
BEGIN:VEVENT
DTSTART;TZID=Europe/Paris:20280901T170000
DTEND;TZID=Europe/Paris:20280901T183000
DTSTAMP:20260421T064825
CREATED:20240523T093606Z
LAST-MODIFIED:20240523T093950Z
UID:10000814-1851440400-1851445800@svio.nl
SUMMARY:MJA: Uitleg van de Quraan I Ust. Umair Bantvawala
DESCRIPTION:
URL:https://svio.nl/evenement/uitleg-van-de-quraan/2028-09-01/
LOCATION:Stichting voor Islamitische Ontwikkeling\, Markerkant 10\, 136H\, Almere\, Flevoland\, 1316AL\, Nederland
CATEGORIES:Broeders & Zusters
ORGANIZER;CN="Moslimjongeren Almere":MAILTO:info@moslimjongerenalmere.nl
END:VEVENT
BEGIN:VEVENT
DTSTART;TZID=Europe/Paris:20280901T183000
DTEND;TZID=Europe/Paris:20280901T213000
DTSTAMP:20260421T064825
CREATED:20240502T142337Z
LAST-MODIFIED:20240523T101747Z
UID:10000553-1851445800-1851456600@svio.nl
SUMMARY:MJA: Jongerenavonden
DESCRIPTION:Vandaag de dag zijn de jongerenavonden van MJA dé ontmoetingsplek voor moslims (jong en oud!) die van heinde en verre komen om hun religieuze kennis en identiteit te voeden en waar ze bouwen aan een sterk netwerk. Kom langs!
URL:https://svio.nl/evenement/jongerenavonden/2028-09-01/
LOCATION:Stichting voor Islamitische Ontwikkeling\, Markerkant 10\, 136H\, Almere\, Flevoland\, 1316AL\, Nederland
CATEGORIES:Broeders
ORGANIZER;CN="Moslimjongeren Almere":MAILTO:info@moslimjongerenalmere.nl
END:VEVENT
BEGIN:VEVENT
DTSTART;TZID=Europe/Paris:20280902T163000
DTEND;TZID=Europe/Paris:20280902T213000
DTSTAMP:20260421T064825
CREATED:20240523T101018Z
LAST-MODIFIED:20240523T101822Z
UID:10001084-1851525000-1851543000@svio.nl
SUMMARY:Sakienah: Zusteravond
DESCRIPTION:Sakienah biedt vrouwen en jonge meiden een veilige en inspirerende omgeving om elkaar te ontmoeten en spiritueel te groeien. Tijdens de zusteravonden en meidenmiddagen leren en reflecteren de zusters over spirituele onderwerpen en voeren waardevolle gesprekken. Met het laagdrempelige\, warme en open karakter van onze bijeenkomsten\, bouwen we aan echte zusterschap.
URL:https://svio.nl/evenement/sakienah-zusteravond/2028-09-02/
LOCATION:Stichting voor Islamitische Ontwikkeling\, Markerkant 10\, 136H\, Almere\, Flevoland\, 1316AL\, Nederland
CATEGORIES:Zusters
END:VEVENT
BEGIN:VEVENT
DTSTART;VALUE=DATE:20280902
DTEND;VALUE=DATE:20280904
DTSTAMP:20260421T064825
CREATED:20240523T094635Z
LAST-MODIFIED:20240523T094908Z
UID:10000903-1851544800-1851631199@svio.nl
SUMMARY:MJA: Lezing Moskee Abou Bakr
DESCRIPTION:Elke eerste zondag van de maand een lezing bij Moskee Abou Bakr (Almere – Stad) na salaat al-‘Asr
URL:https://svio.nl/evenement/mja-lezing-moskee-abou-bakr/2028-09-03/
LOCATION:Abou Bakr Moskee\, Clemenceaustraat 1\, Almere\, 1314 RL\, Nederland
CATEGORIES:Broeders & Zusters
ORGANIZER;CN="Moslimjongeren Almere":MAILTO:info@moslimjongerenalmere.nl
END:VEVENT
BEGIN:VEVENT
DTSTART;TZID=Europe/Paris:20280908T170000
DTEND;TZID=Europe/Paris:20280908T183000
DTSTAMP:20260421T064825
CREATED:20240523T093606Z
LAST-MODIFIED:20240523T093950Z
UID:10000815-1852045200-1852050600@svio.nl
SUMMARY:MJA: Uitleg van de Quraan I Ust. Umair Bantvawala
DESCRIPTION:
URL:https://svio.nl/evenement/uitleg-van-de-quraan/2028-09-08/
LOCATION:Stichting voor Islamitische Ontwikkeling\, Markerkant 10\, 136H\, Almere\, Flevoland\, 1316AL\, Nederland
CATEGORIES:Broeders & Zusters
ORGANIZER;CN="Moslimjongeren Almere":MAILTO:info@moslimjongerenalmere.nl
END:VEVENT
BEGIN:VEVENT
DTSTART;TZID=Europe/Paris:20280908T183000
DTEND;TZID=Europe/Paris:20280908T213000
DTSTAMP:20260421T064825
CREATED:20240502T142337Z
LAST-MODIFIED:20240523T101747Z
UID:10000554-1852050600-1852061400@svio.nl
SUMMARY:MJA: Jongerenavonden
DESCRIPTION:Vandaag de dag zijn de jongerenavonden van MJA dé ontmoetingsplek voor moslims (jong en oud!) die van heinde en verre komen om hun religieuze kennis en identiteit te voeden en waar ze bouwen aan een sterk netwerk. Kom langs!
URL:https://svio.nl/evenement/jongerenavonden/2028-09-08/
LOCATION:Stichting voor Islamitische Ontwikkeling\, Markerkant 10\, 136H\, Almere\, Flevoland\, 1316AL\, Nederland
CATEGORIES:Broeders
ORGANIZER;CN="Moslimjongeren Almere":MAILTO:info@moslimjongerenalmere.nl
END:VEVENT
BEGIN:VEVENT
DTSTART;TZID=Europe/Paris:20280910T120000
DTEND;TZID=Europe/Paris:20280910T150000
DTSTAMP:20260421T064825
CREATED:20240523T101224Z
LAST-MODIFIED:20240523T101813Z
UID:10001144-1852200000-1852210800@svio.nl
SUMMARY:Sakienah: Meidenmiddag
DESCRIPTION:Sakienah biedt vrouwen en jonge meiden een veilige en inspirerende omgeving om elkaar te ontmoeten en spiritueel te groeien. Tijdens de zusteravonden en meidenmiddagen leren en reflecteren de zusters over spirituele onderwerpen en voeren waardevolle gesprekken. Met het laagdrempelige\, warme en open karakter van onze bijeenkomsten\, bouwen we aan echte zusterschap.
URL:https://svio.nl/evenement/sakienah-meidenmiddag/2028-09-10/
LOCATION:Stichting voor Islamitische Ontwikkeling\, Markerkant 10\, 136H\, Almere\, Flevoland\, 1316AL\, Nederland
CATEGORIES:Zusters
END:VEVENT
BEGIN:VEVENT
DTSTART;TZID=Europe/Paris:20280915T170000
DTEND;TZID=Europe/Paris:20280915T183000
DTSTAMP:20260421T064825
CREATED:20240523T093606Z
LAST-MODIFIED:20240523T093950Z
UID:10000816-1852650000-1852655400@svio.nl
SUMMARY:MJA: Uitleg van de Quraan I Ust. Umair Bantvawala
DESCRIPTION:
URL:https://svio.nl/evenement/uitleg-van-de-quraan/2028-09-15/
LOCATION:Stichting voor Islamitische Ontwikkeling\, Markerkant 10\, 136H\, Almere\, Flevoland\, 1316AL\, Nederland
CATEGORIES:Broeders & Zusters
ORGANIZER;CN="Moslimjongeren Almere":MAILTO:info@moslimjongerenalmere.nl
END:VEVENT
BEGIN:VEVENT
DTSTART;TZID=Europe/Paris:20280915T183000
DTEND;TZID=Europe/Paris:20280915T213000
DTSTAMP:20260421T064825
CREATED:20240502T142337Z
LAST-MODIFIED:20240523T101747Z
UID:10000555-1852655400-1852666200@svio.nl
SUMMARY:MJA: Jongerenavonden
DESCRIPTION:Vandaag de dag zijn de jongerenavonden van MJA dé ontmoetingsplek voor moslims (jong en oud!) die van heinde en verre komen om hun religieuze kennis en identiteit te voeden en waar ze bouwen aan een sterk netwerk. Kom langs!
URL:https://svio.nl/evenement/jongerenavonden/2028-09-15/
LOCATION:Stichting voor Islamitische Ontwikkeling\, Markerkant 10\, 136H\, Almere\, Flevoland\, 1316AL\, Nederland
CATEGORIES:Broeders
ORGANIZER;CN="Moslimjongeren Almere":MAILTO:info@moslimjongerenalmere.nl
END:VEVENT
BEGIN:VEVENT
DTSTART;VALUE=DATE:20280916
DTEND;VALUE=DATE:20280918
DTSTAMP:20260421T064825
CREATED:20240523T095308Z
LAST-MODIFIED:20240523T095423Z
UID:10001023-1852754400-1852840799@svio.nl
SUMMARY:MJA: Lezing Moskee Omar Ibn al-Khattab
DESCRIPTION:Elke derde zondag van de maand een lezing bij Moskee Omar Ibn Al Khattab (Almere-Buiten) na salaat al-‘Asr
URL:https://svio.nl/evenement/mja-lezing-moskee-omar-ibn-al-khattab/2028-09-17/
LOCATION:Moskee Omar ibn al khattab\, Bintangweg 3\, Almere\, 1336 ND
CATEGORIES:Broeders & Zusters
ORGANIZER;CN="Moslimjongeren Almere":MAILTO:info@moslimjongerenalmere.nl
END:VEVENT
BEGIN:VEVENT
DTSTART;TZID=Europe/Paris:20280922T170000
DTEND;TZID=Europe/Paris:20280922T183000
DTSTAMP:20260421T064825
CREATED:20240523T093606Z
LAST-MODIFIED:20240523T093950Z
UID:10000817-1853254800-1853260200@svio.nl
SUMMARY:MJA: Uitleg van de Quraan I Ust. Umair Bantvawala
DESCRIPTION:
URL:https://svio.nl/evenement/uitleg-van-de-quraan/2028-09-22/
LOCATION:Stichting voor Islamitische Ontwikkeling\, Markerkant 10\, 136H\, Almere\, Flevoland\, 1316AL\, Nederland
CATEGORIES:Broeders & Zusters
ORGANIZER;CN="Moslimjongeren Almere":MAILTO:info@moslimjongerenalmere.nl
END:VEVENT
BEGIN:VEVENT
DTSTART;TZID=Europe/Paris:20280922T183000
DTEND;TZID=Europe/Paris:20280922T213000
DTSTAMP:20260421T064825
CREATED:20240502T142337Z
LAST-MODIFIED:20240523T101747Z
UID:10000556-1853260200-1853271000@svio.nl
SUMMARY:MJA: Jongerenavonden
DESCRIPTION:Vandaag de dag zijn de jongerenavonden van MJA dé ontmoetingsplek voor moslims (jong en oud!) die van heinde en verre komen om hun religieuze kennis en identiteit te voeden en waar ze bouwen aan een sterk netwerk. Kom langs!
URL:https://svio.nl/evenement/jongerenavonden/2028-09-22/
LOCATION:Stichting voor Islamitische Ontwikkeling\, Markerkant 10\, 136H\, Almere\, Flevoland\, 1316AL\, Nederland
CATEGORIES:Broeders
ORGANIZER;CN="Moslimjongeren Almere":MAILTO:info@moslimjongerenalmere.nl
END:VEVENT
BEGIN:VEVENT
DTSTART;TZID=Europe/Paris:20280929T170000
DTEND;TZID=Europe/Paris:20280929T183000
DTSTAMP:20260421T064825
CREATED:20240523T093606Z
LAST-MODIFIED:20240523T093950Z
UID:10000818-1853859600-1853865000@svio.nl
SUMMARY:MJA: Uitleg van de Quraan I Ust. Umair Bantvawala
DESCRIPTION:
URL:https://svio.nl/evenement/uitleg-van-de-quraan/2028-09-29/
LOCATION:Stichting voor Islamitische Ontwikkeling\, Markerkant 10\, 136H\, Almere\, Flevoland\, 1316AL\, Nederland
CATEGORIES:Broeders & Zusters
ORGANIZER;CN="Moslimjongeren Almere":MAILTO:info@moslimjongerenalmere.nl
END:VEVENT
BEGIN:VEVENT
DTSTART;TZID=Europe/Paris:20280929T183000
DTEND;TZID=Europe/Paris:20280929T213000
DTSTAMP:20260421T064825
CREATED:20240502T142337Z
LAST-MODIFIED:20240523T101747Z
UID:10000557-1853865000-1853875800@svio.nl
SUMMARY:MJA: Jongerenavonden
DESCRIPTION:Vandaag de dag zijn de jongerenavonden van MJA dé ontmoetingsplek voor moslims (jong en oud!) die van heinde en verre komen om hun religieuze kennis en identiteit te voeden en waar ze bouwen aan een sterk netwerk. Kom langs!
URL:https://svio.nl/evenement/jongerenavonden/2028-09-29/
LOCATION:Stichting voor Islamitische Ontwikkeling\, Markerkant 10\, 136H\, Almere\, Flevoland\, 1316AL\, Nederland
CATEGORIES:Broeders
ORGANIZER;CN="Moslimjongeren Almere":MAILTO:info@moslimjongerenalmere.nl
END:VEVENT
BEGIN:VEVENT
DTSTART;VALUE=DATE:20280930
DTEND;VALUE=DATE:20281002
DTSTAMP:20260421T064825
CREATED:20240523T094635Z
LAST-MODIFIED:20240523T094908Z
UID:10000904-1853964000-1854050399@svio.nl
SUMMARY:MJA: Lezing Moskee Abou Bakr
DESCRIPTION:Elke eerste zondag van de maand een lezing bij Moskee Abou Bakr (Almere – Stad) na salaat al-‘Asr
URL:https://svio.nl/evenement/mja-lezing-moskee-abou-bakr/2028-10-01/
LOCATION:Abou Bakr Moskee\, Clemenceaustraat 1\, Almere\, 1314 RL\, Nederland
CATEGORIES:Broeders & Zusters
ORGANIZER;CN="Moslimjongeren Almere":MAILTO:info@moslimjongerenalmere.nl
END:VEVENT
BEGIN:VEVENT
DTSTART;TZID=Europe/Paris:20281006T170000
DTEND;TZID=Europe/Paris:20281006T183000
DTSTAMP:20260421T064825
CREATED:20240523T093606Z
LAST-MODIFIED:20240523T093950Z
UID:10000819-1854464400-1854469800@svio.nl
SUMMARY:MJA: Uitleg van de Quraan I Ust. Umair Bantvawala
DESCRIPTION:
URL:https://svio.nl/evenement/uitleg-van-de-quraan/2028-10-06/
LOCATION:Stichting voor Islamitische Ontwikkeling\, Markerkant 10\, 136H\, Almere\, Flevoland\, 1316AL\, Nederland
CATEGORIES:Broeders & Zusters
ORGANIZER;CN="Moslimjongeren Almere":MAILTO:info@moslimjongerenalmere.nl
END:VEVENT
BEGIN:VEVENT
DTSTART;TZID=Europe/Paris:20281006T183000
DTEND;TZID=Europe/Paris:20281006T213000
DTSTAMP:20260421T064825
CREATED:20240502T142337Z
LAST-MODIFIED:20240523T101747Z
UID:10000558-1854469800-1854480600@svio.nl
SUMMARY:MJA: Jongerenavonden
DESCRIPTION:Vandaag de dag zijn de jongerenavonden van MJA dé ontmoetingsplek voor moslims (jong en oud!) die van heinde en verre komen om hun religieuze kennis en identiteit te voeden en waar ze bouwen aan een sterk netwerk. Kom langs!
URL:https://svio.nl/evenement/jongerenavonden/2028-10-06/
LOCATION:Stichting voor Islamitische Ontwikkeling\, Markerkant 10\, 136H\, Almere\, Flevoland\, 1316AL\, Nederland
CATEGORIES:Broeders
ORGANIZER;CN="Moslimjongeren Almere":MAILTO:info@moslimjongerenalmere.nl
END:VEVENT
BEGIN:VEVENT
DTSTART;TZID=Europe/Paris:20281007T163000
DTEND;TZID=Europe/Paris:20281007T213000
DTSTAMP:20260421T064825
CREATED:20240523T101018Z
LAST-MODIFIED:20240523T101822Z
UID:10001085-1854549000-1854567000@svio.nl
SUMMARY:Sakienah: Zusteravond
DESCRIPTION:Sakienah biedt vrouwen en jonge meiden een veilige en inspirerende omgeving om elkaar te ontmoeten en spiritueel te groeien. Tijdens de zusteravonden en meidenmiddagen leren en reflecteren de zusters over spirituele onderwerpen en voeren waardevolle gesprekken. Met het laagdrempelige\, warme en open karakter van onze bijeenkomsten\, bouwen we aan echte zusterschap.
URL:https://svio.nl/evenement/sakienah-zusteravond/2028-10-07/
LOCATION:Stichting voor Islamitische Ontwikkeling\, Markerkant 10\, 136H\, Almere\, Flevoland\, 1316AL\, Nederland
CATEGORIES:Zusters
END:VEVENT
BEGIN:VEVENT
DTSTART;TZID=Europe/Paris:20281008T120000
DTEND;TZID=Europe/Paris:20281008T150000
DTSTAMP:20260421T064825
CREATED:20240523T101224Z
LAST-MODIFIED:20240523T101813Z
UID:10001145-1854619200-1854630000@svio.nl
SUMMARY:Sakienah: Meidenmiddag
DESCRIPTION:Sakienah biedt vrouwen en jonge meiden een veilige en inspirerende omgeving om elkaar te ontmoeten en spiritueel te groeien. Tijdens de zusteravonden en meidenmiddagen leren en reflecteren de zusters over spirituele onderwerpen en voeren waardevolle gesprekken. Met het laagdrempelige\, warme en open karakter van onze bijeenkomsten\, bouwen we aan echte zusterschap.
URL:https://svio.nl/evenement/sakienah-meidenmiddag/2028-10-08/
LOCATION:Stichting voor Islamitische Ontwikkeling\, Markerkant 10\, 136H\, Almere\, Flevoland\, 1316AL\, Nederland
CATEGORIES:Zusters
END:VEVENT
BEGIN:VEVENT
DTSTART;TZID=Europe/Paris:20281013T170000
DTEND;TZID=Europe/Paris:20281013T183000
DTSTAMP:20260421T064825
CREATED:20240523T093606Z
LAST-MODIFIED:20240523T093950Z
UID:10000820-1855069200-1855074600@svio.nl
SUMMARY:MJA: Uitleg van de Quraan I Ust. Umair Bantvawala
DESCRIPTION:
URL:https://svio.nl/evenement/uitleg-van-de-quraan/2028-10-13/
LOCATION:Stichting voor Islamitische Ontwikkeling\, Markerkant 10\, 136H\, Almere\, Flevoland\, 1316AL\, Nederland
CATEGORIES:Broeders & Zusters
ORGANIZER;CN="Moslimjongeren Almere":MAILTO:info@moslimjongerenalmere.nl
END:VEVENT
BEGIN:VEVENT
DTSTART;TZID=Europe/Paris:20281013T183000
DTEND;TZID=Europe/Paris:20281013T213000
DTSTAMP:20260421T064825
CREATED:20240502T142337Z
LAST-MODIFIED:20240523T101747Z
UID:10000559-1855074600-1855085400@svio.nl
SUMMARY:MJA: Jongerenavonden
DESCRIPTION:Vandaag de dag zijn de jongerenavonden van MJA dé ontmoetingsplek voor moslims (jong en oud!) die van heinde en verre komen om hun religieuze kennis en identiteit te voeden en waar ze bouwen aan een sterk netwerk. Kom langs!
URL:https://svio.nl/evenement/jongerenavonden/2028-10-13/
LOCATION:Stichting voor Islamitische Ontwikkeling\, Markerkant 10\, 136H\, Almere\, Flevoland\, 1316AL\, Nederland
CATEGORIES:Broeders
ORGANIZER;CN="Moslimjongeren Almere":MAILTO:info@moslimjongerenalmere.nl
END:VEVENT
BEGIN:VEVENT
DTSTART;VALUE=DATE:20281014
DTEND;VALUE=DATE:20281016
DTSTAMP:20260421T064825
CREATED:20240523T095308Z
LAST-MODIFIED:20240523T095423Z
UID:10001024-1855173600-1855259999@svio.nl
SUMMARY:MJA: Lezing Moskee Omar Ibn al-Khattab
DESCRIPTION:Elke derde zondag van de maand een lezing bij Moskee Omar Ibn Al Khattab (Almere-Buiten) na salaat al-‘Asr
URL:https://svio.nl/evenement/mja-lezing-moskee-omar-ibn-al-khattab/2028-10-15/
LOCATION:Moskee Omar ibn al khattab\, Bintangweg 3\, Almere\, 1336 ND
CATEGORIES:Broeders & Zusters
ORGANIZER;CN="Moslimjongeren Almere":MAILTO:info@moslimjongerenalmere.nl
END:VEVENT
BEGIN:VEVENT
DTSTART;TZID=Europe/Paris:20281020T170000
DTEND;TZID=Europe/Paris:20281020T183000
DTSTAMP:20260421T064825
CREATED:20240523T093606Z
LAST-MODIFIED:20240523T093950Z
UID:10000821-1855674000-1855679400@svio.nl
SUMMARY:MJA: Uitleg van de Quraan I Ust. Umair Bantvawala
DESCRIPTION:
URL:https://svio.nl/evenement/uitleg-van-de-quraan/2028-10-20/
LOCATION:Stichting voor Islamitische Ontwikkeling\, Markerkant 10\, 136H\, Almere\, Flevoland\, 1316AL\, Nederland
CATEGORIES:Broeders & Zusters
ORGANIZER;CN="Moslimjongeren Almere":MAILTO:info@moslimjongerenalmere.nl
END:VEVENT
BEGIN:VEVENT
DTSTART;TZID=Europe/Paris:20281020T183000
DTEND;TZID=Europe/Paris:20281020T213000
DTSTAMP:20260421T064825
CREATED:20240502T142337Z
LAST-MODIFIED:20240523T101747Z
UID:10000560-1855679400-1855690200@svio.nl
SUMMARY:MJA: Jongerenavonden
DESCRIPTION:Vandaag de dag zijn de jongerenavonden van MJA dé ontmoetingsplek voor moslims (jong en oud!) die van heinde en verre komen om hun religieuze kennis en identiteit te voeden en waar ze bouwen aan een sterk netwerk. Kom langs!
URL:https://svio.nl/evenement/jongerenavonden/2028-10-20/
LOCATION:Stichting voor Islamitische Ontwikkeling\, Markerkant 10\, 136H\, Almere\, Flevoland\, 1316AL\, Nederland
CATEGORIES:Broeders
ORGANIZER;CN="Moslimjongeren Almere":MAILTO:info@moslimjongerenalmere.nl
END:VEVENT
BEGIN:VEVENT
DTSTART;TZID=Europe/Paris:20281027T170000
DTEND;TZID=Europe/Paris:20281027T183000
DTSTAMP:20260421T064825
CREATED:20240523T093606Z
LAST-MODIFIED:20240523T093950Z
UID:10000822-1856278800-1856284200@svio.nl
SUMMARY:MJA: Uitleg van de Quraan I Ust. Umair Bantvawala
DESCRIPTION:
URL:https://svio.nl/evenement/uitleg-van-de-quraan/2028-10-27/
LOCATION:Stichting voor Islamitische Ontwikkeling\, Markerkant 10\, 136H\, Almere\, Flevoland\, 1316AL\, Nederland
CATEGORIES:Broeders & Zusters
ORGANIZER;CN="Moslimjongeren Almere":MAILTO:info@moslimjongerenalmere.nl
END:VEVENT
BEGIN:VEVENT
DTSTART;TZID=Europe/Paris:20281027T183000
DTEND;TZID=Europe/Paris:20281027T213000
DTSTAMP:20260421T064825
CREATED:20240502T142337Z
LAST-MODIFIED:20240523T101747Z
UID:10000561-1856284200-1856295000@svio.nl
SUMMARY:MJA: Jongerenavonden
DESCRIPTION:Vandaag de dag zijn de jongerenavonden van MJA dé ontmoetingsplek voor moslims (jong en oud!) die van heinde en verre komen om hun religieuze kennis en identiteit te voeden en waar ze bouwen aan een sterk netwerk. Kom langs!
URL:https://svio.nl/evenement/jongerenavonden/2028-10-27/
LOCATION:Stichting voor Islamitische Ontwikkeling\, Markerkant 10\, 136H\, Almere\, Flevoland\, 1316AL\, Nederland
CATEGORIES:Broeders
ORGANIZER;CN="Moslimjongeren Almere":MAILTO:info@moslimjongerenalmere.nl
END:VEVENT
BEGIN:VEVENT
DTSTART;TZID=Europe/Paris:20281103T180000
DTEND;TZID=Europe/Paris:20281103T193000
DTSTAMP:20260421T064825
CREATED:20240523T093606Z
LAST-MODIFIED:20240523T093950Z
UID:10000823-1856887200-1856892600@svio.nl
SUMMARY:MJA: Uitleg van de Quraan I Ust. Umair Bantvawala
DESCRIPTION:
URL:https://svio.nl/evenement/uitleg-van-de-quraan/2028-11-03/
LOCATION:Stichting voor Islamitische Ontwikkeling\, Markerkant 10\, 136H\, Almere\, Flevoland\, 1316AL\, Nederland
CATEGORIES:Broeders & Zusters
ORGANIZER;CN="Moslimjongeren Almere":MAILTO:info@moslimjongerenalmere.nl
END:VEVENT
END:VCALENDAR