BEGIN:VCALENDAR
VERSION:2.0
PRODID:-//Stichting voor Islamitische Ontwikkeling - ECPv6.4.0//NONSGML v1.0//EN
CALSCALE:GREGORIAN
METHOD:PUBLISH
X-ORIGINAL-URL:https://svio.nl
X-WR-CALDESC:Evenementen voor Stichting voor Islamitische Ontwikkeling
REFRESH-INTERVAL;VALUE=DURATION:PT1H
X-Robots-Tag:noindex
X-PUBLISHED-TTL:PT1H
BEGIN:VTIMEZONE
TZID:Europe/Paris
BEGIN:DAYLIGHT
TZOFFSETFROM:+0100
TZOFFSETTO:+0200
TZNAME:CEST
DTSTART:20260329T010000
END:DAYLIGHT
BEGIN:STANDARD
TZOFFSETFROM:+0200
TZOFFSETTO:+0100
TZNAME:CET
DTSTART:20261025T010000
END:STANDARD
END:VTIMEZONE
BEGIN:VEVENT
DTSTART;TZID=Europe/Paris:20260515T183000
DTEND;TZID=Europe/Paris:20260515T213000
DTSTAMP:20260419T143641
CREATED:20240502T142337Z
LAST-MODIFIED:20240523T101747Z
UID:10000433-1778869800-1778880600@svio.nl
SUMMARY:MJA: Jongerenavonden
DESCRIPTION:Vandaag de dag zijn de jongerenavonden van MJA dé ontmoetingsplek voor moslims (jong en oud!) die van heinde en verre komen om hun religieuze kennis en identiteit te voeden en waar ze bouwen aan een sterk netwerk. Kom langs!
URL:https://svio.nl/evenement/jongerenavonden/2026-05-15/
LOCATION:Stichting voor Islamitische Ontwikkeling\, Markerkant 10\, 136H\, Almere\, Flevoland\, 1316AL\, Nederland
CATEGORIES:Broeders
ORGANIZER;CN="Moslimjongeren Almere":MAILTO:info@moslimjongerenalmere.nl
END:VEVENT
BEGIN:VEVENT
DTSTART;VALUE=DATE:20260516
DTEND;VALUE=DATE:20260518
DTSTAMP:20260419T143641
CREATED:20240523T095308Z
LAST-MODIFIED:20240523T095423Z
UID:10000995-1778968800-1779055199@svio.nl
SUMMARY:MJA: Lezing Moskee Omar Ibn al-Khattab
DESCRIPTION:Elke derde zondag van de maand een lezing bij Moskee Omar Ibn Al Khattab (Almere-Buiten) na salaat al-‘Asr
URL:https://svio.nl/evenement/mja-lezing-moskee-omar-ibn-al-khattab/2026-05-17/
LOCATION:Moskee Omar ibn al khattab\, Bintangweg 3\, Almere\, 1336 ND
CATEGORIES:Broeders & Zusters
ORGANIZER;CN="Moslimjongeren Almere":MAILTO:info@moslimjongerenalmere.nl
END:VEVENT
BEGIN:VEVENT
DTSTART;TZID=Europe/Paris:20260522T170000
DTEND;TZID=Europe/Paris:20260522T183000
DTSTAMP:20260419T143641
CREATED:20240523T093606Z
LAST-MODIFIED:20240523T093950Z
UID:10000695-1779469200-1779474600@svio.nl
SUMMARY:MJA: Uitleg van de Quraan I Ust. Umair Bantvawala
DESCRIPTION:
URL:https://svio.nl/evenement/uitleg-van-de-quraan/2026-05-22/
LOCATION:Stichting voor Islamitische Ontwikkeling\, Markerkant 10\, 136H\, Almere\, Flevoland\, 1316AL\, Nederland
CATEGORIES:Broeders & Zusters
ORGANIZER;CN="Moslimjongeren Almere":MAILTO:info@moslimjongerenalmere.nl
END:VEVENT
BEGIN:VEVENT
DTSTART;TZID=Europe/Paris:20260522T183000
DTEND;TZID=Europe/Paris:20260522T213000
DTSTAMP:20260419T143641
CREATED:20240502T142337Z
LAST-MODIFIED:20240523T101747Z
UID:10000434-1779474600-1779485400@svio.nl
SUMMARY:MJA: Jongerenavonden
DESCRIPTION:Vandaag de dag zijn de jongerenavonden van MJA dé ontmoetingsplek voor moslims (jong en oud!) die van heinde en verre komen om hun religieuze kennis en identiteit te voeden en waar ze bouwen aan een sterk netwerk. Kom langs!
URL:https://svio.nl/evenement/jongerenavonden/2026-05-22/
LOCATION:Stichting voor Islamitische Ontwikkeling\, Markerkant 10\, 136H\, Almere\, Flevoland\, 1316AL\, Nederland
CATEGORIES:Broeders
ORGANIZER;CN="Moslimjongeren Almere":MAILTO:info@moslimjongerenalmere.nl
END:VEVENT
BEGIN:VEVENT
DTSTART;TZID=Europe/Paris:20260529T170000
DTEND;TZID=Europe/Paris:20260529T183000
DTSTAMP:20260419T143641
CREATED:20240523T093606Z
LAST-MODIFIED:20240523T093950Z
UID:10000696-1780074000-1780079400@svio.nl
SUMMARY:MJA: Uitleg van de Quraan I Ust. Umair Bantvawala
DESCRIPTION:
URL:https://svio.nl/evenement/uitleg-van-de-quraan/2026-05-29/
LOCATION:Stichting voor Islamitische Ontwikkeling\, Markerkant 10\, 136H\, Almere\, Flevoland\, 1316AL\, Nederland
CATEGORIES:Broeders & Zusters
ORGANIZER;CN="Moslimjongeren Almere":MAILTO:info@moslimjongerenalmere.nl
END:VEVENT
BEGIN:VEVENT
DTSTART;TZID=Europe/Paris:20260529T183000
DTEND;TZID=Europe/Paris:20260529T213000
DTSTAMP:20260419T143641
CREATED:20240502T142337Z
LAST-MODIFIED:20240523T101747Z
UID:10000435-1780079400-1780090200@svio.nl
SUMMARY:MJA: Jongerenavonden
DESCRIPTION:Vandaag de dag zijn de jongerenavonden van MJA dé ontmoetingsplek voor moslims (jong en oud!) die van heinde en verre komen om hun religieuze kennis en identiteit te voeden en waar ze bouwen aan een sterk netwerk. Kom langs!
URL:https://svio.nl/evenement/jongerenavonden/2026-05-29/
LOCATION:Stichting voor Islamitische Ontwikkeling\, Markerkant 10\, 136H\, Almere\, Flevoland\, 1316AL\, Nederland
CATEGORIES:Broeders
ORGANIZER;CN="Moslimjongeren Almere":MAILTO:info@moslimjongerenalmere.nl
END:VEVENT
BEGIN:VEVENT
DTSTART;TZID=Europe/Paris:20260605T170000
DTEND;TZID=Europe/Paris:20260605T183000
DTSTAMP:20260419T143641
CREATED:20240523T093606Z
LAST-MODIFIED:20240523T093950Z
UID:10000697-1780678800-1780684200@svio.nl
SUMMARY:MJA: Uitleg van de Quraan I Ust. Umair Bantvawala
DESCRIPTION:
URL:https://svio.nl/evenement/uitleg-van-de-quraan/2026-06-05/
LOCATION:Stichting voor Islamitische Ontwikkeling\, Markerkant 10\, 136H\, Almere\, Flevoland\, 1316AL\, Nederland
CATEGORIES:Broeders & Zusters
ORGANIZER;CN="Moslimjongeren Almere":MAILTO:info@moslimjongerenalmere.nl
END:VEVENT
BEGIN:VEVENT
DTSTART;TZID=Europe/Paris:20260605T183000
DTEND;TZID=Europe/Paris:20260605T213000
DTSTAMP:20260419T143641
CREATED:20240502T142337Z
LAST-MODIFIED:20240523T101747Z
UID:10000436-1780684200-1780695000@svio.nl
SUMMARY:MJA: Jongerenavonden
DESCRIPTION:Vandaag de dag zijn de jongerenavonden van MJA dé ontmoetingsplek voor moslims (jong en oud!) die van heinde en verre komen om hun religieuze kennis en identiteit te voeden en waar ze bouwen aan een sterk netwerk. Kom langs!
URL:https://svio.nl/evenement/jongerenavonden/2026-06-05/
LOCATION:Stichting voor Islamitische Ontwikkeling\, Markerkant 10\, 136H\, Almere\, Flevoland\, 1316AL\, Nederland
CATEGORIES:Broeders
ORGANIZER;CN="Moslimjongeren Almere":MAILTO:info@moslimjongerenalmere.nl
END:VEVENT
BEGIN:VEVENT
DTSTART;VALUE=DATE:20260606
DTEND;VALUE=DATE:20260608
DTSTAMP:20260419T143641
CREATED:20240523T094635Z
LAST-MODIFIED:20240523T094908Z
UID:10000876-1780783200-1780869599@svio.nl
SUMMARY:MJA: Lezing Moskee Abou Bakr
DESCRIPTION:Elke eerste zondag van de maand een lezing bij Moskee Abou Bakr (Almere – Stad) na salaat al-‘Asr
URL:https://svio.nl/evenement/mja-lezing-moskee-abou-bakr/2026-06-07/
LOCATION:Abou Bakr Moskee\, Clemenceaustraat 1\, Almere\, 1314 RL\, Nederland
CATEGORIES:Broeders & Zusters
ORGANIZER;CN="Moslimjongeren Almere":MAILTO:info@moslimjongerenalmere.nl
END:VEVENT
BEGIN:VEVENT
DTSTART;TZID=Europe/Paris:20260612T170000
DTEND;TZID=Europe/Paris:20260612T183000
DTSTAMP:20260419T143641
CREATED:20240523T093606Z
LAST-MODIFIED:20240523T093950Z
UID:10000698-1781283600-1781289000@svio.nl
SUMMARY:MJA: Uitleg van de Quraan I Ust. Umair Bantvawala
DESCRIPTION:
URL:https://svio.nl/evenement/uitleg-van-de-quraan/2026-06-12/
LOCATION:Stichting voor Islamitische Ontwikkeling\, Markerkant 10\, 136H\, Almere\, Flevoland\, 1316AL\, Nederland
CATEGORIES:Broeders & Zusters
ORGANIZER;CN="Moslimjongeren Almere":MAILTO:info@moslimjongerenalmere.nl
END:VEVENT
BEGIN:VEVENT
DTSTART;TZID=Europe/Paris:20260612T183000
DTEND;TZID=Europe/Paris:20260612T213000
DTSTAMP:20260419T143641
CREATED:20240502T142337Z
LAST-MODIFIED:20240523T101747Z
UID:10000437-1781289000-1781299800@svio.nl
SUMMARY:MJA: Jongerenavonden
DESCRIPTION:Vandaag de dag zijn de jongerenavonden van MJA dé ontmoetingsplek voor moslims (jong en oud!) die van heinde en verre komen om hun religieuze kennis en identiteit te voeden en waar ze bouwen aan een sterk netwerk. Kom langs!
URL:https://svio.nl/evenement/jongerenavonden/2026-06-12/
LOCATION:Stichting voor Islamitische Ontwikkeling\, Markerkant 10\, 136H\, Almere\, Flevoland\, 1316AL\, Nederland
CATEGORIES:Broeders
ORGANIZER;CN="Moslimjongeren Almere":MAILTO:info@moslimjongerenalmere.nl
END:VEVENT
BEGIN:VEVENT
DTSTART;TZID=Europe/Paris:20260619T170000
DTEND;TZID=Europe/Paris:20260619T183000
DTSTAMP:20260419T143641
CREATED:20240523T093606Z
LAST-MODIFIED:20240523T093950Z
UID:10000699-1781888400-1781893800@svio.nl
SUMMARY:MJA: Uitleg van de Quraan I Ust. Umair Bantvawala
DESCRIPTION:
URL:https://svio.nl/evenement/uitleg-van-de-quraan/2026-06-19/
LOCATION:Stichting voor Islamitische Ontwikkeling\, Markerkant 10\, 136H\, Almere\, Flevoland\, 1316AL\, Nederland
CATEGORIES:Broeders & Zusters
ORGANIZER;CN="Moslimjongeren Almere":MAILTO:info@moslimjongerenalmere.nl
END:VEVENT
BEGIN:VEVENT
DTSTART;TZID=Europe/Paris:20260619T183000
DTEND;TZID=Europe/Paris:20260619T213000
DTSTAMP:20260419T143641
CREATED:20240502T142337Z
LAST-MODIFIED:20240523T101747Z
UID:10000438-1781893800-1781904600@svio.nl
SUMMARY:MJA: Jongerenavonden
DESCRIPTION:Vandaag de dag zijn de jongerenavonden van MJA dé ontmoetingsplek voor moslims (jong en oud!) die van heinde en verre komen om hun religieuze kennis en identiteit te voeden en waar ze bouwen aan een sterk netwerk. Kom langs!
URL:https://svio.nl/evenement/jongerenavonden/2026-06-19/
LOCATION:Stichting voor Islamitische Ontwikkeling\, Markerkant 10\, 136H\, Almere\, Flevoland\, 1316AL\, Nederland
CATEGORIES:Broeders
ORGANIZER;CN="Moslimjongeren Almere":MAILTO:info@moslimjongerenalmere.nl
END:VEVENT
BEGIN:VEVENT
DTSTART;VALUE=DATE:20260620
DTEND;VALUE=DATE:20260622
DTSTAMP:20260419T143641
CREATED:20240523T095308Z
LAST-MODIFIED:20240523T095423Z
UID:10000996-1781992800-1782079199@svio.nl
SUMMARY:MJA: Lezing Moskee Omar Ibn al-Khattab
DESCRIPTION:Elke derde zondag van de maand een lezing bij Moskee Omar Ibn Al Khattab (Almere-Buiten) na salaat al-‘Asr
URL:https://svio.nl/evenement/mja-lezing-moskee-omar-ibn-al-khattab/2026-06-21/
LOCATION:Moskee Omar ibn al khattab\, Bintangweg 3\, Almere\, 1336 ND
CATEGORIES:Broeders & Zusters
ORGANIZER;CN="Moslimjongeren Almere":MAILTO:info@moslimjongerenalmere.nl
END:VEVENT
BEGIN:VEVENT
DTSTART;TZID=Europe/Paris:20260626T170000
DTEND;TZID=Europe/Paris:20260626T183000
DTSTAMP:20260419T143641
CREATED:20240523T093606Z
LAST-MODIFIED:20240523T093950Z
UID:10000700-1782493200-1782498600@svio.nl
SUMMARY:MJA: Uitleg van de Quraan I Ust. Umair Bantvawala
DESCRIPTION:
URL:https://svio.nl/evenement/uitleg-van-de-quraan/2026-06-26/
LOCATION:Stichting voor Islamitische Ontwikkeling\, Markerkant 10\, 136H\, Almere\, Flevoland\, 1316AL\, Nederland
CATEGORIES:Broeders & Zusters
ORGANIZER;CN="Moslimjongeren Almere":MAILTO:info@moslimjongerenalmere.nl
END:VEVENT
BEGIN:VEVENT
DTSTART;TZID=Europe/Paris:20260626T183000
DTEND;TZID=Europe/Paris:20260626T213000
DTSTAMP:20260419T143641
CREATED:20240502T142337Z
LAST-MODIFIED:20240523T101747Z
UID:10000439-1782498600-1782509400@svio.nl
SUMMARY:MJA: Jongerenavonden
DESCRIPTION:Vandaag de dag zijn de jongerenavonden van MJA dé ontmoetingsplek voor moslims (jong en oud!) die van heinde en verre komen om hun religieuze kennis en identiteit te voeden en waar ze bouwen aan een sterk netwerk. Kom langs!
URL:https://svio.nl/evenement/jongerenavonden/2026-06-26/
LOCATION:Stichting voor Islamitische Ontwikkeling\, Markerkant 10\, 136H\, Almere\, Flevoland\, 1316AL\, Nederland
CATEGORIES:Broeders
ORGANIZER;CN="Moslimjongeren Almere":MAILTO:info@moslimjongerenalmere.nl
END:VEVENT
BEGIN:VEVENT
DTSTART;TZID=Europe/Paris:20260703T170000
DTEND;TZID=Europe/Paris:20260703T183000
DTSTAMP:20260419T143641
CREATED:20240523T093606Z
LAST-MODIFIED:20240523T093950Z
UID:10000701-1783098000-1783103400@svio.nl
SUMMARY:MJA: Uitleg van de Quraan I Ust. Umair Bantvawala
DESCRIPTION:
URL:https://svio.nl/evenement/uitleg-van-de-quraan/2026-07-03/
LOCATION:Stichting voor Islamitische Ontwikkeling\, Markerkant 10\, 136H\, Almere\, Flevoland\, 1316AL\, Nederland
CATEGORIES:Broeders & Zusters
ORGANIZER;CN="Moslimjongeren Almere":MAILTO:info@moslimjongerenalmere.nl
END:VEVENT
BEGIN:VEVENT
DTSTART;TZID=Europe/Paris:20260703T183000
DTEND;TZID=Europe/Paris:20260703T213000
DTSTAMP:20260419T143641
CREATED:20240502T142337Z
LAST-MODIFIED:20240523T101747Z
UID:10000440-1783103400-1783114200@svio.nl
SUMMARY:MJA: Jongerenavonden
DESCRIPTION:Vandaag de dag zijn de jongerenavonden van MJA dé ontmoetingsplek voor moslims (jong en oud!) die van heinde en verre komen om hun religieuze kennis en identiteit te voeden en waar ze bouwen aan een sterk netwerk. Kom langs!
URL:https://svio.nl/evenement/jongerenavonden/2026-07-03/
LOCATION:Stichting voor Islamitische Ontwikkeling\, Markerkant 10\, 136H\, Almere\, Flevoland\, 1316AL\, Nederland
CATEGORIES:Broeders
ORGANIZER;CN="Moslimjongeren Almere":MAILTO:info@moslimjongerenalmere.nl
END:VEVENT
BEGIN:VEVENT
DTSTART;VALUE=DATE:20260704
DTEND;VALUE=DATE:20260706
DTSTAMP:20260419T143641
CREATED:20240523T094635Z
LAST-MODIFIED:20240523T094908Z
UID:10000877-1783202400-1783288799@svio.nl
SUMMARY:MJA: Lezing Moskee Abou Bakr
DESCRIPTION:Elke eerste zondag van de maand een lezing bij Moskee Abou Bakr (Almere – Stad) na salaat al-‘Asr
URL:https://svio.nl/evenement/mja-lezing-moskee-abou-bakr/2026-07-05/
LOCATION:Abou Bakr Moskee\, Clemenceaustraat 1\, Almere\, 1314 RL\, Nederland
CATEGORIES:Broeders & Zusters
ORGANIZER;CN="Moslimjongeren Almere":MAILTO:info@moslimjongerenalmere.nl
END:VEVENT
BEGIN:VEVENT
DTSTART;TZID=Europe/Paris:20260710T170000
DTEND;TZID=Europe/Paris:20260710T183000
DTSTAMP:20260419T143641
CREATED:20240523T093606Z
LAST-MODIFIED:20240523T093950Z
UID:10000702-1783702800-1783708200@svio.nl
SUMMARY:MJA: Uitleg van de Quraan I Ust. Umair Bantvawala
DESCRIPTION:
URL:https://svio.nl/evenement/uitleg-van-de-quraan/2026-07-10/
LOCATION:Stichting voor Islamitische Ontwikkeling\, Markerkant 10\, 136H\, Almere\, Flevoland\, 1316AL\, Nederland
CATEGORIES:Broeders & Zusters
ORGANIZER;CN="Moslimjongeren Almere":MAILTO:info@moslimjongerenalmere.nl
END:VEVENT
BEGIN:VEVENT
DTSTART;TZID=Europe/Paris:20260710T183000
DTEND;TZID=Europe/Paris:20260710T213000
DTSTAMP:20260419T143641
CREATED:20240502T142337Z
LAST-MODIFIED:20240523T101747Z
UID:10000441-1783708200-1783719000@svio.nl
SUMMARY:MJA: Jongerenavonden
DESCRIPTION:Vandaag de dag zijn de jongerenavonden van MJA dé ontmoetingsplek voor moslims (jong en oud!) die van heinde en verre komen om hun religieuze kennis en identiteit te voeden en waar ze bouwen aan een sterk netwerk. Kom langs!
URL:https://svio.nl/evenement/jongerenavonden/2026-07-10/
LOCATION:Stichting voor Islamitische Ontwikkeling\, Markerkant 10\, 136H\, Almere\, Flevoland\, 1316AL\, Nederland
CATEGORIES:Broeders
ORGANIZER;CN="Moslimjongeren Almere":MAILTO:info@moslimjongerenalmere.nl
END:VEVENT
BEGIN:VEVENT
DTSTART;TZID=Europe/Paris:20260717T170000
DTEND;TZID=Europe/Paris:20260717T183000
DTSTAMP:20260419T143641
CREATED:20240523T093606Z
LAST-MODIFIED:20240523T093950Z
UID:10000703-1784307600-1784313000@svio.nl
SUMMARY:MJA: Uitleg van de Quraan I Ust. Umair Bantvawala
DESCRIPTION:
URL:https://svio.nl/evenement/uitleg-van-de-quraan/2026-07-17/
LOCATION:Stichting voor Islamitische Ontwikkeling\, Markerkant 10\, 136H\, Almere\, Flevoland\, 1316AL\, Nederland
CATEGORIES:Broeders & Zusters
ORGANIZER;CN="Moslimjongeren Almere":MAILTO:info@moslimjongerenalmere.nl
END:VEVENT
BEGIN:VEVENT
DTSTART;TZID=Europe/Paris:20260717T183000
DTEND;TZID=Europe/Paris:20260717T213000
DTSTAMP:20260419T143641
CREATED:20240502T142337Z
LAST-MODIFIED:20240523T101747Z
UID:10000442-1784313000-1784323800@svio.nl
SUMMARY:MJA: Jongerenavonden
DESCRIPTION:Vandaag de dag zijn de jongerenavonden van MJA dé ontmoetingsplek voor moslims (jong en oud!) die van heinde en verre komen om hun religieuze kennis en identiteit te voeden en waar ze bouwen aan een sterk netwerk. Kom langs!
URL:https://svio.nl/evenement/jongerenavonden/2026-07-17/
LOCATION:Stichting voor Islamitische Ontwikkeling\, Markerkant 10\, 136H\, Almere\, Flevoland\, 1316AL\, Nederland
CATEGORIES:Broeders
ORGANIZER;CN="Moslimjongeren Almere":MAILTO:info@moslimjongerenalmere.nl
END:VEVENT
BEGIN:VEVENT
DTSTART;VALUE=DATE:20260718
DTEND;VALUE=DATE:20260720
DTSTAMP:20260419T143641
CREATED:20240523T095308Z
LAST-MODIFIED:20240523T095423Z
UID:10000997-1784412000-1784498399@svio.nl
SUMMARY:MJA: Lezing Moskee Omar Ibn al-Khattab
DESCRIPTION:Elke derde zondag van de maand een lezing bij Moskee Omar Ibn Al Khattab (Almere-Buiten) na salaat al-‘Asr
URL:https://svio.nl/evenement/mja-lezing-moskee-omar-ibn-al-khattab/2026-07-19/
LOCATION:Moskee Omar ibn al khattab\, Bintangweg 3\, Almere\, 1336 ND
CATEGORIES:Broeders & Zusters
ORGANIZER;CN="Moslimjongeren Almere":MAILTO:info@moslimjongerenalmere.nl
END:VEVENT
BEGIN:VEVENT
DTSTART;TZID=Europe/Paris:20260724T170000
DTEND;TZID=Europe/Paris:20260724T183000
DTSTAMP:20260419T143641
CREATED:20240523T093606Z
LAST-MODIFIED:20240523T093950Z
UID:10000704-1784912400-1784917800@svio.nl
SUMMARY:MJA: Uitleg van de Quraan I Ust. Umair Bantvawala
DESCRIPTION:
URL:https://svio.nl/evenement/uitleg-van-de-quraan/2026-07-24/
LOCATION:Stichting voor Islamitische Ontwikkeling\, Markerkant 10\, 136H\, Almere\, Flevoland\, 1316AL\, Nederland
CATEGORIES:Broeders & Zusters
ORGANIZER;CN="Moslimjongeren Almere":MAILTO:info@moslimjongerenalmere.nl
END:VEVENT
BEGIN:VEVENT
DTSTART;TZID=Europe/Paris:20260724T183000
DTEND;TZID=Europe/Paris:20260724T213000
DTSTAMP:20260419T143641
CREATED:20240502T142337Z
LAST-MODIFIED:20240523T101747Z
UID:10000443-1784917800-1784928600@svio.nl
SUMMARY:MJA: Jongerenavonden
DESCRIPTION:Vandaag de dag zijn de jongerenavonden van MJA dé ontmoetingsplek voor moslims (jong en oud!) die van heinde en verre komen om hun religieuze kennis en identiteit te voeden en waar ze bouwen aan een sterk netwerk. Kom langs!
URL:https://svio.nl/evenement/jongerenavonden/2026-07-24/
LOCATION:Stichting voor Islamitische Ontwikkeling\, Markerkant 10\, 136H\, Almere\, Flevoland\, 1316AL\, Nederland
CATEGORIES:Broeders
ORGANIZER;CN="Moslimjongeren Almere":MAILTO:info@moslimjongerenalmere.nl
END:VEVENT
BEGIN:VEVENT
DTSTART;TZID=Europe/Paris:20260731T170000
DTEND;TZID=Europe/Paris:20260731T183000
DTSTAMP:20260419T143641
CREATED:20240523T093606Z
LAST-MODIFIED:20240523T093950Z
UID:10000705-1785517200-1785522600@svio.nl
SUMMARY:MJA: Uitleg van de Quraan I Ust. Umair Bantvawala
DESCRIPTION:
URL:https://svio.nl/evenement/uitleg-van-de-quraan/2026-07-31/
LOCATION:Stichting voor Islamitische Ontwikkeling\, Markerkant 10\, 136H\, Almere\, Flevoland\, 1316AL\, Nederland
CATEGORIES:Broeders & Zusters
ORGANIZER;CN="Moslimjongeren Almere":MAILTO:info@moslimjongerenalmere.nl
END:VEVENT
BEGIN:VEVENT
DTSTART;TZID=Europe/Paris:20260731T183000
DTEND;TZID=Europe/Paris:20260731T213000
DTSTAMP:20260419T143641
CREATED:20240502T142337Z
LAST-MODIFIED:20240523T101747Z
UID:10000444-1785522600-1785533400@svio.nl
SUMMARY:MJA: Jongerenavonden
DESCRIPTION:Vandaag de dag zijn de jongerenavonden van MJA dé ontmoetingsplek voor moslims (jong en oud!) die van heinde en verre komen om hun religieuze kennis en identiteit te voeden en waar ze bouwen aan een sterk netwerk. Kom langs!
URL:https://svio.nl/evenement/jongerenavonden/2026-07-31/
LOCATION:Stichting voor Islamitische Ontwikkeling\, Markerkant 10\, 136H\, Almere\, Flevoland\, 1316AL\, Nederland
CATEGORIES:Broeders
ORGANIZER;CN="Moslimjongeren Almere":MAILTO:info@moslimjongerenalmere.nl
END:VEVENT
BEGIN:VEVENT
DTSTART;VALUE=DATE:20260801
DTEND;VALUE=DATE:20260803
DTSTAMP:20260419T143641
CREATED:20240523T094635Z
LAST-MODIFIED:20240523T094908Z
UID:10000878-1785621600-1785707999@svio.nl
SUMMARY:MJA: Lezing Moskee Abou Bakr
DESCRIPTION:Elke eerste zondag van de maand een lezing bij Moskee Abou Bakr (Almere – Stad) na salaat al-‘Asr
URL:https://svio.nl/evenement/mja-lezing-moskee-abou-bakr/2026-08-02/
LOCATION:Abou Bakr Moskee\, Clemenceaustraat 1\, Almere\, 1314 RL\, Nederland
CATEGORIES:Broeders & Zusters
ORGANIZER;CN="Moslimjongeren Almere":MAILTO:info@moslimjongerenalmere.nl
END:VEVENT
BEGIN:VEVENT
DTSTART;TZID=Europe/Paris:20260807T170000
DTEND;TZID=Europe/Paris:20260807T183000
DTSTAMP:20260419T143641
CREATED:20240523T093606Z
LAST-MODIFIED:20240523T093950Z
UID:10000706-1786122000-1786127400@svio.nl
SUMMARY:MJA: Uitleg van de Quraan I Ust. Umair Bantvawala
DESCRIPTION:
URL:https://svio.nl/evenement/uitleg-van-de-quraan/2026-08-07/
LOCATION:Stichting voor Islamitische Ontwikkeling\, Markerkant 10\, 136H\, Almere\, Flevoland\, 1316AL\, Nederland
CATEGORIES:Broeders & Zusters
ORGANIZER;CN="Moslimjongeren Almere":MAILTO:info@moslimjongerenalmere.nl
END:VEVENT
END:VCALENDAR